BEGIN:VCALENDAR
VERSION:2.0
PRODID:https://www.kufer.de/kuferweb / DE
METHOD:PUBLISH
CALSCALE:GREGORIAN
X-WR-TIMEZONE:Europe/Berlin
BEGIN:VTIMEZONE
TZID:Europe/Berlin
X-LIC-LOCATION:Europe/Berlin
BEGIN:DAYLIGHT
TZOFFSETFROM:+0100
TZOFFSETTO:+0200
TZNAME:CEST
DTSTART:19700329T020000
RRULE:FREQ=YEARLY;INTERVAL=1;BYDAY=-1SU;BYMONTH=3
END:DAYLIGHT
BEGIN:STANDARD
TZOFFSETFROM:+0200
TZOFFSETTO:+0100
TZNAME:CET
DTSTART:19701025T030000
RRULE:FREQ=YEARLY;INTERVAL=1;BYDAY=-1SU;BYMONTH=10
END:STANDARD
END:VTIMEZONE
BEGIN:VEVENT
DTSTAMP:20260423T114309
DTSTART;TZID=Europe/Berlin:20260903T183000
DTEND;TZID=Europe/Berlin:20260903T200000
UID:262W195004-20260903T183000@BERGISCHE VHS
SUMMARY:NEU: KI in Beruf und Alltag - für Anfänger*innen (262W195004) 
LOCATION:VHS Auer Schulstraße; Raum A306; W-Elberfeld, Auer Schulstr. 20, 42103 Wuppertal
END:VEVENT
BEGIN:VEVENT
DTSTAMP:20260423T114309
DTSTART;TZID=Europe/Berlin:20260910T183000
DTEND;TZID=Europe/Berlin:20260910T200000
UID:262W195004-20260910T183000@BERGISCHE VHS
SUMMARY:NEU: KI in Beruf und Alltag - für Anfänger*innen (262W195004) 
LOCATION:VHS Auer Schulstraße; Raum A306; W-Elberfeld, Auer Schulstr. 20, 42103 Wuppertal
END:VEVENT
BEGIN:VEVENT
DTSTAMP:20260423T114309
DTSTART;TZID=Europe/Berlin:20260917T183000
DTEND;TZID=Europe/Berlin:20260917T200000
UID:262W195004-20260917T183000@BERGISCHE VHS
SUMMARY:NEU: KI in Beruf und Alltag - für Anfänger*innen (262W195004) 
LOCATION:VHS Auer Schulstraße; Raum A306; W-Elberfeld, Auer Schulstr. 20, 42103 Wuppertal
END:VEVENT
BEGIN:VEVENT
DTSTAMP:20260423T114309
DTSTART;TZID=Europe/Berlin:20260924T183000
DTEND;TZID=Europe/Berlin:20260924T200000
UID:262W195004-20260924T183000@BERGISCHE VHS
SUMMARY:NEU: KI in Beruf und Alltag - für Anfänger*innen (262W195004) 
LOCATION:VHS Auer Schulstraße; Raum A306; W-Elberfeld, Auer Schulstr. 20, 42103 Wuppertal
END:VEVENT
BEGIN:VEVENT
DTSTAMP:20260423T114309
DTSTART;TZID=Europe/Berlin:20261008T183000
DTEND;TZID=Europe/Berlin:20261008T200000
UID:262W195004-20261008T183000@BERGISCHE VHS
SUMMARY:NEU: KI in Beruf und Alltag - für Anfänger*innen (262W195004) 
LOCATION:VHS Auer Schulstraße; Raum A306; W-Elberfeld, Auer Schulstr. 20, 42103 Wuppertal
END:VEVENT
END:VCALENDAR