BEGIN:VCALENDAR
VERSION:2.0
PRODID:https://www.kufer.de/kuferweb / DE
METHOD:PUBLISH
CALSCALE:GREGORIAN
X-WR-TIMEZONE:Europe/Berlin
BEGIN:VTIMEZONE
TZID:Europe/Berlin
X-LIC-LOCATION:Europe/Berlin
BEGIN:DAYLIGHT
TZOFFSETFROM:+0100
TZOFFSETTO:+0200
TZNAME:CEST
DTSTART:19700329T020000
RRULE:FREQ=YEARLY;INTERVAL=1;BYDAY=-1SU;BYMONTH=3
END:DAYLIGHT
BEGIN:STANDARD
TZOFFSETFROM:+0200
TZOFFSETTO:+0100
TZNAME:CET
DTSTART:19701025T030000
RRULE:FREQ=YEARLY;INTERVAL=1;BYDAY=-1SU;BYMONTH=10
END:STANDARD
END:VTIMEZONE
BEGIN:VEVENT
DTSTAMP:20260423T200929
DTSTART;TZID=Europe/Berlin:20260805T190000
DTEND;TZID=Europe/Berlin:20260805T203000
UID:262W176300-20260805T190000@BERGISCHE VHS
SUMMARY:NEU & ONLINE: Vortragsreihe: Italien neu entdecken - A1/A2 Sommerferienkurs (262W176300) 
LOCATION:VHS Online; Zoom, , 
END:VEVENT
BEGIN:VEVENT
DTSTAMP:20260423T200929
DTSTART;TZID=Europe/Berlin:20260812T190000
DTEND;TZID=Europe/Berlin:20260812T203000
UID:262W176300-20260812T190000@BERGISCHE VHS
SUMMARY:NEU & ONLINE: Vortragsreihe: Italien neu entdecken - A1/A2 Sommerferienkurs (262W176300) 
LOCATION:VHS Online; Zoom, , 
END:VEVENT
BEGIN:VEVENT
DTSTAMP:20260423T200929
DTSTART;TZID=Europe/Berlin:20260819T190000
DTEND;TZID=Europe/Berlin:20260819T203000
UID:262W176300-20260819T190000@BERGISCHE VHS
SUMMARY:NEU & ONLINE: Vortragsreihe: Italien neu entdecken - A1/A2 Sommerferienkurs (262W176300) 
LOCATION:VHS Online; Zoom, , 
END:VEVENT
BEGIN:VEVENT
DTSTAMP:20260423T200929
DTSTART;TZID=Europe/Berlin:20260826T190000
DTEND;TZID=Europe/Berlin:20260826T203000
UID:262W176300-20260826T190000@BERGISCHE VHS
SUMMARY:NEU & ONLINE: Vortragsreihe: Italien neu entdecken - A1/A2 Sommerferienkurs (262W176300) 
LOCATION:VHS Online; Zoom, , 
END:VEVENT
END:VCALENDAR