BEGIN:VCALENDAR
VERSION:2.0
PRODID:https://www.kufer.de/kuferweb / DE
METHOD:PUBLISH
CALSCALE:GREGORIAN
X-WR-TIMEZONE:Europe/Berlin
BEGIN:VTIMEZONE
TZID:Europe/Berlin
X-LIC-LOCATION:Europe/Berlin
BEGIN:DAYLIGHT
TZOFFSETFROM:+0100
TZOFFSETTO:+0200
TZNAME:CEST
DTSTART:19700329T020000
RRULE:FREQ=YEARLY;INTERVAL=1;BYDAY=-1SU;BYMONTH=3
END:DAYLIGHT
BEGIN:STANDARD
TZOFFSETFROM:+0200
TZOFFSETTO:+0100
TZNAME:CET
DTSTART:19701025T030000
RRULE:FREQ=YEARLY;INTERVAL=1;BYDAY=-1SU;BYMONTH=10
END:STANDARD
END:VTIMEZONE
BEGIN:VEVENT
DTSTAMP:20260423T114244
DTSTART;TZID=Europe/Berlin:20260908T104500
DTEND;TZID=Europe/Berlin:20260908T121500
UID:262W152087-20260908T104500@BERGISCHE VHS
SUMMARY:Talking about English Literature - C1  Reading and Discussing Novels from the English-Speaking World (262W152087) 
LOCATION:VHS Auer Schulstraße; Raum B223; W-Elberfeld, Auer Schulstr. 20, 42103 Wuppertal
END:VEVENT
BEGIN:VEVENT
DTSTAMP:20260423T114244
DTSTART;TZID=Europe/Berlin:20260915T104500
DTEND;TZID=Europe/Berlin:20260915T121500
UID:262W152087-20260915T104500@BERGISCHE VHS
SUMMARY:Talking about English Literature - C1  Reading and Discussing Novels from the English-Speaking World (262W152087) 
LOCATION:VHS Auer Schulstraße; Raum B223; W-Elberfeld, Auer Schulstr. 20, 42103 Wuppertal
END:VEVENT
BEGIN:VEVENT
DTSTAMP:20260423T114244
DTSTART;TZID=Europe/Berlin:20260922T104500
DTEND;TZID=Europe/Berlin:20260922T121500
UID:262W152087-20260922T104500@BERGISCHE VHS
SUMMARY:Talking about English Literature - C1  Reading and Discussing Novels from the English-Speaking World (262W152087) 
LOCATION:VHS Auer Schulstraße; Raum B223; W-Elberfeld, Auer Schulstr. 20, 42103 Wuppertal
END:VEVENT
BEGIN:VEVENT
DTSTAMP:20260423T114244
DTSTART;TZID=Europe/Berlin:20260929T104500
DTEND;TZID=Europe/Berlin:20260929T121500
UID:262W152087-20260929T104500@BERGISCHE VHS
SUMMARY:Talking about English Literature - C1  Reading and Discussing Novels from the English-Speaking World (262W152087) 
LOCATION:VHS Auer Schulstraße; Raum B223; W-Elberfeld, Auer Schulstr. 20, 42103 Wuppertal
END:VEVENT
BEGIN:VEVENT
DTSTAMP:20260423T114244
DTSTART;TZID=Europe/Berlin:20261006T104500
DTEND;TZID=Europe/Berlin:20261006T121500
UID:262W152087-20261006T104500@BERGISCHE VHS
SUMMARY:Talking about English Literature - C1  Reading and Discussing Novels from the English-Speaking World (262W152087) 
LOCATION:VHS Auer Schulstraße; Raum B223; W-Elberfeld, Auer Schulstr. 20, 42103 Wuppertal
END:VEVENT
BEGIN:VEVENT
DTSTAMP:20260423T114244
DTSTART;TZID=Europe/Berlin:20261013T104500
DTEND;TZID=Europe/Berlin:20261013T121500
UID:262W152087-20261013T104500@BERGISCHE VHS
SUMMARY:Talking about English Literature - C1  Reading and Discussing Novels from the English-Speaking World (262W152087) 
LOCATION:VHS Auer Schulstraße; Raum B223; W-Elberfeld, Auer Schulstr. 20, 42103 Wuppertal
END:VEVENT
BEGIN:VEVENT
DTSTAMP:20260423T114244
DTSTART;TZID=Europe/Berlin:20261103T104500
DTEND;TZID=Europe/Berlin:20261103T121500
UID:262W152087-20261103T104500@BERGISCHE VHS
SUMMARY:Talking about English Literature - C1  Reading and Discussing Novels from the English-Speaking World (262W152087) 
LOCATION:VHS Auer Schulstraße; Raum B223; W-Elberfeld, Auer Schulstr. 20, 42103 Wuppertal
END:VEVENT
BEGIN:VEVENT
DTSTAMP:20260423T114244
DTSTART;TZID=Europe/Berlin:20261110T104500
DTEND;TZID=Europe/Berlin:20261110T121500
UID:262W152087-20261110T104500@BERGISCHE VHS
SUMMARY:Talking about English Literature - C1  Reading and Discussing Novels from the English-Speaking World (262W152087) 
LOCATION:VHS Auer Schulstraße; Raum B223; W-Elberfeld, Auer Schulstr. 20, 42103 Wuppertal
END:VEVENT
BEGIN:VEVENT
DTSTAMP:20260423T114244
DTSTART;TZID=Europe/Berlin:20261117T104500
DTEND;TZID=Europe/Berlin:20261117T121500
UID:262W152087-20261117T104500@BERGISCHE VHS
SUMMARY:Talking about English Literature - C1  Reading and Discussing Novels from the English-Speaking World (262W152087) 
LOCATION:VHS Auer Schulstraße; Raum B223; W-Elberfeld, Auer Schulstr. 20, 42103 Wuppertal
END:VEVENT
BEGIN:VEVENT
DTSTAMP:20260423T114244
DTSTART;TZID=Europe/Berlin:20261124T104500
DTEND;TZID=Europe/Berlin:20261124T121500
UID:262W152087-20261124T104500@BERGISCHE VHS
SUMMARY:Talking about English Literature - C1  Reading and Discussing Novels from the English-Speaking World (262W152087) 
LOCATION:VHS Auer Schulstraße; Raum B223; W-Elberfeld, Auer Schulstr. 20, 42103 Wuppertal
END:VEVENT
BEGIN:VEVENT
DTSTAMP:20260423T114244
DTSTART;TZID=Europe/Berlin:20261201T104500
DTEND;TZID=Europe/Berlin:20261201T121500
UID:262W152087-20261201T104500@BERGISCHE VHS
SUMMARY:Talking about English Literature - C1  Reading and Discussing Novels from the English-Speaking World (262W152087) 
LOCATION:VHS Auer Schulstraße; Raum B223; W-Elberfeld, Auer Schulstr. 20, 42103 Wuppertal
END:VEVENT
BEGIN:VEVENT
DTSTAMP:20260423T114244
DTSTART;TZID=Europe/Berlin:20261208T104500
DTEND;TZID=Europe/Berlin:20261208T121500
UID:262W152087-20261208T104500@BERGISCHE VHS
SUMMARY:Talking about English Literature - C1  Reading and Discussing Novels from the English-Speaking World (262W152087) 
LOCATION:VHS Auer Schulstraße; Raum B223; W-Elberfeld, Auer Schulstr. 20, 42103 Wuppertal
END:VEVENT
BEGIN:VEVENT
DTSTAMP:20260423T114244
DTSTART;TZID=Europe/Berlin:20261215T104500
DTEND;TZID=Europe/Berlin:20261215T121500
UID:262W152087-20261215T104500@BERGISCHE VHS
SUMMARY:Talking about English Literature - C1  Reading and Discussing Novels from the English-Speaking World (262W152087) 
LOCATION:VHS Auer Schulstraße; Raum B223; W-Elberfeld, Auer Schulstr. 20, 42103 Wuppertal
END:VEVENT
BEGIN:VEVENT
DTSTAMP:20260423T114244
DTSTART;TZID=Europe/Berlin:20270112T104500
DTEND;TZID=Europe/Berlin:20270112T121500
UID:262W152087-20270112T104500@BERGISCHE VHS
SUMMARY:Talking about English Literature - C1  Reading and Discussing Novels from the English-Speaking World (262W152087) 
LOCATION:VHS Auer Schulstraße; Raum B223; W-Elberfeld, Auer Schulstr. 20, 42103 Wuppertal
END:VEVENT
END:VCALENDAR