BEGIN:VCALENDAR
VERSION:2.0
PRODID:https://www.kufer.de/kuferweb / DE
METHOD:PUBLISH
CALSCALE:GREGORIAN
X-WR-TIMEZONE:Europe/Berlin
BEGIN:VTIMEZONE
TZID:Europe/Berlin
X-LIC-LOCATION:Europe/Berlin
BEGIN:DAYLIGHT
TZOFFSETFROM:+0100
TZOFFSETTO:+0200
TZNAME:CEST
DTSTART:19700329T020000
RRULE:FREQ=YEARLY;INTERVAL=1;BYDAY=-1SU;BYMONTH=3
END:DAYLIGHT
BEGIN:STANDARD
TZOFFSETFROM:+0200
TZOFFSETTO:+0100
TZNAME:CET
DTSTART:19701025T030000
RRULE:FREQ=YEARLY;INTERVAL=1;BYDAY=-1SU;BYMONTH=10
END:STANDARD
END:VTIMEZONE
BEGIN:VEVENT
DTSTAMP:20260423T200849
DTSTART;TZID=Europe/Berlin:20260908T084500
DTEND;TZID=Europe/Berlin:20260908T101500
UID:262W152083-20260908T084500@BERGISCHE VHS
SUMMARY:Short Stories and Everyday English - B1/B2 Conversation Class (262W152083) 
LOCATION:VHS Auer Schulstraße; Raum A203; W-Elberfeld, Auer Schulstr. 20, 42103 Wuppertal
END:VEVENT
BEGIN:VEVENT
DTSTAMP:20260423T200849
DTSTART;TZID=Europe/Berlin:20260915T084500
DTEND;TZID=Europe/Berlin:20260915T101500
UID:262W152083-20260915T084500@BERGISCHE VHS
SUMMARY:Short Stories and Everyday English - B1/B2 Conversation Class (262W152083) 
LOCATION:VHS Auer Schulstraße; Raum A203; W-Elberfeld, Auer Schulstr. 20, 42103 Wuppertal
END:VEVENT
BEGIN:VEVENT
DTSTAMP:20260423T200849
DTSTART;TZID=Europe/Berlin:20260922T084500
DTEND;TZID=Europe/Berlin:20260922T101500
UID:262W152083-20260922T084500@BERGISCHE VHS
SUMMARY:Short Stories and Everyday English - B1/B2 Conversation Class (262W152083) 
LOCATION:VHS Auer Schulstraße; Raum A203; W-Elberfeld, Auer Schulstr. 20, 42103 Wuppertal
END:VEVENT
BEGIN:VEVENT
DTSTAMP:20260423T200849
DTSTART;TZID=Europe/Berlin:20260929T084500
DTEND;TZID=Europe/Berlin:20260929T101500
UID:262W152083-20260929T084500@BERGISCHE VHS
SUMMARY:Short Stories and Everyday English - B1/B2 Conversation Class (262W152083) 
LOCATION:VHS Auer Schulstraße; Raum A203; W-Elberfeld, Auer Schulstr. 20, 42103 Wuppertal
END:VEVENT
BEGIN:VEVENT
DTSTAMP:20260423T200849
DTSTART;TZID=Europe/Berlin:20261006T084500
DTEND;TZID=Europe/Berlin:20261006T101500
UID:262W152083-20261006T084500@BERGISCHE VHS
SUMMARY:Short Stories and Everyday English - B1/B2 Conversation Class (262W152083) 
LOCATION:VHS Auer Schulstraße; Raum A203; W-Elberfeld, Auer Schulstr. 20, 42103 Wuppertal
END:VEVENT
BEGIN:VEVENT
DTSTAMP:20260423T200849
DTSTART;TZID=Europe/Berlin:20261013T084500
DTEND;TZID=Europe/Berlin:20261013T101500
UID:262W152083-20261013T084500@BERGISCHE VHS
SUMMARY:Short Stories and Everyday English - B1/B2 Conversation Class (262W152083) 
LOCATION:VHS Auer Schulstraße; Raum A203; W-Elberfeld, Auer Schulstr. 20, 42103 Wuppertal
END:VEVENT
BEGIN:VEVENT
DTSTAMP:20260423T200849
DTSTART;TZID=Europe/Berlin:20261103T084500
DTEND;TZID=Europe/Berlin:20261103T101500
UID:262W152083-20261103T084500@BERGISCHE VHS
SUMMARY:Short Stories and Everyday English - B1/B2 Conversation Class (262W152083) 
LOCATION:VHS Auer Schulstraße; Raum A203; W-Elberfeld, Auer Schulstr. 20, 42103 Wuppertal
END:VEVENT
BEGIN:VEVENT
DTSTAMP:20260423T200849
DTSTART;TZID=Europe/Berlin:20261110T084500
DTEND;TZID=Europe/Berlin:20261110T101500
UID:262W152083-20261110T084500@BERGISCHE VHS
SUMMARY:Short Stories and Everyday English - B1/B2 Conversation Class (262W152083) 
LOCATION:VHS Auer Schulstraße; Raum A203; W-Elberfeld, Auer Schulstr. 20, 42103 Wuppertal
END:VEVENT
BEGIN:VEVENT
DTSTAMP:20260423T200849
DTSTART;TZID=Europe/Berlin:20261117T084500
DTEND;TZID=Europe/Berlin:20261117T101500
UID:262W152083-20261117T084500@BERGISCHE VHS
SUMMARY:Short Stories and Everyday English - B1/B2 Conversation Class (262W152083) 
LOCATION:VHS Auer Schulstraße; Raum A203; W-Elberfeld, Auer Schulstr. 20, 42103 Wuppertal
END:VEVENT
BEGIN:VEVENT
DTSTAMP:20260423T200849
DTSTART;TZID=Europe/Berlin:20261124T084500
DTEND;TZID=Europe/Berlin:20261124T101500
UID:262W152083-20261124T084500@BERGISCHE VHS
SUMMARY:Short Stories and Everyday English - B1/B2 Conversation Class (262W152083) 
LOCATION:VHS Auer Schulstraße; Raum A203; W-Elberfeld, Auer Schulstr. 20, 42103 Wuppertal
END:VEVENT
BEGIN:VEVENT
DTSTAMP:20260423T200849
DTSTART;TZID=Europe/Berlin:20261201T084500
DTEND;TZID=Europe/Berlin:20261201T101500
UID:262W152083-20261201T084500@BERGISCHE VHS
SUMMARY:Short Stories and Everyday English - B1/B2 Conversation Class (262W152083) 
LOCATION:VHS Auer Schulstraße; Raum A203; W-Elberfeld, Auer Schulstr. 20, 42103 Wuppertal
END:VEVENT
BEGIN:VEVENT
DTSTAMP:20260423T200849
DTSTART;TZID=Europe/Berlin:20261208T084500
DTEND;TZID=Europe/Berlin:20261208T101500
UID:262W152083-20261208T084500@BERGISCHE VHS
SUMMARY:Short Stories and Everyday English - B1/B2 Conversation Class (262W152083) 
LOCATION:VHS Auer Schulstraße; Raum A203; W-Elberfeld, Auer Schulstr. 20, 42103 Wuppertal
END:VEVENT
BEGIN:VEVENT
DTSTAMP:20260423T200849
DTSTART;TZID=Europe/Berlin:20261215T084500
DTEND;TZID=Europe/Berlin:20261215T101500
UID:262W152083-20261215T084500@BERGISCHE VHS
SUMMARY:Short Stories and Everyday English - B1/B2 Conversation Class (262W152083) 
LOCATION:VHS Auer Schulstraße; Raum A203; W-Elberfeld, Auer Schulstr. 20, 42103 Wuppertal
END:VEVENT
BEGIN:VEVENT
DTSTAMP:20260423T200849
DTSTART;TZID=Europe/Berlin:20270112T084500
DTEND;TZID=Europe/Berlin:20270112T101500
UID:262W152083-20270112T084500@BERGISCHE VHS
SUMMARY:Short Stories and Everyday English - B1/B2 Conversation Class (262W152083) 
LOCATION:VHS Auer Schulstraße; Raum A203; W-Elberfeld, Auer Schulstr. 20, 42103 Wuppertal
END:VEVENT
END:VCALENDAR