BEGIN:VCALENDAR
VERSION:2.0
PRODID:https://www.kufer.de/kuferweb / DE
METHOD:PUBLISH
CALSCALE:GREGORIAN
X-WR-TIMEZONE:Europe/Berlin
BEGIN:VTIMEZONE
TZID:Europe/Berlin
X-LIC-LOCATION:Europe/Berlin
BEGIN:DAYLIGHT
TZOFFSETFROM:+0100
TZOFFSETTO:+0200
TZNAME:CEST
DTSTART:19700329T020000
RRULE:FREQ=YEARLY;INTERVAL=1;BYDAY=-1SU;BYMONTH=3
END:DAYLIGHT
BEGIN:STANDARD
TZOFFSETFROM:+0200
TZOFFSETTO:+0100
TZNAME:CET
DTSTART:19701025T030000
RRULE:FREQ=YEARLY;INTERVAL=1;BYDAY=-1SU;BYMONTH=10
END:STANDARD
END:VTIMEZONE
BEGIN:VEVENT
DTSTAMP:20260423T200839
DTSTART;TZID=Europe/Berlin:20260910T084500
DTEND;TZID=Europe/Berlin:20260910T101500
UID:262W152081-20260910T084500@BERGISCHE VHS
SUMMARY:Conversation and Discussion - B1/B2 Kleingruppe (262W152081) 
LOCATION:VHS Bachstraße; Raum 15; W-Barmen, Bachstr. 15, 42275 Wuppertal
END:VEVENT
BEGIN:VEVENT
DTSTAMP:20260423T200839
DTSTART;TZID=Europe/Berlin:20260917T084500
DTEND;TZID=Europe/Berlin:20260917T101500
UID:262W152081-20260917T084500@BERGISCHE VHS
SUMMARY:Conversation and Discussion - B1/B2 Kleingruppe (262W152081) 
LOCATION:VHS Bachstraße; Raum 15; W-Barmen, Bachstr. 15, 42275 Wuppertal
END:VEVENT
BEGIN:VEVENT
DTSTAMP:20260423T200839
DTSTART;TZID=Europe/Berlin:20260924T084500
DTEND;TZID=Europe/Berlin:20260924T101500
UID:262W152081-20260924T084500@BERGISCHE VHS
SUMMARY:Conversation and Discussion - B1/B2 Kleingruppe (262W152081) 
LOCATION:VHS Bachstraße; Raum 15; W-Barmen, Bachstr. 15, 42275 Wuppertal
END:VEVENT
BEGIN:VEVENT
DTSTAMP:20260423T200839
DTSTART;TZID=Europe/Berlin:20261001T084500
DTEND;TZID=Europe/Berlin:20261001T101500
UID:262W152081-20261001T084500@BERGISCHE VHS
SUMMARY:Conversation and Discussion - B1/B2 Kleingruppe (262W152081) 
LOCATION:VHS Bachstraße; Raum 15; W-Barmen, Bachstr. 15, 42275 Wuppertal
END:VEVENT
BEGIN:VEVENT
DTSTAMP:20260423T200839
DTSTART;TZID=Europe/Berlin:20261008T084500
DTEND;TZID=Europe/Berlin:20261008T101500
UID:262W152081-20261008T084500@BERGISCHE VHS
SUMMARY:Conversation and Discussion - B1/B2 Kleingruppe (262W152081) 
LOCATION:VHS Bachstraße; Raum 15; W-Barmen, Bachstr. 15, 42275 Wuppertal
END:VEVENT
BEGIN:VEVENT
DTSTAMP:20260423T200839
DTSTART;TZID=Europe/Berlin:20261015T084500
DTEND;TZID=Europe/Berlin:20261015T101500
UID:262W152081-20261015T084500@BERGISCHE VHS
SUMMARY:Conversation and Discussion - B1/B2 Kleingruppe (262W152081) 
LOCATION:VHS Bachstraße; Raum 15; W-Barmen, Bachstr. 15, 42275 Wuppertal
END:VEVENT
BEGIN:VEVENT
DTSTAMP:20260423T200839
DTSTART;TZID=Europe/Berlin:20261105T084500
DTEND;TZID=Europe/Berlin:20261105T101500
UID:262W152081-20261105T084500@BERGISCHE VHS
SUMMARY:Conversation and Discussion - B1/B2 Kleingruppe (262W152081) 
LOCATION:VHS Bachstraße; Raum 15; W-Barmen, Bachstr. 15, 42275 Wuppertal
END:VEVENT
BEGIN:VEVENT
DTSTAMP:20260423T200839
DTSTART;TZID=Europe/Berlin:20261112T084500
DTEND;TZID=Europe/Berlin:20261112T101500
UID:262W152081-20261112T084500@BERGISCHE VHS
SUMMARY:Conversation and Discussion - B1/B2 Kleingruppe (262W152081) 
LOCATION:VHS Bachstraße; Raum 15; W-Barmen, Bachstr. 15, 42275 Wuppertal
END:VEVENT
BEGIN:VEVENT
DTSTAMP:20260423T200839
DTSTART;TZID=Europe/Berlin:20261119T084500
DTEND;TZID=Europe/Berlin:20261119T101500
UID:262W152081-20261119T084500@BERGISCHE VHS
SUMMARY:Conversation and Discussion - B1/B2 Kleingruppe (262W152081) 
LOCATION:VHS Bachstraße; Raum 15; W-Barmen, Bachstr. 15, 42275 Wuppertal
END:VEVENT
BEGIN:VEVENT
DTSTAMP:20260423T200839
DTSTART;TZID=Europe/Berlin:20261126T084500
DTEND;TZID=Europe/Berlin:20261126T101500
UID:262W152081-20261126T084500@BERGISCHE VHS
SUMMARY:Conversation and Discussion - B1/B2 Kleingruppe (262W152081) 
LOCATION:VHS Bachstraße; Raum 15; W-Barmen, Bachstr. 15, 42275 Wuppertal
END:VEVENT
BEGIN:VEVENT
DTSTAMP:20260423T200839
DTSTART;TZID=Europe/Berlin:20261203T084500
DTEND;TZID=Europe/Berlin:20261203T101500
UID:262W152081-20261203T084500@BERGISCHE VHS
SUMMARY:Conversation and Discussion - B1/B2 Kleingruppe (262W152081) 
LOCATION:VHS Bachstraße; Raum 15; W-Barmen, Bachstr. 15, 42275 Wuppertal
END:VEVENT
BEGIN:VEVENT
DTSTAMP:20260423T200839
DTSTART;TZID=Europe/Berlin:20261210T084500
DTEND;TZID=Europe/Berlin:20261210T101500
UID:262W152081-20261210T084500@BERGISCHE VHS
SUMMARY:Conversation and Discussion - B1/B2 Kleingruppe (262W152081) 
LOCATION:VHS Bachstraße; Raum 15; W-Barmen, Bachstr. 15, 42275 Wuppertal
END:VEVENT
BEGIN:VEVENT
DTSTAMP:20260423T200839
DTSTART;TZID=Europe/Berlin:20261217T084500
DTEND;TZID=Europe/Berlin:20261217T101500
UID:262W152081-20261217T084500@BERGISCHE VHS
SUMMARY:Conversation and Discussion - B1/B2 Kleingruppe (262W152081) 
LOCATION:VHS Bachstraße; Raum 15; W-Barmen, Bachstr. 15, 42275 Wuppertal
END:VEVENT
BEGIN:VEVENT
DTSTAMP:20260423T200839
DTSTART;TZID=Europe/Berlin:20270107T084500
DTEND;TZID=Europe/Berlin:20270107T101500
UID:262W152081-20270107T084500@BERGISCHE VHS
SUMMARY:Conversation and Discussion - B1/B2 Kleingruppe (262W152081) 
LOCATION:VHS Bachstraße; Raum 15; W-Barmen, Bachstr. 15, 42275 Wuppertal
END:VEVENT
END:VCALENDAR