BEGIN:VCALENDAR
VERSION:2.0
PRODID:https://www.kufer.de/kuferweb / DE
METHOD:PUBLISH
CALSCALE:GREGORIAN
X-WR-TIMEZONE:Europe/Berlin
BEGIN:VTIMEZONE
TZID:Europe/Berlin
X-LIC-LOCATION:Europe/Berlin
BEGIN:DAYLIGHT
TZOFFSETFROM:+0100
TZOFFSETTO:+0200
TZNAME:CEST
DTSTART:19700329T020000
RRULE:FREQ=YEARLY;INTERVAL=1;BYDAY=-1SU;BYMONTH=3
END:DAYLIGHT
BEGIN:STANDARD
TZOFFSETFROM:+0200
TZOFFSETTO:+0100
TZNAME:CET
DTSTART:19701025T030000
RRULE:FREQ=YEARLY;INTERVAL=1;BYDAY=-1SU;BYMONTH=10
END:STANDARD
END:VTIMEZONE
BEGIN:VEVENT
DTSTAMP:20260422T225140
DTSTART;TZID=Europe/Berlin:20260907T103000
DTEND;TZID=Europe/Berlin:20260907T120000
UID:262W152027-20260907T103000@BERGISCHE VHS
SUMMARY:Englisch Grundstufe 8 - A2 English File 4th edition Elementary (OUP) (262W152027) 
LOCATION:VHS Auer Schulstraße; Raum A207; W-Elberfeld, Auer Schulstr. 20, 42103 Wuppertal
END:VEVENT
BEGIN:VEVENT
DTSTAMP:20260422T225140
DTSTART;TZID=Europe/Berlin:20260914T103000
DTEND;TZID=Europe/Berlin:20260914T120000
UID:262W152027-20260914T103000@BERGISCHE VHS
SUMMARY:Englisch Grundstufe 8 - A2 English File 4th edition Elementary (OUP) (262W152027) 
LOCATION:VHS Auer Schulstraße; Raum A207; W-Elberfeld, Auer Schulstr. 20, 42103 Wuppertal
END:VEVENT
BEGIN:VEVENT
DTSTAMP:20260422T225140
DTSTART;TZID=Europe/Berlin:20260921T103000
DTEND;TZID=Europe/Berlin:20260921T120000
UID:262W152027-20260921T103000@BERGISCHE VHS
SUMMARY:Englisch Grundstufe 8 - A2 English File 4th edition Elementary (OUP) (262W152027) 
LOCATION:VHS Auer Schulstraße; Raum A207; W-Elberfeld, Auer Schulstr. 20, 42103 Wuppertal
END:VEVENT
BEGIN:VEVENT
DTSTAMP:20260422T225140
DTSTART;TZID=Europe/Berlin:20260928T103000
DTEND;TZID=Europe/Berlin:20260928T120000
UID:262W152027-20260928T103000@BERGISCHE VHS
SUMMARY:Englisch Grundstufe 8 - A2 English File 4th edition Elementary (OUP) (262W152027) 
LOCATION:VHS Auer Schulstraße; Raum A207; W-Elberfeld, Auer Schulstr. 20, 42103 Wuppertal
END:VEVENT
BEGIN:VEVENT
DTSTAMP:20260422T225140
DTSTART;TZID=Europe/Berlin:20261005T103000
DTEND;TZID=Europe/Berlin:20261005T120000
UID:262W152027-20261005T103000@BERGISCHE VHS
SUMMARY:Englisch Grundstufe 8 - A2 English File 4th edition Elementary (OUP) (262W152027) 
LOCATION:VHS Auer Schulstraße; Raum A207; W-Elberfeld, Auer Schulstr. 20, 42103 Wuppertal
END:VEVENT
BEGIN:VEVENT
DTSTAMP:20260422T225140
DTSTART;TZID=Europe/Berlin:20261012T103000
DTEND;TZID=Europe/Berlin:20261012T120000
UID:262W152027-20261012T103000@BERGISCHE VHS
SUMMARY:Englisch Grundstufe 8 - A2 English File 4th edition Elementary (OUP) (262W152027) 
LOCATION:VHS Auer Schulstraße; Raum A207; W-Elberfeld, Auer Schulstr. 20, 42103 Wuppertal
END:VEVENT
BEGIN:VEVENT
DTSTAMP:20260422T225140
DTSTART;TZID=Europe/Berlin:20261102T103000
DTEND;TZID=Europe/Berlin:20261102T120000
UID:262W152027-20261102T103000@BERGISCHE VHS
SUMMARY:Englisch Grundstufe 8 - A2 English File 4th edition Elementary (OUP) (262W152027) 
LOCATION:VHS Auer Schulstraße; Raum A207; W-Elberfeld, Auer Schulstr. 20, 42103 Wuppertal
END:VEVENT
BEGIN:VEVENT
DTSTAMP:20260422T225140
DTSTART;TZID=Europe/Berlin:20261109T103000
DTEND;TZID=Europe/Berlin:20261109T120000
UID:262W152027-20261109T103000@BERGISCHE VHS
SUMMARY:Englisch Grundstufe 8 - A2 English File 4th edition Elementary (OUP) (262W152027) 
LOCATION:VHS Auer Schulstraße; Raum A207; W-Elberfeld, Auer Schulstr. 20, 42103 Wuppertal
END:VEVENT
BEGIN:VEVENT
DTSTAMP:20260422T225140
DTSTART;TZID=Europe/Berlin:20261116T103000
DTEND;TZID=Europe/Berlin:20261116T120000
UID:262W152027-20261116T103000@BERGISCHE VHS
SUMMARY:Englisch Grundstufe 8 - A2 English File 4th edition Elementary (OUP) (262W152027) 
LOCATION:VHS Auer Schulstraße; Raum A207; W-Elberfeld, Auer Schulstr. 20, 42103 Wuppertal
END:VEVENT
BEGIN:VEVENT
DTSTAMP:20260422T225140
DTSTART;TZID=Europe/Berlin:20261123T103000
DTEND;TZID=Europe/Berlin:20261123T120000
UID:262W152027-20261123T103000@BERGISCHE VHS
SUMMARY:Englisch Grundstufe 8 - A2 English File 4th edition Elementary (OUP) (262W152027) 
LOCATION:VHS Auer Schulstraße; Raum A207; W-Elberfeld, Auer Schulstr. 20, 42103 Wuppertal
END:VEVENT
BEGIN:VEVENT
DTSTAMP:20260422T225140
DTSTART;TZID=Europe/Berlin:20261130T103000
DTEND;TZID=Europe/Berlin:20261130T120000
UID:262W152027-20261130T103000@BERGISCHE VHS
SUMMARY:Englisch Grundstufe 8 - A2 English File 4th edition Elementary (OUP) (262W152027) 
LOCATION:VHS Auer Schulstraße; Raum A207; W-Elberfeld, Auer Schulstr. 20, 42103 Wuppertal
END:VEVENT
BEGIN:VEVENT
DTSTAMP:20260422T225140
DTSTART;TZID=Europe/Berlin:20261207T103000
DTEND;TZID=Europe/Berlin:20261207T120000
UID:262W152027-20261207T103000@BERGISCHE VHS
SUMMARY:Englisch Grundstufe 8 - A2 English File 4th edition Elementary (OUP) (262W152027) 
LOCATION:VHS Auer Schulstraße; Raum A207; W-Elberfeld, Auer Schulstr. 20, 42103 Wuppertal
END:VEVENT
BEGIN:VEVENT
DTSTAMP:20260422T225140
DTSTART;TZID=Europe/Berlin:20261214T103000
DTEND;TZID=Europe/Berlin:20261214T120000
UID:262W152027-20261214T103000@BERGISCHE VHS
SUMMARY:Englisch Grundstufe 8 - A2 English File 4th edition Elementary (OUP) (262W152027) 
LOCATION:VHS Auer Schulstraße; Raum A207; W-Elberfeld, Auer Schulstr. 20, 42103 Wuppertal
END:VEVENT
BEGIN:VEVENT
DTSTAMP:20260422T225140
DTSTART;TZID=Europe/Berlin:20270111T103000
DTEND;TZID=Europe/Berlin:20270111T120000
UID:262W152027-20270111T103000@BERGISCHE VHS
SUMMARY:Englisch Grundstufe 8 - A2 English File 4th edition Elementary (OUP) (262W152027) 
LOCATION:VHS Auer Schulstraße; Raum A207; W-Elberfeld, Auer Schulstr. 20, 42103 Wuppertal
END:VEVENT
END:VCALENDAR