BEGIN:VCALENDAR
VERSION:2.0
PRODID:https://www.kufer.de/kuferweb / DE
METHOD:PUBLISH
CALSCALE:GREGORIAN
X-WR-TIMEZONE:Europe/Berlin
BEGIN:VTIMEZONE
TZID:Europe/Berlin
X-LIC-LOCATION:Europe/Berlin
BEGIN:DAYLIGHT
TZOFFSETFROM:+0100
TZOFFSETTO:+0200
TZNAME:CEST
DTSTART:19700329T020000
RRULE:FREQ=YEARLY;INTERVAL=1;BYDAY=-1SU;BYMONTH=3
END:DAYLIGHT
BEGIN:STANDARD
TZOFFSETFROM:+0200
TZOFFSETTO:+0100
TZNAME:CET
DTSTART:19701025T030000
RRULE:FREQ=YEARLY;INTERVAL=1;BYDAY=-1SU;BYMONTH=10
END:STANDARD
END:VTIMEZONE
BEGIN:VEVENT
DTSTAMP:20260422T225145
DTSTART;TZID=Europe/Berlin:20260909T084500
DTEND;TZID=Europe/Berlin:20260909T101500
UID:262W152026-20260909T084500@BERGISCHE VHS
SUMMARY:Englisch Grundstufe 7 - A2 Wiederholung und Auffrischung (262W152026) 
LOCATION:VHS Auer Schulstraße; Raum A203; W-Elberfeld, Auer Schulstr. 20, 42103 Wuppertal
END:VEVENT
BEGIN:VEVENT
DTSTAMP:20260422T225145
DTSTART;TZID=Europe/Berlin:20260916T084500
DTEND;TZID=Europe/Berlin:20260916T101500
UID:262W152026-20260916T084500@BERGISCHE VHS
SUMMARY:Englisch Grundstufe 7 - A2 Wiederholung und Auffrischung (262W152026) 
LOCATION:VHS Auer Schulstraße; Raum A203; W-Elberfeld, Auer Schulstr. 20, 42103 Wuppertal
END:VEVENT
BEGIN:VEVENT
DTSTAMP:20260422T225145
DTSTART;TZID=Europe/Berlin:20260923T084500
DTEND;TZID=Europe/Berlin:20260923T101500
UID:262W152026-20260923T084500@BERGISCHE VHS
SUMMARY:Englisch Grundstufe 7 - A2 Wiederholung und Auffrischung (262W152026) 
LOCATION:VHS Auer Schulstraße; Raum A203; W-Elberfeld, Auer Schulstr. 20, 42103 Wuppertal
END:VEVENT
BEGIN:VEVENT
DTSTAMP:20260422T225145
DTSTART;TZID=Europe/Berlin:20260930T084500
DTEND;TZID=Europe/Berlin:20260930T101500
UID:262W152026-20260930T084500@BERGISCHE VHS
SUMMARY:Englisch Grundstufe 7 - A2 Wiederholung und Auffrischung (262W152026) 
LOCATION:VHS Auer Schulstraße; Raum A203; W-Elberfeld, Auer Schulstr. 20, 42103 Wuppertal
END:VEVENT
BEGIN:VEVENT
DTSTAMP:20260422T225145
DTSTART;TZID=Europe/Berlin:20261007T084500
DTEND;TZID=Europe/Berlin:20261007T101500
UID:262W152026-20261007T084500@BERGISCHE VHS
SUMMARY:Englisch Grundstufe 7 - A2 Wiederholung und Auffrischung (262W152026) 
LOCATION:VHS Auer Schulstraße; Raum A203; W-Elberfeld, Auer Schulstr. 20, 42103 Wuppertal
END:VEVENT
BEGIN:VEVENT
DTSTAMP:20260422T225145
DTSTART;TZID=Europe/Berlin:20261014T084500
DTEND;TZID=Europe/Berlin:20261014T101500
UID:262W152026-20261014T084500@BERGISCHE VHS
SUMMARY:Englisch Grundstufe 7 - A2 Wiederholung und Auffrischung (262W152026) 
LOCATION:VHS Auer Schulstraße; Raum A203; W-Elberfeld, Auer Schulstr. 20, 42103 Wuppertal
END:VEVENT
BEGIN:VEVENT
DTSTAMP:20260422T225145
DTSTART;TZID=Europe/Berlin:20261104T084500
DTEND;TZID=Europe/Berlin:20261104T101500
UID:262W152026-20261104T084500@BERGISCHE VHS
SUMMARY:Englisch Grundstufe 7 - A2 Wiederholung und Auffrischung (262W152026) 
LOCATION:VHS Auer Schulstraße; Raum A203; W-Elberfeld, Auer Schulstr. 20, 42103 Wuppertal
END:VEVENT
BEGIN:VEVENT
DTSTAMP:20260422T225145
DTSTART;TZID=Europe/Berlin:20261111T084500
DTEND;TZID=Europe/Berlin:20261111T101500
UID:262W152026-20261111T084500@BERGISCHE VHS
SUMMARY:Englisch Grundstufe 7 - A2 Wiederholung und Auffrischung (262W152026) 
LOCATION:VHS Auer Schulstraße; Raum A203; W-Elberfeld, Auer Schulstr. 20, 42103 Wuppertal
END:VEVENT
BEGIN:VEVENT
DTSTAMP:20260422T225145
DTSTART;TZID=Europe/Berlin:20261118T084500
DTEND;TZID=Europe/Berlin:20261118T101500
UID:262W152026-20261118T084500@BERGISCHE VHS
SUMMARY:Englisch Grundstufe 7 - A2 Wiederholung und Auffrischung (262W152026) 
LOCATION:VHS Auer Schulstraße; Raum A203; W-Elberfeld, Auer Schulstr. 20, 42103 Wuppertal
END:VEVENT
BEGIN:VEVENT
DTSTAMP:20260422T225145
DTSTART;TZID=Europe/Berlin:20261125T084500
DTEND;TZID=Europe/Berlin:20261125T101500
UID:262W152026-20261125T084500@BERGISCHE VHS
SUMMARY:Englisch Grundstufe 7 - A2 Wiederholung und Auffrischung (262W152026) 
LOCATION:VHS Auer Schulstraße; Raum A203; W-Elberfeld, Auer Schulstr. 20, 42103 Wuppertal
END:VEVENT
BEGIN:VEVENT
DTSTAMP:20260422T225145
DTSTART;TZID=Europe/Berlin:20261202T084500
DTEND;TZID=Europe/Berlin:20261202T101500
UID:262W152026-20261202T084500@BERGISCHE VHS
SUMMARY:Englisch Grundstufe 7 - A2 Wiederholung und Auffrischung (262W152026) 
LOCATION:VHS Auer Schulstraße; Raum A203; W-Elberfeld, Auer Schulstr. 20, 42103 Wuppertal
END:VEVENT
BEGIN:VEVENT
DTSTAMP:20260422T225145
DTSTART;TZID=Europe/Berlin:20261209T084500
DTEND;TZID=Europe/Berlin:20261209T101500
UID:262W152026-20261209T084500@BERGISCHE VHS
SUMMARY:Englisch Grundstufe 7 - A2 Wiederholung und Auffrischung (262W152026) 
LOCATION:VHS Auer Schulstraße; Raum A203; W-Elberfeld, Auer Schulstr. 20, 42103 Wuppertal
END:VEVENT
BEGIN:VEVENT
DTSTAMP:20260422T225145
DTSTART;TZID=Europe/Berlin:20261216T084500
DTEND;TZID=Europe/Berlin:20261216T101500
UID:262W152026-20261216T084500@BERGISCHE VHS
SUMMARY:Englisch Grundstufe 7 - A2 Wiederholung und Auffrischung (262W152026) 
LOCATION:VHS Auer Schulstraße; Raum A203; W-Elberfeld, Auer Schulstr. 20, 42103 Wuppertal
END:VEVENT
BEGIN:VEVENT
DTSTAMP:20260422T225145
DTSTART;TZID=Europe/Berlin:20270113T084500
DTEND;TZID=Europe/Berlin:20270113T101500
UID:262W152026-20270113T084500@BERGISCHE VHS
SUMMARY:Englisch Grundstufe 7 - A2 Wiederholung und Auffrischung (262W152026) 
LOCATION:VHS Auer Schulstraße; Raum A203; W-Elberfeld, Auer Schulstr. 20, 42103 Wuppertal
END:VEVENT
END:VCALENDAR