BEGIN:VCALENDAR
VERSION:2.0
PRODID:https://www.kufer.de/kuferweb / DE
METHOD:PUBLISH
CALSCALE:GREGORIAN
X-WR-TIMEZONE:Europe/Berlin
BEGIN:VTIMEZONE
TZID:Europe/Berlin
X-LIC-LOCATION:Europe/Berlin
BEGIN:DAYLIGHT
TZOFFSETFROM:+0100
TZOFFSETTO:+0200
TZNAME:CEST
DTSTART:19700329T020000
RRULE:FREQ=YEARLY;INTERVAL=1;BYDAY=-1SU;BYMONTH=3
END:DAYLIGHT
BEGIN:STANDARD
TZOFFSETFROM:+0200
TZOFFSETTO:+0100
TZNAME:CET
DTSTART:19701025T030000
RRULE:FREQ=YEARLY;INTERVAL=1;BYDAY=-1SU;BYMONTH=10
END:STANDARD
END:VTIMEZONE
BEGIN:VEVENT
DTSTAMP:20260423T200834
DTSTART;TZID=Europe/Berlin:20260910T103000
DTEND;TZID=Europe/Berlin:20260910T120000
UID:262W152025-20260910T103000@BERGISCHE VHS
SUMMARY:Englisch Grundstufe 6 - A2 Headway 5th edition Elementary (OUP) (262W152025) 
LOCATION:VHS Bachstraße; Raum 15; W-Barmen, Bachstr. 15, 42275 Wuppertal
END:VEVENT
BEGIN:VEVENT
DTSTAMP:20260423T200834
DTSTART;TZID=Europe/Berlin:20260917T103000
DTEND;TZID=Europe/Berlin:20260917T120000
UID:262W152025-20260917T103000@BERGISCHE VHS
SUMMARY:Englisch Grundstufe 6 - A2 Headway 5th edition Elementary (OUP) (262W152025) 
LOCATION:VHS Bachstraße; Raum 15; W-Barmen, Bachstr. 15, 42275 Wuppertal
END:VEVENT
BEGIN:VEVENT
DTSTAMP:20260423T200834
DTSTART;TZID=Europe/Berlin:20260924T103000
DTEND;TZID=Europe/Berlin:20260924T120000
UID:262W152025-20260924T103000@BERGISCHE VHS
SUMMARY:Englisch Grundstufe 6 - A2 Headway 5th edition Elementary (OUP) (262W152025) 
LOCATION:VHS Bachstraße; Raum 15; W-Barmen, Bachstr. 15, 42275 Wuppertal
END:VEVENT
BEGIN:VEVENT
DTSTAMP:20260423T200834
DTSTART;TZID=Europe/Berlin:20261001T103000
DTEND;TZID=Europe/Berlin:20261001T120000
UID:262W152025-20261001T103000@BERGISCHE VHS
SUMMARY:Englisch Grundstufe 6 - A2 Headway 5th edition Elementary (OUP) (262W152025) 
LOCATION:VHS Bachstraße; Raum 15; W-Barmen, Bachstr. 15, 42275 Wuppertal
END:VEVENT
BEGIN:VEVENT
DTSTAMP:20260423T200834
DTSTART;TZID=Europe/Berlin:20261008T103000
DTEND;TZID=Europe/Berlin:20261008T120000
UID:262W152025-20261008T103000@BERGISCHE VHS
SUMMARY:Englisch Grundstufe 6 - A2 Headway 5th edition Elementary (OUP) (262W152025) 
LOCATION:VHS Bachstraße; Raum 15; W-Barmen, Bachstr. 15, 42275 Wuppertal
END:VEVENT
BEGIN:VEVENT
DTSTAMP:20260423T200834
DTSTART;TZID=Europe/Berlin:20261015T103000
DTEND;TZID=Europe/Berlin:20261015T120000
UID:262W152025-20261015T103000@BERGISCHE VHS
SUMMARY:Englisch Grundstufe 6 - A2 Headway 5th edition Elementary (OUP) (262W152025) 
LOCATION:VHS Bachstraße; Raum 15; W-Barmen, Bachstr. 15, 42275 Wuppertal
END:VEVENT
BEGIN:VEVENT
DTSTAMP:20260423T200834
DTSTART;TZID=Europe/Berlin:20261105T103000
DTEND;TZID=Europe/Berlin:20261105T120000
UID:262W152025-20261105T103000@BERGISCHE VHS
SUMMARY:Englisch Grundstufe 6 - A2 Headway 5th edition Elementary (OUP) (262W152025) 
LOCATION:VHS Bachstraße; Raum 15; W-Barmen, Bachstr. 15, 42275 Wuppertal
END:VEVENT
BEGIN:VEVENT
DTSTAMP:20260423T200834
DTSTART;TZID=Europe/Berlin:20261112T103000
DTEND;TZID=Europe/Berlin:20261112T120000
UID:262W152025-20261112T103000@BERGISCHE VHS
SUMMARY:Englisch Grundstufe 6 - A2 Headway 5th edition Elementary (OUP) (262W152025) 
LOCATION:VHS Bachstraße; Raum 15; W-Barmen, Bachstr. 15, 42275 Wuppertal
END:VEVENT
BEGIN:VEVENT
DTSTAMP:20260423T200834
DTSTART;TZID=Europe/Berlin:20261119T103000
DTEND;TZID=Europe/Berlin:20261119T120000
UID:262W152025-20261119T103000@BERGISCHE VHS
SUMMARY:Englisch Grundstufe 6 - A2 Headway 5th edition Elementary (OUP) (262W152025) 
LOCATION:VHS Bachstraße; Raum 15; W-Barmen, Bachstr. 15, 42275 Wuppertal
END:VEVENT
BEGIN:VEVENT
DTSTAMP:20260423T200834
DTSTART;TZID=Europe/Berlin:20261126T103000
DTEND;TZID=Europe/Berlin:20261126T120000
UID:262W152025-20261126T103000@BERGISCHE VHS
SUMMARY:Englisch Grundstufe 6 - A2 Headway 5th edition Elementary (OUP) (262W152025) 
LOCATION:VHS Bachstraße; Raum 15; W-Barmen, Bachstr. 15, 42275 Wuppertal
END:VEVENT
BEGIN:VEVENT
DTSTAMP:20260423T200834
DTSTART;TZID=Europe/Berlin:20261203T103000
DTEND;TZID=Europe/Berlin:20261203T120000
UID:262W152025-20261203T103000@BERGISCHE VHS
SUMMARY:Englisch Grundstufe 6 - A2 Headway 5th edition Elementary (OUP) (262W152025) 
LOCATION:VHS Bachstraße; Raum 15; W-Barmen, Bachstr. 15, 42275 Wuppertal
END:VEVENT
BEGIN:VEVENT
DTSTAMP:20260423T200834
DTSTART;TZID=Europe/Berlin:20261210T103000
DTEND;TZID=Europe/Berlin:20261210T120000
UID:262W152025-20261210T103000@BERGISCHE VHS
SUMMARY:Englisch Grundstufe 6 - A2 Headway 5th edition Elementary (OUP) (262W152025) 
LOCATION:VHS Bachstraße; Raum 15; W-Barmen, Bachstr. 15, 42275 Wuppertal
END:VEVENT
BEGIN:VEVENT
DTSTAMP:20260423T200834
DTSTART;TZID=Europe/Berlin:20261217T103000
DTEND;TZID=Europe/Berlin:20261217T120000
UID:262W152025-20261217T103000@BERGISCHE VHS
SUMMARY:Englisch Grundstufe 6 - A2 Headway 5th edition Elementary (OUP) (262W152025) 
LOCATION:VHS Bachstraße; Raum 15; W-Barmen, Bachstr. 15, 42275 Wuppertal
END:VEVENT
BEGIN:VEVENT
DTSTAMP:20260423T200834
DTSTART;TZID=Europe/Berlin:20270107T103000
DTEND;TZID=Europe/Berlin:20270107T120000
UID:262W152025-20270107T103000@BERGISCHE VHS
SUMMARY:Englisch Grundstufe 6 - A2 Headway 5th edition Elementary (OUP) (262W152025) 
LOCATION:VHS Bachstraße; Raum 15; W-Barmen, Bachstr. 15, 42275 Wuppertal
END:VEVENT
END:VCALENDAR