BEGIN:VCALENDAR
VERSION:2.0
PRODID:https://www.kufer.de/kuferweb / DE
METHOD:PUBLISH
CALSCALE:GREGORIAN
X-WR-TIMEZONE:Europe/Berlin
BEGIN:VTIMEZONE
TZID:Europe/Berlin
X-LIC-LOCATION:Europe/Berlin
BEGIN:DAYLIGHT
TZOFFSETFROM:+0100
TZOFFSETTO:+0200
TZNAME:CEST
DTSTART:19700329T020000
RRULE:FREQ=YEARLY;INTERVAL=1;BYDAY=-1SU;BYMONTH=3
END:DAYLIGHT
BEGIN:STANDARD
TZOFFSETFROM:+0200
TZOFFSETTO:+0100
TZNAME:CET
DTSTART:19701025T030000
RRULE:FREQ=YEARLY;INTERVAL=1;BYDAY=-1SU;BYMONTH=10
END:STANDARD
END:VTIMEZONE
BEGIN:VEVENT
DTSTAMP:20260424T110315
DTSTART;TZID=Europe/Berlin:20260910T194500
DTEND;TZID=Europe/Berlin:20260910T211500
UID:262W150402-20260910T194500@BERGISCHE VHS
SUMMARY:Türkisch 2 - A1  Für Teilnehmer*innen mit leichten Vorkenntnissen (262W150402) 
LOCATION:Bergisches Studieninstitut; Raum 4; W-Elberfeld, Obergrünewalder Str. 25/27, 42103 Wuppertal
END:VEVENT
BEGIN:VEVENT
DTSTAMP:20260424T110315
DTSTART;TZID=Europe/Berlin:20260917T194500
DTEND;TZID=Europe/Berlin:20260917T211500
UID:262W150402-20260917T194500@BERGISCHE VHS
SUMMARY:Türkisch 2 - A1  Für Teilnehmer*innen mit leichten Vorkenntnissen (262W150402) 
LOCATION:Bergisches Studieninstitut; Raum 4; W-Elberfeld, Obergrünewalder Str. 25/27, 42103 Wuppertal
END:VEVENT
BEGIN:VEVENT
DTSTAMP:20260424T110315
DTSTART;TZID=Europe/Berlin:20260924T194500
DTEND;TZID=Europe/Berlin:20260924T211500
UID:262W150402-20260924T194500@BERGISCHE VHS
SUMMARY:Türkisch 2 - A1  Für Teilnehmer*innen mit leichten Vorkenntnissen (262W150402) 
LOCATION:Bergisches Studieninstitut; Raum 4; W-Elberfeld, Obergrünewalder Str. 25/27, 42103 Wuppertal
END:VEVENT
BEGIN:VEVENT
DTSTAMP:20260424T110315
DTSTART;TZID=Europe/Berlin:20261001T194500
DTEND;TZID=Europe/Berlin:20261001T211500
UID:262W150402-20261001T194500@BERGISCHE VHS
SUMMARY:Türkisch 2 - A1  Für Teilnehmer*innen mit leichten Vorkenntnissen (262W150402) 
LOCATION:Bergisches Studieninstitut; Raum 4; W-Elberfeld, Obergrünewalder Str. 25/27, 42103 Wuppertal
END:VEVENT
BEGIN:VEVENT
DTSTAMP:20260424T110315
DTSTART;TZID=Europe/Berlin:20261008T194500
DTEND;TZID=Europe/Berlin:20261008T211500
UID:262W150402-20261008T194500@BERGISCHE VHS
SUMMARY:Türkisch 2 - A1  Für Teilnehmer*innen mit leichten Vorkenntnissen (262W150402) 
LOCATION:Bergisches Studieninstitut; Raum 4; W-Elberfeld, Obergrünewalder Str. 25/27, 42103 Wuppertal
END:VEVENT
BEGIN:VEVENT
DTSTAMP:20260424T110315
DTSTART;TZID=Europe/Berlin:20261015T194500
DTEND;TZID=Europe/Berlin:20261015T211500
UID:262W150402-20261015T194500@BERGISCHE VHS
SUMMARY:Türkisch 2 - A1  Für Teilnehmer*innen mit leichten Vorkenntnissen (262W150402) 
LOCATION:Bergisches Studieninstitut; Raum 4; W-Elberfeld, Obergrünewalder Str. 25/27, 42103 Wuppertal
END:VEVENT
BEGIN:VEVENT
DTSTAMP:20260424T110315
DTSTART;TZID=Europe/Berlin:20261105T194500
DTEND;TZID=Europe/Berlin:20261105T211500
UID:262W150402-20261105T194500@BERGISCHE VHS
SUMMARY:Türkisch 2 - A1  Für Teilnehmer*innen mit leichten Vorkenntnissen (262W150402) 
LOCATION:Bergisches Studieninstitut; Raum 4; W-Elberfeld, Obergrünewalder Str. 25/27, 42103 Wuppertal
END:VEVENT
BEGIN:VEVENT
DTSTAMP:20260424T110315
DTSTART;TZID=Europe/Berlin:20261112T194500
DTEND;TZID=Europe/Berlin:20261112T211500
UID:262W150402-20261112T194500@BERGISCHE VHS
SUMMARY:Türkisch 2 - A1  Für Teilnehmer*innen mit leichten Vorkenntnissen (262W150402) 
LOCATION:Bergisches Studieninstitut; Raum 4; W-Elberfeld, Obergrünewalder Str. 25/27, 42103 Wuppertal
END:VEVENT
BEGIN:VEVENT
DTSTAMP:20260424T110315
DTSTART;TZID=Europe/Berlin:20261119T194500
DTEND;TZID=Europe/Berlin:20261119T211500
UID:262W150402-20261119T194500@BERGISCHE VHS
SUMMARY:Türkisch 2 - A1  Für Teilnehmer*innen mit leichten Vorkenntnissen (262W150402) 
LOCATION:Bergisches Studieninstitut; Raum 4; W-Elberfeld, Obergrünewalder Str. 25/27, 42103 Wuppertal
END:VEVENT
BEGIN:VEVENT
DTSTAMP:20260424T110315
DTSTART;TZID=Europe/Berlin:20261126T194500
DTEND;TZID=Europe/Berlin:20261126T211500
UID:262W150402-20261126T194500@BERGISCHE VHS
SUMMARY:Türkisch 2 - A1  Für Teilnehmer*innen mit leichten Vorkenntnissen (262W150402) 
LOCATION:Bergisches Studieninstitut; Raum 4; W-Elberfeld, Obergrünewalder Str. 25/27, 42103 Wuppertal
END:VEVENT
BEGIN:VEVENT
DTSTAMP:20260424T110315
DTSTART;TZID=Europe/Berlin:20261203T194500
DTEND;TZID=Europe/Berlin:20261203T211500
UID:262W150402-20261203T194500@BERGISCHE VHS
SUMMARY:Türkisch 2 - A1  Für Teilnehmer*innen mit leichten Vorkenntnissen (262W150402) 
LOCATION:Bergisches Studieninstitut; Raum 4; W-Elberfeld, Obergrünewalder Str. 25/27, 42103 Wuppertal
END:VEVENT
BEGIN:VEVENT
DTSTAMP:20260424T110315
DTSTART;TZID=Europe/Berlin:20261210T194500
DTEND;TZID=Europe/Berlin:20261210T211500
UID:262W150402-20261210T194500@BERGISCHE VHS
SUMMARY:Türkisch 2 - A1  Für Teilnehmer*innen mit leichten Vorkenntnissen (262W150402) 
LOCATION:Bergisches Studieninstitut; Raum 4; W-Elberfeld, Obergrünewalder Str. 25/27, 42103 Wuppertal
END:VEVENT
BEGIN:VEVENT
DTSTAMP:20260424T110315
DTSTART;TZID=Europe/Berlin:20261217T194500
DTEND;TZID=Europe/Berlin:20261217T211500
UID:262W150402-20261217T194500@BERGISCHE VHS
SUMMARY:Türkisch 2 - A1  Für Teilnehmer*innen mit leichten Vorkenntnissen (262W150402) 
LOCATION:Bergisches Studieninstitut; Raum 4; W-Elberfeld, Obergrünewalder Str. 25/27, 42103 Wuppertal
END:VEVENT
BEGIN:VEVENT
DTSTAMP:20260424T110315
DTSTART;TZID=Europe/Berlin:20270107T194500
DTEND;TZID=Europe/Berlin:20270107T211500
UID:262W150402-20270107T194500@BERGISCHE VHS
SUMMARY:Türkisch 2 - A1  Für Teilnehmer*innen mit leichten Vorkenntnissen (262W150402) 
LOCATION:Bergisches Studieninstitut; Raum 4; W-Elberfeld, Obergrünewalder Str. 25/27, 42103 Wuppertal
END:VEVENT
END:VCALENDAR