BEGIN:VCALENDAR
VERSION:2.0
PRODID:https://www.kufer.de/kuferweb / DE
METHOD:PUBLISH
CALSCALE:GREGORIAN
X-WR-TIMEZONE:Europe/Berlin
BEGIN:VTIMEZONE
TZID:Europe/Berlin
X-LIC-LOCATION:Europe/Berlin
BEGIN:DAYLIGHT
TZOFFSETFROM:+0100
TZOFFSETTO:+0200
TZNAME:CEST
DTSTART:19700329T020000
RRULE:FREQ=YEARLY;INTERVAL=1;BYDAY=-1SU;BYMONTH=3
END:DAYLIGHT
BEGIN:STANDARD
TZOFFSETFROM:+0200
TZOFFSETTO:+0100
TZNAME:CET
DTSTART:19701025T030000
RRULE:FREQ=YEARLY;INTERVAL=1;BYDAY=-1SU;BYMONTH=10
END:STANDARD
END:VTIMEZONE
BEGIN:VEVENT
DTSTAMP:20260423T200924
DTSTART;TZID=Europe/Berlin:20260921T194500
DTEND;TZID=Europe/Berlin:20260921T211500
UID:262W150110-20260921T194500@BERGISCHE VHS
SUMMARY:Neugriechisch Konversationskurs - B2/C1 Für Teilnehmer*innen mit guten Kenntnissen (262W150110) 
LOCATION:VHS Bachstraße; Raum 11; W-Barmen, Bachstr. 15, 42275 Wuppertal
END:VEVENT
BEGIN:VEVENT
DTSTAMP:20260423T200924
DTSTART;TZID=Europe/Berlin:20260928T194500
DTEND;TZID=Europe/Berlin:20260928T211500
UID:262W150110-20260928T194500@BERGISCHE VHS
SUMMARY:Neugriechisch Konversationskurs - B2/C1 Für Teilnehmer*innen mit guten Kenntnissen (262W150110) 
LOCATION:VHS Bachstraße; Raum 11; W-Barmen, Bachstr. 15, 42275 Wuppertal
END:VEVENT
BEGIN:VEVENT
DTSTAMP:20260423T200924
DTSTART;TZID=Europe/Berlin:20261005T194500
DTEND;TZID=Europe/Berlin:20261005T211500
UID:262W150110-20261005T194500@BERGISCHE VHS
SUMMARY:Neugriechisch Konversationskurs - B2/C1 Für Teilnehmer*innen mit guten Kenntnissen (262W150110) 
LOCATION:VHS Bachstraße; Raum 11; W-Barmen, Bachstr. 15, 42275 Wuppertal
END:VEVENT
BEGIN:VEVENT
DTSTAMP:20260423T200924
DTSTART;TZID=Europe/Berlin:20261012T194500
DTEND;TZID=Europe/Berlin:20261012T211500
UID:262W150110-20261012T194500@BERGISCHE VHS
SUMMARY:Neugriechisch Konversationskurs - B2/C1 Für Teilnehmer*innen mit guten Kenntnissen (262W150110) 
LOCATION:VHS Bachstraße; Raum 11; W-Barmen, Bachstr. 15, 42275 Wuppertal
END:VEVENT
BEGIN:VEVENT
DTSTAMP:20260423T200924
DTSTART;TZID=Europe/Berlin:20261102T194500
DTEND;TZID=Europe/Berlin:20261102T211500
UID:262W150110-20261102T194500@BERGISCHE VHS
SUMMARY:Neugriechisch Konversationskurs - B2/C1 Für Teilnehmer*innen mit guten Kenntnissen (262W150110) 
LOCATION:VHS Bachstraße; Raum 11; W-Barmen, Bachstr. 15, 42275 Wuppertal
END:VEVENT
BEGIN:VEVENT
DTSTAMP:20260423T200924
DTSTART;TZID=Europe/Berlin:20261109T194500
DTEND;TZID=Europe/Berlin:20261109T211500
UID:262W150110-20261109T194500@BERGISCHE VHS
SUMMARY:Neugriechisch Konversationskurs - B2/C1 Für Teilnehmer*innen mit guten Kenntnissen (262W150110) 
LOCATION:VHS Bachstraße; Raum 11; W-Barmen, Bachstr. 15, 42275 Wuppertal
END:VEVENT
BEGIN:VEVENT
DTSTAMP:20260423T200924
DTSTART;TZID=Europe/Berlin:20261116T194500
DTEND;TZID=Europe/Berlin:20261116T211500
UID:262W150110-20261116T194500@BERGISCHE VHS
SUMMARY:Neugriechisch Konversationskurs - B2/C1 Für Teilnehmer*innen mit guten Kenntnissen (262W150110) 
LOCATION:VHS Bachstraße; Raum 11; W-Barmen, Bachstr. 15, 42275 Wuppertal
END:VEVENT
BEGIN:VEVENT
DTSTAMP:20260423T200924
DTSTART;TZID=Europe/Berlin:20261123T194500
DTEND;TZID=Europe/Berlin:20261123T211500
UID:262W150110-20261123T194500@BERGISCHE VHS
SUMMARY:Neugriechisch Konversationskurs - B2/C1 Für Teilnehmer*innen mit guten Kenntnissen (262W150110) 
LOCATION:VHS Bachstraße; Raum 11; W-Barmen, Bachstr. 15, 42275 Wuppertal
END:VEVENT
BEGIN:VEVENT
DTSTAMP:20260423T200924
DTSTART;TZID=Europe/Berlin:20261130T194500
DTEND;TZID=Europe/Berlin:20261130T211500
UID:262W150110-20261130T194500@BERGISCHE VHS
SUMMARY:Neugriechisch Konversationskurs - B2/C1 Für Teilnehmer*innen mit guten Kenntnissen (262W150110) 
LOCATION:VHS Bachstraße; Raum 11; W-Barmen, Bachstr. 15, 42275 Wuppertal
END:VEVENT
BEGIN:VEVENT
DTSTAMP:20260423T200924
DTSTART;TZID=Europe/Berlin:20261207T194500
DTEND;TZID=Europe/Berlin:20261207T211500
UID:262W150110-20261207T194500@BERGISCHE VHS
SUMMARY:Neugriechisch Konversationskurs - B2/C1 Für Teilnehmer*innen mit guten Kenntnissen (262W150110) 
LOCATION:VHS Bachstraße; Raum 11; W-Barmen, Bachstr. 15, 42275 Wuppertal
END:VEVENT
BEGIN:VEVENT
DTSTAMP:20260423T200924
DTSTART;TZID=Europe/Berlin:20261214T194500
DTEND;TZID=Europe/Berlin:20261214T211500
UID:262W150110-20261214T194500@BERGISCHE VHS
SUMMARY:Neugriechisch Konversationskurs - B2/C1 Für Teilnehmer*innen mit guten Kenntnissen (262W150110) 
LOCATION:VHS Bachstraße; Raum 11; W-Barmen, Bachstr. 15, 42275 Wuppertal
END:VEVENT
BEGIN:VEVENT
DTSTAMP:20260423T200924
DTSTART;TZID=Europe/Berlin:20270111T194500
DTEND;TZID=Europe/Berlin:20270111T211500
UID:262W150110-20270111T194500@BERGISCHE VHS
SUMMARY:Neugriechisch Konversationskurs - B2/C1 Für Teilnehmer*innen mit guten Kenntnissen (262W150110) 
LOCATION:VHS Bachstraße; Raum 11; W-Barmen, Bachstr. 15, 42275 Wuppertal
END:VEVENT
BEGIN:VEVENT
DTSTAMP:20260423T200924
DTSTART;TZID=Europe/Berlin:20270118T194500
DTEND;TZID=Europe/Berlin:20270118T211500
UID:262W150110-20270118T194500@BERGISCHE VHS
SUMMARY:Neugriechisch Konversationskurs - B2/C1 Für Teilnehmer*innen mit guten Kenntnissen (262W150110) 
LOCATION:VHS Bachstraße; Raum 11; W-Barmen, Bachstr. 15, 42275 Wuppertal
END:VEVENT
BEGIN:VEVENT
DTSTAMP:20260423T200924
DTSTART;TZID=Europe/Berlin:20270125T194500
DTEND;TZID=Europe/Berlin:20270125T211500
UID:262W150110-20270125T194500@BERGISCHE VHS
SUMMARY:Neugriechisch Konversationskurs - B2/C1 Für Teilnehmer*innen mit guten Kenntnissen (262W150110) 
LOCATION:VHS Bachstraße; Raum 11; W-Barmen, Bachstr. 15, 42275 Wuppertal
END:VEVENT
END:VCALENDAR