BEGIN:VCALENDAR
VERSION:2.0
PRODID:https://www.kufer.de/kuferweb / DE
METHOD:PUBLISH
CALSCALE:GREGORIAN
X-WR-TIMEZONE:Europe/Berlin
BEGIN:VTIMEZONE
TZID:Europe/Berlin
X-LIC-LOCATION:Europe/Berlin
BEGIN:DAYLIGHT
TZOFFSETFROM:+0100
TZOFFSETTO:+0200
TZNAME:CEST
DTSTART:19700329T020000
RRULE:FREQ=YEARLY;INTERVAL=1;BYDAY=-1SU;BYMONTH=3
END:DAYLIGHT
BEGIN:STANDARD
TZOFFSETFROM:+0200
TZOFFSETTO:+0100
TZNAME:CET
DTSTART:19701025T030000
RRULE:FREQ=YEARLY;INTERVAL=1;BYDAY=-1SU;BYMONTH=10
END:STANDARD
END:VTIMEZONE
BEGIN:VEVENT
DTSTAMP:20260424T215143
DTSTART;TZID=Europe/Berlin:20260908T173000
DTEND;TZID=Europe/Berlin:20260908T190000
UID:262W150074-20260908T173000@BERGISCHE VHS
SUMMARY:Japanisch 4 - A1 Japanisch, bitte! neu A1-A2  (Klett) (262W150074) 
LOCATION:VHS Bachstraße; Raum 11; W-Barmen, Bachstr. 15, 42275 Wuppertal
END:VEVENT
BEGIN:VEVENT
DTSTAMP:20260424T215143
DTSTART;TZID=Europe/Berlin:20260915T173000
DTEND;TZID=Europe/Berlin:20260915T190000
UID:262W150074-20260915T173000@BERGISCHE VHS
SUMMARY:Japanisch 4 - A1 Japanisch, bitte! neu A1-A2  (Klett) (262W150074) 
LOCATION:VHS Bachstraße; Raum 11; W-Barmen, Bachstr. 15, 42275 Wuppertal
END:VEVENT
BEGIN:VEVENT
DTSTAMP:20260424T215143
DTSTART;TZID=Europe/Berlin:20260922T173000
DTEND;TZID=Europe/Berlin:20260922T190000
UID:262W150074-20260922T173000@BERGISCHE VHS
SUMMARY:Japanisch 4 - A1 Japanisch, bitte! neu A1-A2  (Klett) (262W150074) 
LOCATION:VHS Bachstraße; Raum 11; W-Barmen, Bachstr. 15, 42275 Wuppertal
END:VEVENT
BEGIN:VEVENT
DTSTAMP:20260424T215143
DTSTART;TZID=Europe/Berlin:20260929T173000
DTEND;TZID=Europe/Berlin:20260929T190000
UID:262W150074-20260929T173000@BERGISCHE VHS
SUMMARY:Japanisch 4 - A1 Japanisch, bitte! neu A1-A2  (Klett) (262W150074) 
LOCATION:VHS Bachstraße; Raum 11; W-Barmen, Bachstr. 15, 42275 Wuppertal
END:VEVENT
BEGIN:VEVENT
DTSTAMP:20260424T215143
DTSTART;TZID=Europe/Berlin:20261006T173000
DTEND;TZID=Europe/Berlin:20261006T190000
UID:262W150074-20261006T173000@BERGISCHE VHS
SUMMARY:Japanisch 4 - A1 Japanisch, bitte! neu A1-A2  (Klett) (262W150074) 
LOCATION:VHS Bachstraße; Raum 11; W-Barmen, Bachstr. 15, 42275 Wuppertal
END:VEVENT
BEGIN:VEVENT
DTSTAMP:20260424T215143
DTSTART;TZID=Europe/Berlin:20261013T173000
DTEND;TZID=Europe/Berlin:20261013T190000
UID:262W150074-20261013T173000@BERGISCHE VHS
SUMMARY:Japanisch 4 - A1 Japanisch, bitte! neu A1-A2  (Klett) (262W150074) 
LOCATION:VHS Bachstraße; Raum 11; W-Barmen, Bachstr. 15, 42275 Wuppertal
END:VEVENT
BEGIN:VEVENT
DTSTAMP:20260424T215143
DTSTART;TZID=Europe/Berlin:20261103T173000
DTEND;TZID=Europe/Berlin:20261103T190000
UID:262W150074-20261103T173000@BERGISCHE VHS
SUMMARY:Japanisch 4 - A1 Japanisch, bitte! neu A1-A2  (Klett) (262W150074) 
LOCATION:VHS Bachstraße; Raum 11; W-Barmen, Bachstr. 15, 42275 Wuppertal
END:VEVENT
BEGIN:VEVENT
DTSTAMP:20260424T215143
DTSTART;TZID=Europe/Berlin:20261110T173000
DTEND;TZID=Europe/Berlin:20261110T190000
UID:262W150074-20261110T173000@BERGISCHE VHS
SUMMARY:Japanisch 4 - A1 Japanisch, bitte! neu A1-A2  (Klett) (262W150074) 
LOCATION:VHS Bachstraße; Raum 11; W-Barmen, Bachstr. 15, 42275 Wuppertal
END:VEVENT
BEGIN:VEVENT
DTSTAMP:20260424T215143
DTSTART;TZID=Europe/Berlin:20261117T173000
DTEND;TZID=Europe/Berlin:20261117T190000
UID:262W150074-20261117T173000@BERGISCHE VHS
SUMMARY:Japanisch 4 - A1 Japanisch, bitte! neu A1-A2  (Klett) (262W150074) 
LOCATION:VHS Bachstraße; Raum 11; W-Barmen, Bachstr. 15, 42275 Wuppertal
END:VEVENT
BEGIN:VEVENT
DTSTAMP:20260424T215143
DTSTART;TZID=Europe/Berlin:20261124T173000
DTEND;TZID=Europe/Berlin:20261124T190000
UID:262W150074-20261124T173000@BERGISCHE VHS
SUMMARY:Japanisch 4 - A1 Japanisch, bitte! neu A1-A2  (Klett) (262W150074) 
LOCATION:VHS Bachstraße; Raum 11; W-Barmen, Bachstr. 15, 42275 Wuppertal
END:VEVENT
BEGIN:VEVENT
DTSTAMP:20260424T215143
DTSTART;TZID=Europe/Berlin:20261201T173000
DTEND;TZID=Europe/Berlin:20261201T190000
UID:262W150074-20261201T173000@BERGISCHE VHS
SUMMARY:Japanisch 4 - A1 Japanisch, bitte! neu A1-A2  (Klett) (262W150074) 
LOCATION:VHS Bachstraße; Raum 11; W-Barmen, Bachstr. 15, 42275 Wuppertal
END:VEVENT
BEGIN:VEVENT
DTSTAMP:20260424T215143
DTSTART;TZID=Europe/Berlin:20261208T173000
DTEND;TZID=Europe/Berlin:20261208T190000
UID:262W150074-20261208T173000@BERGISCHE VHS
SUMMARY:Japanisch 4 - A1 Japanisch, bitte! neu A1-A2  (Klett) (262W150074) 
LOCATION:VHS Bachstraße; Raum 11; W-Barmen, Bachstr. 15, 42275 Wuppertal
END:VEVENT
END:VCALENDAR