BEGIN:VCALENDAR
VERSION:2.0
PRODID:https://www.kufer.de/kuferweb / DE
METHOD:PUBLISH
CALSCALE:GREGORIAN
X-WR-TIMEZONE:Europe/Berlin
BEGIN:VTIMEZONE
TZID:Europe/Berlin
X-LIC-LOCATION:Europe/Berlin
BEGIN:DAYLIGHT
TZOFFSETFROM:+0100
TZOFFSETTO:+0200
TZNAME:CEST
DTSTART:19700329T020000
RRULE:FREQ=YEARLY;INTERVAL=1;BYDAY=-1SU;BYMONTH=3
END:DAYLIGHT
BEGIN:STANDARD
TZOFFSETFROM:+0200
TZOFFSETTO:+0100
TZNAME:CET
DTSTART:19701025T030000
RRULE:FREQ=YEARLY;INTERVAL=1;BYDAY=-1SU;BYMONTH=10
END:STANDARD
END:VTIMEZONE
BEGIN:VEVENT
DTSTAMP:20260422T191609
DTSTART;TZID=Europe/Berlin:20260909T194500
DTEND;TZID=Europe/Berlin:20260909T211500
UID:262W150020-20260909T194500@BERGISCHE VHS
SUMMARY:Chinesisch 1 - A1  Für Teilnehmer*innen ohne Vorkenntnisse (262W150020) 
LOCATION:Bergisches Studieninstitut; Raum 11; W-Elberfeld, Obergrünewalder Str. 25/27, 42103 Wuppertal
END:VEVENT
BEGIN:VEVENT
DTSTAMP:20260422T191609
DTSTART;TZID=Europe/Berlin:20260916T194500
DTEND;TZID=Europe/Berlin:20260916T211500
UID:262W150020-20260916T194500@BERGISCHE VHS
SUMMARY:Chinesisch 1 - A1  Für Teilnehmer*innen ohne Vorkenntnisse (262W150020) 
LOCATION:Bergisches Studieninstitut; Raum 11; W-Elberfeld, Obergrünewalder Str. 25/27, 42103 Wuppertal
END:VEVENT
BEGIN:VEVENT
DTSTAMP:20260422T191609
DTSTART;TZID=Europe/Berlin:20260923T194500
DTEND;TZID=Europe/Berlin:20260923T211500
UID:262W150020-20260923T194500@BERGISCHE VHS
SUMMARY:Chinesisch 1 - A1  Für Teilnehmer*innen ohne Vorkenntnisse (262W150020) 
LOCATION:Bergisches Studieninstitut; Raum 11; W-Elberfeld, Obergrünewalder Str. 25/27, 42103 Wuppertal
END:VEVENT
BEGIN:VEVENT
DTSTAMP:20260422T191609
DTSTART;TZID=Europe/Berlin:20260930T194500
DTEND;TZID=Europe/Berlin:20260930T211500
UID:262W150020-20260930T194500@BERGISCHE VHS
SUMMARY:Chinesisch 1 - A1  Für Teilnehmer*innen ohne Vorkenntnisse (262W150020) 
LOCATION:Bergisches Studieninstitut; Raum 11; W-Elberfeld, Obergrünewalder Str. 25/27, 42103 Wuppertal
END:VEVENT
BEGIN:VEVENT
DTSTAMP:20260422T191609
DTSTART;TZID=Europe/Berlin:20261007T194500
DTEND;TZID=Europe/Berlin:20261007T211500
UID:262W150020-20261007T194500@BERGISCHE VHS
SUMMARY:Chinesisch 1 - A1  Für Teilnehmer*innen ohne Vorkenntnisse (262W150020) 
LOCATION:Bergisches Studieninstitut; Raum 11; W-Elberfeld, Obergrünewalder Str. 25/27, 42103 Wuppertal
END:VEVENT
BEGIN:VEVENT
DTSTAMP:20260422T191609
DTSTART;TZID=Europe/Berlin:20261014T194500
DTEND;TZID=Europe/Berlin:20261014T211500
UID:262W150020-20261014T194500@BERGISCHE VHS
SUMMARY:Chinesisch 1 - A1  Für Teilnehmer*innen ohne Vorkenntnisse (262W150020) 
LOCATION:Bergisches Studieninstitut; Raum 11; W-Elberfeld, Obergrünewalder Str. 25/27, 42103 Wuppertal
END:VEVENT
BEGIN:VEVENT
DTSTAMP:20260422T191609
DTSTART;TZID=Europe/Berlin:20261104T194500
DTEND;TZID=Europe/Berlin:20261104T211500
UID:262W150020-20261104T194500@BERGISCHE VHS
SUMMARY:Chinesisch 1 - A1  Für Teilnehmer*innen ohne Vorkenntnisse (262W150020) 
LOCATION:Bergisches Studieninstitut; Raum 11; W-Elberfeld, Obergrünewalder Str. 25/27, 42103 Wuppertal
END:VEVENT
BEGIN:VEVENT
DTSTAMP:20260422T191609
DTSTART;TZID=Europe/Berlin:20261111T194500
DTEND;TZID=Europe/Berlin:20261111T211500
UID:262W150020-20261111T194500@BERGISCHE VHS
SUMMARY:Chinesisch 1 - A1  Für Teilnehmer*innen ohne Vorkenntnisse (262W150020) 
LOCATION:Bergisches Studieninstitut; Raum 11; W-Elberfeld, Obergrünewalder Str. 25/27, 42103 Wuppertal
END:VEVENT
BEGIN:VEVENT
DTSTAMP:20260422T191609
DTSTART;TZID=Europe/Berlin:20261118T194500
DTEND;TZID=Europe/Berlin:20261118T211500
UID:262W150020-20261118T194500@BERGISCHE VHS
SUMMARY:Chinesisch 1 - A1  Für Teilnehmer*innen ohne Vorkenntnisse (262W150020) 
LOCATION:Bergisches Studieninstitut; Raum 11; W-Elberfeld, Obergrünewalder Str. 25/27, 42103 Wuppertal
END:VEVENT
BEGIN:VEVENT
DTSTAMP:20260422T191609
DTSTART;TZID=Europe/Berlin:20261125T194500
DTEND;TZID=Europe/Berlin:20261125T211500
UID:262W150020-20261125T194500@BERGISCHE VHS
SUMMARY:Chinesisch 1 - A1  Für Teilnehmer*innen ohne Vorkenntnisse (262W150020) 
LOCATION:Bergisches Studieninstitut; Raum 11; W-Elberfeld, Obergrünewalder Str. 25/27, 42103 Wuppertal
END:VEVENT
BEGIN:VEVENT
DTSTAMP:20260422T191609
DTSTART;TZID=Europe/Berlin:20261202T194500
DTEND;TZID=Europe/Berlin:20261202T211500
UID:262W150020-20261202T194500@BERGISCHE VHS
SUMMARY:Chinesisch 1 - A1  Für Teilnehmer*innen ohne Vorkenntnisse (262W150020) 
LOCATION:Bergisches Studieninstitut; Raum 11; W-Elberfeld, Obergrünewalder Str. 25/27, 42103 Wuppertal
END:VEVENT
BEGIN:VEVENT
DTSTAMP:20260422T191609
DTSTART;TZID=Europe/Berlin:20261209T194500
DTEND;TZID=Europe/Berlin:20261209T211500
UID:262W150020-20261209T194500@BERGISCHE VHS
SUMMARY:Chinesisch 1 - A1  Für Teilnehmer*innen ohne Vorkenntnisse (262W150020) 
LOCATION:Bergisches Studieninstitut; Raum 11; W-Elberfeld, Obergrünewalder Str. 25/27, 42103 Wuppertal
END:VEVENT
END:VCALENDAR