BEGIN:VCALENDAR
VERSION:2.0
PRODID:https://www.kufer.de/kuferweb / DE
METHOD:PUBLISH
CALSCALE:GREGORIAN
X-WR-TIMEZONE:Europe/Berlin
BEGIN:VTIMEZONE
TZID:Europe/Berlin
X-LIC-LOCATION:Europe/Berlin
BEGIN:DAYLIGHT
TZOFFSETFROM:+0100
TZOFFSETTO:+0200
TZNAME:CEST
DTSTART:19700329T020000
RRULE:FREQ=YEARLY;INTERVAL=1;BYDAY=-1SU;BYMONTH=3
END:DAYLIGHT
BEGIN:STANDARD
TZOFFSETFROM:+0200
TZOFFSETTO:+0100
TZNAME:CET
DTSTART:19701025T030000
RRULE:FREQ=YEARLY;INTERVAL=1;BYDAY=-1SU;BYMONTH=10
END:STANDARD
END:VTIMEZONE
BEGIN:VEVENT
DTSTAMP:20260423T200904
DTSTART;TZID=Europe/Berlin:20260910T180000
DTEND;TZID=Europe/Berlin:20260910T194000
UID:262W150004-20260910T180000@BERGISCHE VHS
SUMMARY:Arabisch 3 - A1 Für Teilnehmer*innen mit Grundkenntnissen (262W150004) 
LOCATION:VHS Bachstraße; Raum 15; W-Barmen, Bachstr. 15, 42275 Wuppertal
END:VEVENT
BEGIN:VEVENT
DTSTAMP:20260423T200904
DTSTART;TZID=Europe/Berlin:20260917T180000
DTEND;TZID=Europe/Berlin:20260917T194000
UID:262W150004-20260917T180000@BERGISCHE VHS
SUMMARY:Arabisch 3 - A1 Für Teilnehmer*innen mit Grundkenntnissen (262W150004) 
LOCATION:VHS Bachstraße; Raum 15; W-Barmen, Bachstr. 15, 42275 Wuppertal
END:VEVENT
BEGIN:VEVENT
DTSTAMP:20260423T200904
DTSTART;TZID=Europe/Berlin:20260924T180000
DTEND;TZID=Europe/Berlin:20260924T194000
UID:262W150004-20260924T180000@BERGISCHE VHS
SUMMARY:Arabisch 3 - A1 Für Teilnehmer*innen mit Grundkenntnissen (262W150004) 
LOCATION:VHS Bachstraße; Raum 15; W-Barmen, Bachstr. 15, 42275 Wuppertal
END:VEVENT
BEGIN:VEVENT
DTSTAMP:20260423T200904
DTSTART;TZID=Europe/Berlin:20261001T180000
DTEND;TZID=Europe/Berlin:20261001T194000
UID:262W150004-20261001T180000@BERGISCHE VHS
SUMMARY:Arabisch 3 - A1 Für Teilnehmer*innen mit Grundkenntnissen (262W150004) 
LOCATION:VHS Bachstraße; Raum 15; W-Barmen, Bachstr. 15, 42275 Wuppertal
END:VEVENT
BEGIN:VEVENT
DTSTAMP:20260423T200904
DTSTART;TZID=Europe/Berlin:20261008T180000
DTEND;TZID=Europe/Berlin:20261008T194000
UID:262W150004-20261008T180000@BERGISCHE VHS
SUMMARY:Arabisch 3 - A1 Für Teilnehmer*innen mit Grundkenntnissen (262W150004) 
LOCATION:VHS Bachstraße; Raum 15; W-Barmen, Bachstr. 15, 42275 Wuppertal
END:VEVENT
BEGIN:VEVENT
DTSTAMP:20260423T200904
DTSTART;TZID=Europe/Berlin:20261015T180000
DTEND;TZID=Europe/Berlin:20261015T194000
UID:262W150004-20261015T180000@BERGISCHE VHS
SUMMARY:Arabisch 3 - A1 Für Teilnehmer*innen mit Grundkenntnissen (262W150004) 
LOCATION:VHS Bachstraße; Raum 15; W-Barmen, Bachstr. 15, 42275 Wuppertal
END:VEVENT
BEGIN:VEVENT
DTSTAMP:20260423T200904
DTSTART;TZID=Europe/Berlin:20261105T180000
DTEND;TZID=Europe/Berlin:20261105T194000
UID:262W150004-20261105T180000@BERGISCHE VHS
SUMMARY:Arabisch 3 - A1 Für Teilnehmer*innen mit Grundkenntnissen (262W150004) 
LOCATION:VHS Bachstraße; Raum 15; W-Barmen, Bachstr. 15, 42275 Wuppertal
END:VEVENT
BEGIN:VEVENT
DTSTAMP:20260423T200904
DTSTART;TZID=Europe/Berlin:20261112T180000
DTEND;TZID=Europe/Berlin:20261112T194000
UID:262W150004-20261112T180000@BERGISCHE VHS
SUMMARY:Arabisch 3 - A1 Für Teilnehmer*innen mit Grundkenntnissen (262W150004) 
LOCATION:VHS Bachstraße; Raum 15; W-Barmen, Bachstr. 15, 42275 Wuppertal
END:VEVENT
BEGIN:VEVENT
DTSTAMP:20260423T200904
DTSTART;TZID=Europe/Berlin:20261119T180000
DTEND;TZID=Europe/Berlin:20261119T194000
UID:262W150004-20261119T180000@BERGISCHE VHS
SUMMARY:Arabisch 3 - A1 Für Teilnehmer*innen mit Grundkenntnissen (262W150004) 
LOCATION:VHS Bachstraße; Raum 15; W-Barmen, Bachstr. 15, 42275 Wuppertal
END:VEVENT
BEGIN:VEVENT
DTSTAMP:20260423T200904
DTSTART;TZID=Europe/Berlin:20261126T180000
DTEND;TZID=Europe/Berlin:20261126T194000
UID:262W150004-20261126T180000@BERGISCHE VHS
SUMMARY:Arabisch 3 - A1 Für Teilnehmer*innen mit Grundkenntnissen (262W150004) 
LOCATION:VHS Bachstraße; Raum 15; W-Barmen, Bachstr. 15, 42275 Wuppertal
END:VEVENT
BEGIN:VEVENT
DTSTAMP:20260423T200904
DTSTART;TZID=Europe/Berlin:20261203T180000
DTEND;TZID=Europe/Berlin:20261203T194000
UID:262W150004-20261203T180000@BERGISCHE VHS
SUMMARY:Arabisch 3 - A1 Für Teilnehmer*innen mit Grundkenntnissen (262W150004) 
LOCATION:VHS Bachstraße; Raum 15; W-Barmen, Bachstr. 15, 42275 Wuppertal
END:VEVENT
BEGIN:VEVENT
DTSTAMP:20260423T200904
DTSTART;TZID=Europe/Berlin:20261210T180000
DTEND;TZID=Europe/Berlin:20261210T194000
UID:262W150004-20261210T180000@BERGISCHE VHS
SUMMARY:Arabisch 3 - A1 Für Teilnehmer*innen mit Grundkenntnissen (262W150004) 
LOCATION:VHS Bachstraße; Raum 15; W-Barmen, Bachstr. 15, 42275 Wuppertal
END:VEVENT
END:VCALENDAR