BEGIN:VCALENDAR
VERSION:2.0
PRODID:https://www.kufer.de/kuferweb / DE
METHOD:PUBLISH
CALSCALE:GREGORIAN
X-WR-TIMEZONE:Europe/Berlin
BEGIN:VTIMEZONE
TZID:Europe/Berlin
X-LIC-LOCATION:Europe/Berlin
BEGIN:DAYLIGHT
TZOFFSETFROM:+0100
TZOFFSETTO:+0200
TZNAME:CEST
DTSTART:19700329T020000
RRULE:FREQ=YEARLY;INTERVAL=1;BYDAY=-1SU;BYMONTH=3
END:DAYLIGHT
BEGIN:STANDARD
TZOFFSETFROM:+0200
TZOFFSETTO:+0100
TZNAME:CET
DTSTART:19701025T030000
RRULE:FREQ=YEARLY;INTERVAL=1;BYDAY=-1SU;BYMONTH=10
END:STANDARD
END:VTIMEZONE
BEGIN:VEVENT
DTSTAMP:20260424T201606
DTSTART;TZID=Europe/Berlin:20260922T195000
DTEND;TZID=Europe/Berlin:20260922T212000
UID:262W150001-20260922T195000@BERGISCHE VHS
SUMMARY:Arabisch 1 - A1  Für Teilnehmer*innen ohne Vorkenntnisse (262W150001) 
LOCATION:VHS Auer Schulstraße; Raum A206; W-Elberfeld, Auer Schulstr. 20, 42103 Wuppertal
END:VEVENT
BEGIN:VEVENT
DTSTAMP:20260424T201606
DTSTART;TZID=Europe/Berlin:20260929T195000
DTEND;TZID=Europe/Berlin:20260929T212000
UID:262W150001-20260929T195000@BERGISCHE VHS
SUMMARY:Arabisch 1 - A1  Für Teilnehmer*innen ohne Vorkenntnisse (262W150001) 
LOCATION:VHS Auer Schulstraße; Raum A206; W-Elberfeld, Auer Schulstr. 20, 42103 Wuppertal
END:VEVENT
BEGIN:VEVENT
DTSTAMP:20260424T201606
DTSTART;TZID=Europe/Berlin:20261006T195000
DTEND;TZID=Europe/Berlin:20261006T212000
UID:262W150001-20261006T195000@BERGISCHE VHS
SUMMARY:Arabisch 1 - A1  Für Teilnehmer*innen ohne Vorkenntnisse (262W150001) 
LOCATION:VHS Auer Schulstraße; Raum A206; W-Elberfeld, Auer Schulstr. 20, 42103 Wuppertal
END:VEVENT
BEGIN:VEVENT
DTSTAMP:20260424T201606
DTSTART;TZID=Europe/Berlin:20261013T195000
DTEND;TZID=Europe/Berlin:20261013T212000
UID:262W150001-20261013T195000@BERGISCHE VHS
SUMMARY:Arabisch 1 - A1  Für Teilnehmer*innen ohne Vorkenntnisse (262W150001) 
LOCATION:VHS Auer Schulstraße; Raum A206; W-Elberfeld, Auer Schulstr. 20, 42103 Wuppertal
END:VEVENT
BEGIN:VEVENT
DTSTAMP:20260424T201606
DTSTART;TZID=Europe/Berlin:20261103T195000
DTEND;TZID=Europe/Berlin:20261103T212000
UID:262W150001-20261103T195000@BERGISCHE VHS
SUMMARY:Arabisch 1 - A1  Für Teilnehmer*innen ohne Vorkenntnisse (262W150001) 
LOCATION:VHS Auer Schulstraße; Raum A206; W-Elberfeld, Auer Schulstr. 20, 42103 Wuppertal
END:VEVENT
BEGIN:VEVENT
DTSTAMP:20260424T201606
DTSTART;TZID=Europe/Berlin:20261110T195000
DTEND;TZID=Europe/Berlin:20261110T212000
UID:262W150001-20261110T195000@BERGISCHE VHS
SUMMARY:Arabisch 1 - A1  Für Teilnehmer*innen ohne Vorkenntnisse (262W150001) 
LOCATION:VHS Auer Schulstraße; Raum A206; W-Elberfeld, Auer Schulstr. 20, 42103 Wuppertal
END:VEVENT
BEGIN:VEVENT
DTSTAMP:20260424T201606
DTSTART;TZID=Europe/Berlin:20261117T195000
DTEND;TZID=Europe/Berlin:20261117T212000
UID:262W150001-20261117T195000@BERGISCHE VHS
SUMMARY:Arabisch 1 - A1  Für Teilnehmer*innen ohne Vorkenntnisse (262W150001) 
LOCATION:VHS Auer Schulstraße; Raum A206; W-Elberfeld, Auer Schulstr. 20, 42103 Wuppertal
END:VEVENT
BEGIN:VEVENT
DTSTAMP:20260424T201606
DTSTART;TZID=Europe/Berlin:20261124T195000
DTEND;TZID=Europe/Berlin:20261124T212000
UID:262W150001-20261124T195000@BERGISCHE VHS
SUMMARY:Arabisch 1 - A1  Für Teilnehmer*innen ohne Vorkenntnisse (262W150001) 
LOCATION:VHS Auer Schulstraße; Raum A206; W-Elberfeld, Auer Schulstr. 20, 42103 Wuppertal
END:VEVENT
BEGIN:VEVENT
DTSTAMP:20260424T201606
DTSTART;TZID=Europe/Berlin:20261201T195000
DTEND;TZID=Europe/Berlin:20261201T212000
UID:262W150001-20261201T195000@BERGISCHE VHS
SUMMARY:Arabisch 1 - A1  Für Teilnehmer*innen ohne Vorkenntnisse (262W150001) 
LOCATION:VHS Auer Schulstraße; Raum A206; W-Elberfeld, Auer Schulstr. 20, 42103 Wuppertal
END:VEVENT
BEGIN:VEVENT
DTSTAMP:20260424T201606
DTSTART;TZID=Europe/Berlin:20261208T195000
DTEND;TZID=Europe/Berlin:20261208T212000
UID:262W150001-20261208T195000@BERGISCHE VHS
SUMMARY:Arabisch 1 - A1  Für Teilnehmer*innen ohne Vorkenntnisse (262W150001) 
LOCATION:VHS Auer Schulstraße; Raum A206; W-Elberfeld, Auer Schulstr. 20, 42103 Wuppertal
END:VEVENT
BEGIN:VEVENT
DTSTAMP:20260424T201606
DTSTART;TZID=Europe/Berlin:20261215T195000
DTEND;TZID=Europe/Berlin:20261215T212000
UID:262W150001-20261215T195000@BERGISCHE VHS
SUMMARY:Arabisch 1 - A1  Für Teilnehmer*innen ohne Vorkenntnisse (262W150001) 
LOCATION:VHS Auer Schulstraße; Raum A206; W-Elberfeld, Auer Schulstr. 20, 42103 Wuppertal
END:VEVENT
BEGIN:VEVENT
DTSTAMP:20260424T201606
DTSTART;TZID=Europe/Berlin:20270112T195000
DTEND;TZID=Europe/Berlin:20270112T212000
UID:262W150001-20270112T195000@BERGISCHE VHS
SUMMARY:Arabisch 1 - A1  Für Teilnehmer*innen ohne Vorkenntnisse (262W150001) 
LOCATION:VHS Auer Schulstraße; Raum A206; W-Elberfeld, Auer Schulstr. 20, 42103 Wuppertal
END:VEVENT
END:VCALENDAR