BEGIN:VCALENDAR
VERSION:2.0
PRODID:https://www.kufer.de/kuferweb / DE
METHOD:PUBLISH
CALSCALE:GREGORIAN
X-WR-TIMEZONE:Europe/Berlin
BEGIN:VTIMEZONE
TZID:Europe/Berlin
X-LIC-LOCATION:Europe/Berlin
BEGIN:DAYLIGHT
TZOFFSETFROM:+0100
TZOFFSETTO:+0200
TZNAME:CEST
DTSTART:19700329T020000
RRULE:FREQ=YEARLY;INTERVAL=1;BYDAY=-1SU;BYMONTH=3
END:DAYLIGHT
BEGIN:STANDARD
TZOFFSETFROM:+0200
TZOFFSETTO:+0100
TZNAME:CET
DTSTART:19701025T030000
RRULE:FREQ=YEARLY;INTERVAL=1;BYDAY=-1SU;BYMONTH=10
END:STANDARD
END:VTIMEZONE
BEGIN:VEVENT
DTSTAMP:20260420T185428
DTSTART;TZID=Europe/Berlin:20260720T184000
DTEND;TZID=Europe/Berlin:20260720T194000
UID:262W143014-20260720T184000@BERGISCHE VHS
SUMMARY:NEU: Hula-Hoop für Anfänger*innen und Fortgeschrittene (262W143014) 
LOCATION:VHS Auer Schulstraße; Raum A023; W-Elberfeld, Auer Schulstr. 20, 42103 Wuppertal
END:VEVENT
BEGIN:VEVENT
DTSTAMP:20260420T185428
DTSTART;TZID=Europe/Berlin:20260727T184000
DTEND;TZID=Europe/Berlin:20260727T194000
UID:262W143014-20260727T184000@BERGISCHE VHS
SUMMARY:NEU: Hula-Hoop für Anfänger*innen und Fortgeschrittene (262W143014) 
LOCATION:VHS Auer Schulstraße; Raum A023; W-Elberfeld, Auer Schulstr. 20, 42103 Wuppertal
END:VEVENT
BEGIN:VEVENT
DTSTAMP:20260420T185428
DTSTART;TZID=Europe/Berlin:20260803T184000
DTEND;TZID=Europe/Berlin:20260803T194000
UID:262W143014-20260803T184000@BERGISCHE VHS
SUMMARY:NEU: Hula-Hoop für Anfänger*innen und Fortgeschrittene (262W143014) 
LOCATION:VHS Auer Schulstraße; Raum A023; W-Elberfeld, Auer Schulstr. 20, 42103 Wuppertal
END:VEVENT
BEGIN:VEVENT
DTSTAMP:20260420T185428
DTSTART;TZID=Europe/Berlin:20260810T184000
DTEND;TZID=Europe/Berlin:20260810T194000
UID:262W143014-20260810T184000@BERGISCHE VHS
SUMMARY:NEU: Hula-Hoop für Anfänger*innen und Fortgeschrittene (262W143014) 
LOCATION:VHS Auer Schulstraße; Raum A023; W-Elberfeld, Auer Schulstr. 20, 42103 Wuppertal
END:VEVENT
BEGIN:VEVENT
DTSTAMP:20260420T185428
DTSTART;TZID=Europe/Berlin:20260817T184000
DTEND;TZID=Europe/Berlin:20260817T194000
UID:262W143014-20260817T184000@BERGISCHE VHS
SUMMARY:NEU: Hula-Hoop für Anfänger*innen und Fortgeschrittene (262W143014) 
LOCATION:VHS Auer Schulstraße; Raum A023; W-Elberfeld, Auer Schulstr. 20, 42103 Wuppertal
END:VEVENT
BEGIN:VEVENT
DTSTAMP:20260420T185428
DTSTART;TZID=Europe/Berlin:20260824T184000
DTEND;TZID=Europe/Berlin:20260824T194000
UID:262W143014-20260824T184000@BERGISCHE VHS
SUMMARY:NEU: Hula-Hoop für Anfänger*innen und Fortgeschrittene (262W143014) 
LOCATION:VHS Auer Schulstraße; Raum A023; W-Elberfeld, Auer Schulstr. 20, 42103 Wuppertal
END:VEVENT
BEGIN:VEVENT
DTSTAMP:20260420T185428
DTSTART;TZID=Europe/Berlin:20260831T184000
DTEND;TZID=Europe/Berlin:20260831T194000
UID:262W143014-20260831T184000@BERGISCHE VHS
SUMMARY:NEU: Hula-Hoop für Anfänger*innen und Fortgeschrittene (262W143014) 
LOCATION:VHS Auer Schulstraße; Raum A023; W-Elberfeld, Auer Schulstr. 20, 42103 Wuppertal
END:VEVENT
END:VCALENDAR