BEGIN:VCALENDAR
VERSION:2.0
PRODID:https://www.kufer.de/kuferweb / DE
METHOD:PUBLISH
CALSCALE:GREGORIAN
X-WR-TIMEZONE:Europe/Berlin
BEGIN:VTIMEZONE
TZID:Europe/Berlin
X-LIC-LOCATION:Europe/Berlin
BEGIN:DAYLIGHT
TZOFFSETFROM:+0100
TZOFFSETTO:+0200
TZNAME:CEST
DTSTART:19700329T020000
RRULE:FREQ=YEARLY;INTERVAL=1;BYDAY=-1SU;BYMONTH=3
END:DAYLIGHT
BEGIN:STANDARD
TZOFFSETFROM:+0200
TZOFFSETTO:+0100
TZNAME:CET
DTSTART:19701025T030000
RRULE:FREQ=YEARLY;INTERVAL=1;BYDAY=-1SU;BYMONTH=10
END:STANDARD
END:VTIMEZONE
BEGIN:VEVENT
DTSTAMP:20260420T175337
DTSTART;TZID=Europe/Berlin:20260724T170000
DTEND;TZID=Europe/Berlin:20260724T183000
UID:262W142505-20260724T170000@BERGISCHE VHS
SUMMARY:Pilates für Anfänger*innen und Fortgeschrittene (262W142505) 
LOCATION:VHS Auer Schulstraße; Raum A-112; W-Elberfeld, Auer Schulstr. 20, 42103 Wuppertal
END:VEVENT
END:VCALENDAR