BEGIN:VCALENDAR
VERSION:2.0
PRODID:https://www.kufer.de/kuferweb / DE
METHOD:PUBLISH
CALSCALE:GREGORIAN
X-WR-TIMEZONE:Europe/Berlin
BEGIN:VTIMEZONE
TZID:Europe/Berlin
X-LIC-LOCATION:Europe/Berlin
BEGIN:DAYLIGHT
TZOFFSETFROM:+0100
TZOFFSETTO:+0200
TZNAME:CEST
DTSTART:19700329T020000
RRULE:FREQ=YEARLY;INTERVAL=1;BYDAY=-1SU;BYMONTH=3
END:DAYLIGHT
BEGIN:STANDARD
TZOFFSETFROM:+0200
TZOFFSETTO:+0100
TZNAME:CET
DTSTART:19701025T030000
RRULE:FREQ=YEARLY;INTERVAL=1;BYDAY=-1SU;BYMONTH=10
END:STANDARD
END:VTIMEZONE
BEGIN:VEVENT
DTSTAMP:20260420T175347
DTSTART;TZID=Europe/Berlin:20260807T162000
DTEND;TZID=Europe/Berlin:20260807T172000
UID:262W142501-20260807T162000@BERGISCHE VHS
SUMMARY:Pilates und Core-Training (262W142501) 
LOCATION:VHS Auer Schulstraße; Raum A023; W-Elberfeld, Auer Schulstr. 20, 42103 Wuppertal
END:VEVENT
BEGIN:VEVENT
DTSTAMP:20260420T175347
DTSTART;TZID=Europe/Berlin:20260814T162000
DTEND;TZID=Europe/Berlin:20260814T172000
UID:262W142501-20260814T162000@BERGISCHE VHS
SUMMARY:Pilates und Core-Training (262W142501) 
LOCATION:VHS Auer Schulstraße; Raum A023; W-Elberfeld, Auer Schulstr. 20, 42103 Wuppertal
END:VEVENT
BEGIN:VEVENT
DTSTAMP:20260420T175347
DTSTART;TZID=Europe/Berlin:20260821T162000
DTEND;TZID=Europe/Berlin:20260821T172000
UID:262W142501-20260821T162000@BERGISCHE VHS
SUMMARY:Pilates und Core-Training (262W142501) 
LOCATION:VHS Auer Schulstraße; Raum A023; W-Elberfeld, Auer Schulstr. 20, 42103 Wuppertal
END:VEVENT
BEGIN:VEVENT
DTSTAMP:20260420T175347
DTSTART;TZID=Europe/Berlin:20260828T162000
DTEND;TZID=Europe/Berlin:20260828T172000
UID:262W142501-20260828T162000@BERGISCHE VHS
SUMMARY:Pilates und Core-Training (262W142501) 
LOCATION:VHS Auer Schulstraße; Raum A023; W-Elberfeld, Auer Schulstr. 20, 42103 Wuppertal
END:VEVENT
END:VCALENDAR