BEGIN:VCALENDAR
VERSION:2.0
PRODID:https://www.kufer.de/kuferweb / DE
METHOD:PUBLISH
CALSCALE:GREGORIAN
X-WR-TIMEZONE:Europe/Berlin
BEGIN:VTIMEZONE
TZID:Europe/Berlin
X-LIC-LOCATION:Europe/Berlin
BEGIN:DAYLIGHT
TZOFFSETFROM:+0100
TZOFFSETTO:+0200
TZNAME:CEST
DTSTART:19700329T020000
RRULE:FREQ=YEARLY;INTERVAL=1;BYDAY=-1SU;BYMONTH=3
END:DAYLIGHT
BEGIN:STANDARD
TZOFFSETFROM:+0200
TZOFFSETTO:+0100
TZNAME:CET
DTSTART:19701025T030000
RRULE:FREQ=YEARLY;INTERVAL=1;BYDAY=-1SU;BYMONTH=10
END:STANDARD
END:VTIMEZONE
BEGIN:VEVENT
DTSTAMP:20260421T175206
DTSTART;TZID=Europe/Berlin:20260807T151000
DTEND;TZID=Europe/Berlin:20260807T161000
UID:262W142500-20260807T151000@BERGISCHE VHS
SUMMARY:Pilates und Core-Training (262W142500) 
LOCATION:VHS Auer Schulstraße; Raum A023; W-Elberfeld, Auer Schulstr. 20, 42103 Wuppertal
END:VEVENT
BEGIN:VEVENT
DTSTAMP:20260421T175206
DTSTART;TZID=Europe/Berlin:20260814T151000
DTEND;TZID=Europe/Berlin:20260814T161000
UID:262W142500-20260814T151000@BERGISCHE VHS
SUMMARY:Pilates und Core-Training (262W142500) 
LOCATION:VHS Auer Schulstraße; Raum A023; W-Elberfeld, Auer Schulstr. 20, 42103 Wuppertal
END:VEVENT
BEGIN:VEVENT
DTSTAMP:20260421T175206
DTSTART;TZID=Europe/Berlin:20260821T151000
DTEND;TZID=Europe/Berlin:20260821T161000
UID:262W142500-20260821T151000@BERGISCHE VHS
SUMMARY:Pilates und Core-Training (262W142500) 
LOCATION:VHS Auer Schulstraße; Raum A023; W-Elberfeld, Auer Schulstr. 20, 42103 Wuppertal
END:VEVENT
BEGIN:VEVENT
DTSTAMP:20260421T175206
DTSTART;TZID=Europe/Berlin:20260828T151000
DTEND;TZID=Europe/Berlin:20260828T161000
UID:262W142500-20260828T151000@BERGISCHE VHS
SUMMARY:Pilates und Core-Training (262W142500) 
LOCATION:VHS Auer Schulstraße; Raum A023; W-Elberfeld, Auer Schulstr. 20, 42103 Wuppertal
END:VEVENT
END:VCALENDAR