BEGIN:VCALENDAR
VERSION:2.0
PRODID:https://www.kufer.de/kuferweb / DE
METHOD:PUBLISH
CALSCALE:GREGORIAN
X-WR-TIMEZONE:Europe/Berlin
BEGIN:VTIMEZONE
TZID:Europe/Berlin
X-LIC-LOCATION:Europe/Berlin
BEGIN:DAYLIGHT
TZOFFSETFROM:+0100
TZOFFSETTO:+0200
TZNAME:CEST
DTSTART:19700329T020000
RRULE:FREQ=YEARLY;INTERVAL=1;BYDAY=-1SU;BYMONTH=3
END:DAYLIGHT
BEGIN:STANDARD
TZOFFSETFROM:+0200
TZOFFSETTO:+0100
TZNAME:CET
DTSTART:19701025T030000
RRULE:FREQ=YEARLY;INTERVAL=1;BYDAY=-1SU;BYMONTH=10
END:STANDARD
END:VTIMEZONE
BEGIN:VEVENT
DTSTAMP:20260424T112208
DTSTART;TZID=Europe/Berlin:20260810T150000
DTEND;TZID=Europe/Berlin:20260810T180000
UID:262W135410-20260810T150000@BERGISCHE VHS
SUMMARY:Sommerferien: B1-Crashkurs Buch: Kontext B1 express (262W135410) 
LOCATION:VHS Auer Schulstraße; Raum A108; W-Elberfeld, Auer Schulstr. 20, 42103 Wuppertal
END:VEVENT
BEGIN:VEVENT
DTSTAMP:20260424T112208
DTSTART;TZID=Europe/Berlin:20260811T150000
DTEND;TZID=Europe/Berlin:20260811T180000
UID:262W135410-20260811T150000@BERGISCHE VHS
SUMMARY:Sommerferien: B1-Crashkurs Buch: Kontext B1 express (262W135410) 
LOCATION:VHS Auer Schulstraße; Raum A108; W-Elberfeld, Auer Schulstr. 20, 42103 Wuppertal
END:VEVENT
BEGIN:VEVENT
DTSTAMP:20260424T112208
DTSTART;TZID=Europe/Berlin:20260812T150000
DTEND;TZID=Europe/Berlin:20260812T180000
UID:262W135410-20260812T150000@BERGISCHE VHS
SUMMARY:Sommerferien: B1-Crashkurs Buch: Kontext B1 express (262W135410) 
LOCATION:VHS Auer Schulstraße; Raum A108; W-Elberfeld, Auer Schulstr. 20, 42103 Wuppertal
END:VEVENT
BEGIN:VEVENT
DTSTAMP:20260424T112208
DTSTART;TZID=Europe/Berlin:20260813T150000
DTEND;TZID=Europe/Berlin:20260813T180000
UID:262W135410-20260813T150000@BERGISCHE VHS
SUMMARY:Sommerferien: B1-Crashkurs Buch: Kontext B1 express (262W135410) 
LOCATION:VHS Auer Schulstraße; Raum A108; W-Elberfeld, Auer Schulstr. 20, 42103 Wuppertal
END:VEVENT
BEGIN:VEVENT
DTSTAMP:20260424T112208
DTSTART;TZID=Europe/Berlin:20260814T150000
DTEND;TZID=Europe/Berlin:20260814T180000
UID:262W135410-20260814T150000@BERGISCHE VHS
SUMMARY:Sommerferien: B1-Crashkurs Buch: Kontext B1 express (262W135410) 
LOCATION:VHS Auer Schulstraße; Raum A108; W-Elberfeld, Auer Schulstr. 20, 42103 Wuppertal
END:VEVENT
BEGIN:VEVENT
DTSTAMP:20260424T112208
DTSTART;TZID=Europe/Berlin:20260817T150000
DTEND;TZID=Europe/Berlin:20260817T180000
UID:262W135410-20260817T150000@BERGISCHE VHS
SUMMARY:Sommerferien: B1-Crashkurs Buch: Kontext B1 express (262W135410) 
LOCATION:VHS Auer Schulstraße; Raum A108; W-Elberfeld, Auer Schulstr. 20, 42103 Wuppertal
END:VEVENT
BEGIN:VEVENT
DTSTAMP:20260424T112208
DTSTART;TZID=Europe/Berlin:20260818T150000
DTEND;TZID=Europe/Berlin:20260818T180000
UID:262W135410-20260818T150000@BERGISCHE VHS
SUMMARY:Sommerferien: B1-Crashkurs Buch: Kontext B1 express (262W135410) 
LOCATION:VHS Auer Schulstraße; Raum A108; W-Elberfeld, Auer Schulstr. 20, 42103 Wuppertal
END:VEVENT
BEGIN:VEVENT
DTSTAMP:20260424T112208
DTSTART;TZID=Europe/Berlin:20260819T150000
DTEND;TZID=Europe/Berlin:20260819T180000
UID:262W135410-20260819T150000@BERGISCHE VHS
SUMMARY:Sommerferien: B1-Crashkurs Buch: Kontext B1 express (262W135410) 
LOCATION:VHS Auer Schulstraße; Raum A108; W-Elberfeld, Auer Schulstr. 20, 42103 Wuppertal
END:VEVENT
BEGIN:VEVENT
DTSTAMP:20260424T112208
DTSTART;TZID=Europe/Berlin:20260820T150000
DTEND;TZID=Europe/Berlin:20260820T180000
UID:262W135410-20260820T150000@BERGISCHE VHS
SUMMARY:Sommerferien: B1-Crashkurs Buch: Kontext B1 express (262W135410) 
LOCATION:VHS Auer Schulstraße; Raum A108; W-Elberfeld, Auer Schulstr. 20, 42103 Wuppertal
END:VEVENT
BEGIN:VEVENT
DTSTAMP:20260424T112208
DTSTART;TZID=Europe/Berlin:20260821T150000
DTEND;TZID=Europe/Berlin:20260821T180000
UID:262W135410-20260821T150000@BERGISCHE VHS
SUMMARY:Sommerferien: B1-Crashkurs Buch: Kontext B1 express (262W135410) 
LOCATION:VHS Auer Schulstraße; Raum A108; W-Elberfeld, Auer Schulstr. 20, 42103 Wuppertal
END:VEVENT
BEGIN:VEVENT
DTSTAMP:20260424T112208
DTSTART;TZID=Europe/Berlin:20260824T150000
DTEND;TZID=Europe/Berlin:20260824T180000
UID:262W135410-20260824T150000@BERGISCHE VHS
SUMMARY:Sommerferien: B1-Crashkurs Buch: Kontext B1 express (262W135410) 
LOCATION:VHS Auer Schulstraße; Raum A108; W-Elberfeld, Auer Schulstr. 20, 42103 Wuppertal
END:VEVENT
BEGIN:VEVENT
DTSTAMP:20260424T112208
DTSTART;TZID=Europe/Berlin:20260825T150000
DTEND;TZID=Europe/Berlin:20260825T180000
UID:262W135410-20260825T150000@BERGISCHE VHS
SUMMARY:Sommerferien: B1-Crashkurs Buch: Kontext B1 express (262W135410) 
LOCATION:VHS Auer Schulstraße; Raum A108; W-Elberfeld, Auer Schulstr. 20, 42103 Wuppertal
END:VEVENT
BEGIN:VEVENT
DTSTAMP:20260424T112208
DTSTART;TZID=Europe/Berlin:20260826T150000
DTEND;TZID=Europe/Berlin:20260826T180000
UID:262W135410-20260826T150000@BERGISCHE VHS
SUMMARY:Sommerferien: B1-Crashkurs Buch: Kontext B1 express (262W135410) 
LOCATION:VHS Auer Schulstraße; Raum A108; W-Elberfeld, Auer Schulstr. 20, 42103 Wuppertal
END:VEVENT
BEGIN:VEVENT
DTSTAMP:20260424T112208
DTSTART;TZID=Europe/Berlin:20260827T150000
DTEND;TZID=Europe/Berlin:20260827T180000
UID:262W135410-20260827T150000@BERGISCHE VHS
SUMMARY:Sommerferien: B1-Crashkurs Buch: Kontext B1 express (262W135410) 
LOCATION:VHS Auer Schulstraße; Raum A108; W-Elberfeld, Auer Schulstr. 20, 42103 Wuppertal
END:VEVENT
BEGIN:VEVENT
DTSTAMP:20260424T112208
DTSTART;TZID=Europe/Berlin:20260828T150000
DTEND;TZID=Europe/Berlin:20260828T180000
UID:262W135410-20260828T150000@BERGISCHE VHS
SUMMARY:Sommerferien: B1-Crashkurs Buch: Kontext B1 express (262W135410) 
LOCATION:VHS Auer Schulstraße; Raum A108; W-Elberfeld, Auer Schulstr. 20, 42103 Wuppertal
END:VEVENT
END:VCALENDAR