BEGIN:VCALENDAR
VERSION:2.0
PRODID:https://www.kufer.de/kuferweb / DE
METHOD:PUBLISH
CALSCALE:GREGORIAN
X-WR-TIMEZONE:Europe/Berlin
BEGIN:VTIMEZONE
TZID:Europe/Berlin
X-LIC-LOCATION:Europe/Berlin
BEGIN:DAYLIGHT
TZOFFSETFROM:+0100
TZOFFSETTO:+0200
TZNAME:CEST
DTSTART:19700329T020000
RRULE:FREQ=YEARLY;INTERVAL=1;BYDAY=-1SU;BYMONTH=3
END:DAYLIGHT
BEGIN:STANDARD
TZOFFSETFROM:+0200
TZOFFSETTO:+0100
TZNAME:CET
DTSTART:19701025T030000
RRULE:FREQ=YEARLY;INTERVAL=1;BYDAY=-1SU;BYMONTH=10
END:STANDARD
END:VTIMEZONE
BEGIN:VEVENT
DTSTAMP:20260422T160952
DTSTART;TZID=Europe/Berlin:20261128T143000
DTEND;TZID=Europe/Berlin:20261128T173000
UID:262S344817-20261128T143000@BERGISCHE VHS
SUMMARY:NEU: Es muss nicht immer Fastfood sein - tolle Gerichte jenseits von Pommes und Döner Für Kinder und Jugendliche von 9 bis 15 Jahren (262S344817) 
LOCATION:VHS Birkenweiher; Raum 8/9 Küche; SG-Mitte, Birkenweiher 66, 42651 Solingen
END:VEVENT
END:VCALENDAR