BEGIN:VCALENDAR
VERSION:2.0
PRODID:https://www.kufer.de/kuferweb / DE
METHOD:PUBLISH
CALSCALE:GREGORIAN
X-WR-TIMEZONE:Europe/Berlin
BEGIN:VTIMEZONE
TZID:Europe/Berlin
X-LIC-LOCATION:Europe/Berlin
BEGIN:DAYLIGHT
TZOFFSETFROM:+0100
TZOFFSETTO:+0200
TZNAME:CEST
DTSTART:19700329T020000
RRULE:FREQ=YEARLY;INTERVAL=1;BYDAY=-1SU;BYMONTH=3
END:DAYLIGHT
BEGIN:STANDARD
TZOFFSETFROM:+0200
TZOFFSETTO:+0100
TZNAME:CET
DTSTART:19701025T030000
RRULE:FREQ=YEARLY;INTERVAL=1;BYDAY=-1SU;BYMONTH=10
END:STANDARD
END:VTIMEZONE
BEGIN:VEVENT
DTSTAMP:20260424T201459
DTSTART;TZID=Europe/Berlin:20260907T174500
DTEND;TZID=Europe/Berlin:20260907T191500
UID:262S156402-20260907T174500@BERGISCHE VHS
SUMMARY:Englisch Aufbaustufe 1 - B1 Wiederholung und Auffrischung (262S156402) 
LOCATION:VHS Mummstraße 10; Raum 314; SG-Mitte, Mummstr. 10, 42651 Solingen
END:VEVENT
BEGIN:VEVENT
DTSTAMP:20260424T201459
DTSTART;TZID=Europe/Berlin:20260914T174500
DTEND;TZID=Europe/Berlin:20260914T191500
UID:262S156402-20260914T174500@BERGISCHE VHS
SUMMARY:Englisch Aufbaustufe 1 - B1 Wiederholung und Auffrischung (262S156402) 
LOCATION:VHS Mummstraße 10; Raum 314; SG-Mitte, Mummstr. 10, 42651 Solingen
END:VEVENT
BEGIN:VEVENT
DTSTAMP:20260424T201459
DTSTART;TZID=Europe/Berlin:20260921T174500
DTEND;TZID=Europe/Berlin:20260921T191500
UID:262S156402-20260921T174500@BERGISCHE VHS
SUMMARY:Englisch Aufbaustufe 1 - B1 Wiederholung und Auffrischung (262S156402) 
LOCATION:VHS Mummstraße 10; Raum 314; SG-Mitte, Mummstr. 10, 42651 Solingen
END:VEVENT
BEGIN:VEVENT
DTSTAMP:20260424T201459
DTSTART;TZID=Europe/Berlin:20260928T174500
DTEND;TZID=Europe/Berlin:20260928T191500
UID:262S156402-20260928T174500@BERGISCHE VHS
SUMMARY:Englisch Aufbaustufe 1 - B1 Wiederholung und Auffrischung (262S156402) 
LOCATION:VHS Mummstraße 10; Raum 314; SG-Mitte, Mummstr. 10, 42651 Solingen
END:VEVENT
BEGIN:VEVENT
DTSTAMP:20260424T201459
DTSTART;TZID=Europe/Berlin:20261005T174500
DTEND;TZID=Europe/Berlin:20261005T191500
UID:262S156402-20261005T174500@BERGISCHE VHS
SUMMARY:Englisch Aufbaustufe 1 - B1 Wiederholung und Auffrischung (262S156402) 
LOCATION:VHS Mummstraße 10; Raum 314; SG-Mitte, Mummstr. 10, 42651 Solingen
END:VEVENT
BEGIN:VEVENT
DTSTAMP:20260424T201459
DTSTART;TZID=Europe/Berlin:20261012T174500
DTEND;TZID=Europe/Berlin:20261012T191500
UID:262S156402-20261012T174500@BERGISCHE VHS
SUMMARY:Englisch Aufbaustufe 1 - B1 Wiederholung und Auffrischung (262S156402) 
LOCATION:VHS Mummstraße 10; Raum 314; SG-Mitte, Mummstr. 10, 42651 Solingen
END:VEVENT
BEGIN:VEVENT
DTSTAMP:20260424T201459
DTSTART;TZID=Europe/Berlin:20261102T174500
DTEND;TZID=Europe/Berlin:20261102T191500
UID:262S156402-20261102T174500@BERGISCHE VHS
SUMMARY:Englisch Aufbaustufe 1 - B1 Wiederholung und Auffrischung (262S156402) 
LOCATION:VHS Mummstraße 10; Raum 314; SG-Mitte, Mummstr. 10, 42651 Solingen
END:VEVENT
BEGIN:VEVENT
DTSTAMP:20260424T201459
DTSTART;TZID=Europe/Berlin:20261109T174500
DTEND;TZID=Europe/Berlin:20261109T191500
UID:262S156402-20261109T174500@BERGISCHE VHS
SUMMARY:Englisch Aufbaustufe 1 - B1 Wiederholung und Auffrischung (262S156402) 
LOCATION:VHS Mummstraße 10; Raum 314; SG-Mitte, Mummstr. 10, 42651 Solingen
END:VEVENT
BEGIN:VEVENT
DTSTAMP:20260424T201459
DTSTART;TZID=Europe/Berlin:20261116T174500
DTEND;TZID=Europe/Berlin:20261116T191500
UID:262S156402-20261116T174500@BERGISCHE VHS
SUMMARY:Englisch Aufbaustufe 1 - B1 Wiederholung und Auffrischung (262S156402) 
LOCATION:VHS Mummstraße 10; Raum 314; SG-Mitte, Mummstr. 10, 42651 Solingen
END:VEVENT
BEGIN:VEVENT
DTSTAMP:20260424T201459
DTSTART;TZID=Europe/Berlin:20261123T174500
DTEND;TZID=Europe/Berlin:20261123T191500
UID:262S156402-20261123T174500@BERGISCHE VHS
SUMMARY:Englisch Aufbaustufe 1 - B1 Wiederholung und Auffrischung (262S156402) 
LOCATION:VHS Mummstraße 10; Raum 314; SG-Mitte, Mummstr. 10, 42651 Solingen
END:VEVENT
BEGIN:VEVENT
DTSTAMP:20260424T201459
DTSTART;TZID=Europe/Berlin:20261130T174500
DTEND;TZID=Europe/Berlin:20261130T191500
UID:262S156402-20261130T174500@BERGISCHE VHS
SUMMARY:Englisch Aufbaustufe 1 - B1 Wiederholung und Auffrischung (262S156402) 
LOCATION:VHS Mummstraße 10; Raum 314; SG-Mitte, Mummstr. 10, 42651 Solingen
END:VEVENT
BEGIN:VEVENT
DTSTAMP:20260424T201459
DTSTART;TZID=Europe/Berlin:20261207T174500
DTEND;TZID=Europe/Berlin:20261207T191500
UID:262S156402-20261207T174500@BERGISCHE VHS
SUMMARY:Englisch Aufbaustufe 1 - B1 Wiederholung und Auffrischung (262S156402) 
LOCATION:VHS Mummstraße 10; Raum 314; SG-Mitte, Mummstr. 10, 42651 Solingen
END:VEVENT
END:VCALENDAR