BEGIN:VCALENDAR
VERSION:2.0
PRODID:https://www.kufer.de/kuferweb / DE
METHOD:PUBLISH
CALSCALE:GREGORIAN
X-WR-TIMEZONE:Europe/Berlin
BEGIN:VTIMEZONE
TZID:Europe/Berlin
X-LIC-LOCATION:Europe/Berlin
BEGIN:DAYLIGHT
TZOFFSETFROM:+0100
TZOFFSETTO:+0200
TZNAME:CEST
DTSTART:19700329T020000
RRULE:FREQ=YEARLY;INTERVAL=1;BYDAY=-1SU;BYMONTH=3
END:DAYLIGHT
BEGIN:STANDARD
TZOFFSETFROM:+0200
TZOFFSETTO:+0100
TZNAME:CET
DTSTART:19701025T030000
RRULE:FREQ=YEARLY;INTERVAL=1;BYDAY=-1SU;BYMONTH=10
END:STANDARD
END:VTIMEZONE
BEGIN:VEVENT
DTSTAMP:20260424T104836
DTSTART;TZID=Europe/Berlin:20260910T184500
DTEND;TZID=Europe/Berlin:20260910T201500
UID:262S156204-20260910T184500@BERGISCHE VHS
SUMMARY:Englisch 4 - A1  Let's enjoy English - A1.1 (Klett) (262S156204) 
LOCATION:VHS Mummstraße 10; Raum 314; SG-Mitte, Mummstr. 10, 42651 Solingen
END:VEVENT
BEGIN:VEVENT
DTSTAMP:20260424T104836
DTSTART;TZID=Europe/Berlin:20260917T184500
DTEND;TZID=Europe/Berlin:20260917T201500
UID:262S156204-20260917T184500@BERGISCHE VHS
SUMMARY:Englisch 4 - A1  Let's enjoy English - A1.1 (Klett) (262S156204) 
LOCATION:VHS Mummstraße 10; Raum 314; SG-Mitte, Mummstr. 10, 42651 Solingen
END:VEVENT
BEGIN:VEVENT
DTSTAMP:20260424T104836
DTSTART;TZID=Europe/Berlin:20260924T184500
DTEND;TZID=Europe/Berlin:20260924T201500
UID:262S156204-20260924T184500@BERGISCHE VHS
SUMMARY:Englisch 4 - A1  Let's enjoy English - A1.1 (Klett) (262S156204) 
LOCATION:VHS Mummstraße 10; Raum 314; SG-Mitte, Mummstr. 10, 42651 Solingen
END:VEVENT
BEGIN:VEVENT
DTSTAMP:20260424T104836
DTSTART;TZID=Europe/Berlin:20261001T184500
DTEND;TZID=Europe/Berlin:20261001T201500
UID:262S156204-20261001T184500@BERGISCHE VHS
SUMMARY:Englisch 4 - A1  Let's enjoy English - A1.1 (Klett) (262S156204) 
LOCATION:VHS Mummstraße 10; Raum 314; SG-Mitte, Mummstr. 10, 42651 Solingen
END:VEVENT
BEGIN:VEVENT
DTSTAMP:20260424T104836
DTSTART;TZID=Europe/Berlin:20261008T184500
DTEND;TZID=Europe/Berlin:20261008T201500
UID:262S156204-20261008T184500@BERGISCHE VHS
SUMMARY:Englisch 4 - A1  Let's enjoy English - A1.1 (Klett) (262S156204) 
LOCATION:VHS Mummstraße 10; Raum 314; SG-Mitte, Mummstr. 10, 42651 Solingen
END:VEVENT
BEGIN:VEVENT
DTSTAMP:20260424T104836
DTSTART;TZID=Europe/Berlin:20261015T184500
DTEND;TZID=Europe/Berlin:20261015T201500
UID:262S156204-20261015T184500@BERGISCHE VHS
SUMMARY:Englisch 4 - A1  Let's enjoy English - A1.1 (Klett) (262S156204) 
LOCATION:VHS Mummstraße 10; Raum 314; SG-Mitte, Mummstr. 10, 42651 Solingen
END:VEVENT
BEGIN:VEVENT
DTSTAMP:20260424T104836
DTSTART;TZID=Europe/Berlin:20261105T184500
DTEND;TZID=Europe/Berlin:20261105T201500
UID:262S156204-20261105T184500@BERGISCHE VHS
SUMMARY:Englisch 4 - A1  Let's enjoy English - A1.1 (Klett) (262S156204) 
LOCATION:VHS Mummstraße 10; Raum 314; SG-Mitte, Mummstr. 10, 42651 Solingen
END:VEVENT
BEGIN:VEVENT
DTSTAMP:20260424T104836
DTSTART;TZID=Europe/Berlin:20261112T184500
DTEND;TZID=Europe/Berlin:20261112T201500
UID:262S156204-20261112T184500@BERGISCHE VHS
SUMMARY:Englisch 4 - A1  Let's enjoy English - A1.1 (Klett) (262S156204) 
LOCATION:VHS Mummstraße 10; Raum 314; SG-Mitte, Mummstr. 10, 42651 Solingen
END:VEVENT
BEGIN:VEVENT
DTSTAMP:20260424T104836
DTSTART;TZID=Europe/Berlin:20261119T184500
DTEND;TZID=Europe/Berlin:20261119T201500
UID:262S156204-20261119T184500@BERGISCHE VHS
SUMMARY:Englisch 4 - A1  Let's enjoy English - A1.1 (Klett) (262S156204) 
LOCATION:VHS Mummstraße 10; Raum 314; SG-Mitte, Mummstr. 10, 42651 Solingen
END:VEVENT
BEGIN:VEVENT
DTSTAMP:20260424T104836
DTSTART;TZID=Europe/Berlin:20261126T184500
DTEND;TZID=Europe/Berlin:20261126T201500
UID:262S156204-20261126T184500@BERGISCHE VHS
SUMMARY:Englisch 4 - A1  Let's enjoy English - A1.1 (Klett) (262S156204) 
LOCATION:VHS Mummstraße 10; Raum 314; SG-Mitte, Mummstr. 10, 42651 Solingen
END:VEVENT
BEGIN:VEVENT
DTSTAMP:20260424T104836
DTSTART;TZID=Europe/Berlin:20261203T184500
DTEND;TZID=Europe/Berlin:20261203T201500
UID:262S156204-20261203T184500@BERGISCHE VHS
SUMMARY:Englisch 4 - A1  Let's enjoy English - A1.1 (Klett) (262S156204) 
LOCATION:VHS Mummstraße 10; Raum 314; SG-Mitte, Mummstr. 10, 42651 Solingen
END:VEVENT
BEGIN:VEVENT
DTSTAMP:20260424T104836
DTSTART;TZID=Europe/Berlin:20261210T184500
DTEND;TZID=Europe/Berlin:20261210T201500
UID:262S156204-20261210T184500@BERGISCHE VHS
SUMMARY:Englisch 4 - A1  Let's enjoy English - A1.1 (Klett) (262S156204) 
LOCATION:VHS Mummstraße 10; Raum 314; SG-Mitte, Mummstr. 10, 42651 Solingen
END:VEVENT
END:VCALENDAR