BEGIN:VCALENDAR
VERSION:2.0
PRODID:https://www.kufer.de/kuferweb / DE
METHOD:PUBLISH
CALSCALE:GREGORIAN
X-WR-TIMEZONE:Europe/Berlin
BEGIN:VTIMEZONE
TZID:Europe/Berlin
X-LIC-LOCATION:Europe/Berlin
BEGIN:DAYLIGHT
TZOFFSETFROM:+0100
TZOFFSETTO:+0200
TZNAME:CEST
DTSTART:19700329T020000
RRULE:FREQ=YEARLY;INTERVAL=1;BYDAY=-1SU;BYMONTH=3
END:DAYLIGHT
BEGIN:STANDARD
TZOFFSETFROM:+0200
TZOFFSETTO:+0100
TZNAME:CET
DTSTART:19701025T030000
RRULE:FREQ=YEARLY;INTERVAL=1;BYDAY=-1SU;BYMONTH=10
END:STANDARD
END:VTIMEZONE
BEGIN:VEVENT
DTSTAMP:20260424T104924
DTSTART;TZID=Europe/Berlin:20260909T083000
DTEND;TZID=Europe/Berlin:20260909T100000
UID:262S156078-20260909T083000@BERGISCHE VHS
SUMMARY:Conversation - C1 (262S156078) 
LOCATION:VHS Mummstraße 10; Raum 318; SG-Mitte, Mummstr. 10, 42651 Solingen
END:VEVENT
BEGIN:VEVENT
DTSTAMP:20260424T104924
DTSTART;TZID=Europe/Berlin:20260916T083000
DTEND;TZID=Europe/Berlin:20260916T100000
UID:262S156078-20260916T083000@BERGISCHE VHS
SUMMARY:Conversation - C1 (262S156078) 
LOCATION:VHS Mummstraße 10; Raum 318; SG-Mitte, Mummstr. 10, 42651 Solingen
END:VEVENT
BEGIN:VEVENT
DTSTAMP:20260424T104924
DTSTART;TZID=Europe/Berlin:20260923T083000
DTEND;TZID=Europe/Berlin:20260923T100000
UID:262S156078-20260923T083000@BERGISCHE VHS
SUMMARY:Conversation - C1 (262S156078) 
LOCATION:VHS Mummstraße 10; Raum 318; SG-Mitte, Mummstr. 10, 42651 Solingen
END:VEVENT
BEGIN:VEVENT
DTSTAMP:20260424T104924
DTSTART;TZID=Europe/Berlin:20260930T083000
DTEND;TZID=Europe/Berlin:20260930T100000
UID:262S156078-20260930T083000@BERGISCHE VHS
SUMMARY:Conversation - C1 (262S156078) 
LOCATION:VHS Mummstraße 10; Raum 318; SG-Mitte, Mummstr. 10, 42651 Solingen
END:VEVENT
BEGIN:VEVENT
DTSTAMP:20260424T104924
DTSTART;TZID=Europe/Berlin:20261007T083000
DTEND;TZID=Europe/Berlin:20261007T100000
UID:262S156078-20261007T083000@BERGISCHE VHS
SUMMARY:Conversation - C1 (262S156078) 
LOCATION:VHS Mummstraße 10; Raum 318; SG-Mitte, Mummstr. 10, 42651 Solingen
END:VEVENT
BEGIN:VEVENT
DTSTAMP:20260424T104924
DTSTART;TZID=Europe/Berlin:20261014T083000
DTEND;TZID=Europe/Berlin:20261014T100000
UID:262S156078-20261014T083000@BERGISCHE VHS
SUMMARY:Conversation - C1 (262S156078) 
LOCATION:VHS Mummstraße 10; Raum 318; SG-Mitte, Mummstr. 10, 42651 Solingen
END:VEVENT
BEGIN:VEVENT
DTSTAMP:20260424T104924
DTSTART;TZID=Europe/Berlin:20261104T083000
DTEND;TZID=Europe/Berlin:20261104T100000
UID:262S156078-20261104T083000@BERGISCHE VHS
SUMMARY:Conversation - C1 (262S156078) 
LOCATION:VHS Mummstraße 10; Raum 318; SG-Mitte, Mummstr. 10, 42651 Solingen
END:VEVENT
BEGIN:VEVENT
DTSTAMP:20260424T104924
DTSTART;TZID=Europe/Berlin:20261111T083000
DTEND;TZID=Europe/Berlin:20261111T100000
UID:262S156078-20261111T083000@BERGISCHE VHS
SUMMARY:Conversation - C1 (262S156078) 
LOCATION:VHS Mummstraße 10; Raum 318; SG-Mitte, Mummstr. 10, 42651 Solingen
END:VEVENT
BEGIN:VEVENT
DTSTAMP:20260424T104924
DTSTART;TZID=Europe/Berlin:20261118T083000
DTEND;TZID=Europe/Berlin:20261118T100000
UID:262S156078-20261118T083000@BERGISCHE VHS
SUMMARY:Conversation - C1 (262S156078) 
LOCATION:VHS Mummstraße 10; Raum 318; SG-Mitte, Mummstr. 10, 42651 Solingen
END:VEVENT
BEGIN:VEVENT
DTSTAMP:20260424T104924
DTSTART;TZID=Europe/Berlin:20261125T083000
DTEND;TZID=Europe/Berlin:20261125T100000
UID:262S156078-20261125T083000@BERGISCHE VHS
SUMMARY:Conversation - C1 (262S156078) 
LOCATION:VHS Mummstraße 10; Raum 318; SG-Mitte, Mummstr. 10, 42651 Solingen
END:VEVENT
BEGIN:VEVENT
DTSTAMP:20260424T104924
DTSTART;TZID=Europe/Berlin:20261202T083000
DTEND;TZID=Europe/Berlin:20261202T100000
UID:262S156078-20261202T083000@BERGISCHE VHS
SUMMARY:Conversation - C1 (262S156078) 
LOCATION:VHS Mummstraße 10; Raum 318; SG-Mitte, Mummstr. 10, 42651 Solingen
END:VEVENT
BEGIN:VEVENT
DTSTAMP:20260424T104924
DTSTART;TZID=Europe/Berlin:20261209T083000
DTEND;TZID=Europe/Berlin:20261209T100000
UID:262S156078-20261209T083000@BERGISCHE VHS
SUMMARY:Conversation - C1 (262S156078) 
LOCATION:VHS Mummstraße 10; Raum 318; SG-Mitte, Mummstr. 10, 42651 Solingen
END:VEVENT
END:VCALENDAR