BEGIN:VCALENDAR
VERSION:2.0
PRODID:https://www.kufer.de/kuferweb / DE
METHOD:PUBLISH
CALSCALE:GREGORIAN
X-WR-TIMEZONE:Europe/Berlin
BEGIN:VTIMEZONE
TZID:Europe/Berlin
X-LIC-LOCATION:Europe/Berlin
BEGIN:DAYLIGHT
TZOFFSETFROM:+0100
TZOFFSETTO:+0200
TZNAME:CEST
DTSTART:19700329T020000
RRULE:FREQ=YEARLY;INTERVAL=1;BYDAY=-1SU;BYMONTH=3
END:DAYLIGHT
BEGIN:STANDARD
TZOFFSETFROM:+0200
TZOFFSETTO:+0100
TZNAME:CET
DTSTART:19701025T030000
RRULE:FREQ=YEARLY;INTERVAL=1;BYDAY=-1SU;BYMONTH=10
END:STANDARD
END:VTIMEZONE
BEGIN:VEVENT
DTSTAMP:20260423T114359
DTSTART;TZID=Europe/Berlin:20260908T180000
DTEND;TZID=Europe/Berlin:20260908T193000
UID:262S154401-20260908T180000@BERGISCHE VHS
SUMMARY:Türkisch 1 - A1 Für Teilnehmer*innen ohne Vorkenntnisse (262S154401) 
LOCATION:VHS Mummstraße 10; Raum 331; SG-Mitte, Mummstr. 10, 42651 Solingen
END:VEVENT
BEGIN:VEVENT
DTSTAMP:20260423T114359
DTSTART;TZID=Europe/Berlin:20260915T180000
DTEND;TZID=Europe/Berlin:20260915T193000
UID:262S154401-20260915T180000@BERGISCHE VHS
SUMMARY:Türkisch 1 - A1 Für Teilnehmer*innen ohne Vorkenntnisse (262S154401) 
LOCATION:VHS Mummstraße 10; Raum 331; SG-Mitte, Mummstr. 10, 42651 Solingen
END:VEVENT
BEGIN:VEVENT
DTSTAMP:20260423T114359
DTSTART;TZID=Europe/Berlin:20260922T180000
DTEND;TZID=Europe/Berlin:20260922T193000
UID:262S154401-20260922T180000@BERGISCHE VHS
SUMMARY:Türkisch 1 - A1 Für Teilnehmer*innen ohne Vorkenntnisse (262S154401) 
LOCATION:VHS Mummstraße 10; Raum 331; SG-Mitte, Mummstr. 10, 42651 Solingen
END:VEVENT
BEGIN:VEVENT
DTSTAMP:20260423T114359
DTSTART;TZID=Europe/Berlin:20260929T180000
DTEND;TZID=Europe/Berlin:20260929T193000
UID:262S154401-20260929T180000@BERGISCHE VHS
SUMMARY:Türkisch 1 - A1 Für Teilnehmer*innen ohne Vorkenntnisse (262S154401) 
LOCATION:VHS Mummstraße 10; Raum 331; SG-Mitte, Mummstr. 10, 42651 Solingen
END:VEVENT
BEGIN:VEVENT
DTSTAMP:20260423T114359
DTSTART;TZID=Europe/Berlin:20261006T180000
DTEND;TZID=Europe/Berlin:20261006T193000
UID:262S154401-20261006T180000@BERGISCHE VHS
SUMMARY:Türkisch 1 - A1 Für Teilnehmer*innen ohne Vorkenntnisse (262S154401) 
LOCATION:VHS Mummstraße 10; Raum 331; SG-Mitte, Mummstr. 10, 42651 Solingen
END:VEVENT
BEGIN:VEVENT
DTSTAMP:20260423T114359
DTSTART;TZID=Europe/Berlin:20261013T180000
DTEND;TZID=Europe/Berlin:20261013T193000
UID:262S154401-20261013T180000@BERGISCHE VHS
SUMMARY:Türkisch 1 - A1 Für Teilnehmer*innen ohne Vorkenntnisse (262S154401) 
LOCATION:VHS Mummstraße 10; Raum 331; SG-Mitte, Mummstr. 10, 42651 Solingen
END:VEVENT
BEGIN:VEVENT
DTSTAMP:20260423T114359
DTSTART;TZID=Europe/Berlin:20261103T180000
DTEND;TZID=Europe/Berlin:20261103T193000
UID:262S154401-20261103T180000@BERGISCHE VHS
SUMMARY:Türkisch 1 - A1 Für Teilnehmer*innen ohne Vorkenntnisse (262S154401) 
LOCATION:VHS Mummstraße 10; Raum 331; SG-Mitte, Mummstr. 10, 42651 Solingen
END:VEVENT
BEGIN:VEVENT
DTSTAMP:20260423T114359
DTSTART;TZID=Europe/Berlin:20261110T180000
DTEND;TZID=Europe/Berlin:20261110T193000
UID:262S154401-20261110T180000@BERGISCHE VHS
SUMMARY:Türkisch 1 - A1 Für Teilnehmer*innen ohne Vorkenntnisse (262S154401) 
LOCATION:VHS Mummstraße 10; Raum 331; SG-Mitte, Mummstr. 10, 42651 Solingen
END:VEVENT
BEGIN:VEVENT
DTSTAMP:20260423T114359
DTSTART;TZID=Europe/Berlin:20261117T180000
DTEND;TZID=Europe/Berlin:20261117T193000
UID:262S154401-20261117T180000@BERGISCHE VHS
SUMMARY:Türkisch 1 - A1 Für Teilnehmer*innen ohne Vorkenntnisse (262S154401) 
LOCATION:VHS Mummstraße 10; Raum 331; SG-Mitte, Mummstr. 10, 42651 Solingen
END:VEVENT
BEGIN:VEVENT
DTSTAMP:20260423T114359
DTSTART;TZID=Europe/Berlin:20261124T180000
DTEND;TZID=Europe/Berlin:20261124T193000
UID:262S154401-20261124T180000@BERGISCHE VHS
SUMMARY:Türkisch 1 - A1 Für Teilnehmer*innen ohne Vorkenntnisse (262S154401) 
LOCATION:VHS Mummstraße 10; Raum 331; SG-Mitte, Mummstr. 10, 42651 Solingen
END:VEVENT
BEGIN:VEVENT
DTSTAMP:20260423T114359
DTSTART;TZID=Europe/Berlin:20261201T180000
DTEND;TZID=Europe/Berlin:20261201T193000
UID:262S154401-20261201T180000@BERGISCHE VHS
SUMMARY:Türkisch 1 - A1 Für Teilnehmer*innen ohne Vorkenntnisse (262S154401) 
LOCATION:VHS Mummstraße 10; Raum 331; SG-Mitte, Mummstr. 10, 42651 Solingen
END:VEVENT
BEGIN:VEVENT
DTSTAMP:20260423T114359
DTSTART;TZID=Europe/Berlin:20261208T180000
DTEND;TZID=Europe/Berlin:20261208T193000
UID:262S154401-20261208T180000@BERGISCHE VHS
SUMMARY:Türkisch 1 - A1 Für Teilnehmer*innen ohne Vorkenntnisse (262S154401) 
LOCATION:VHS Mummstraße 10; Raum 331; SG-Mitte, Mummstr. 10, 42651 Solingen
END:VEVENT
END:VCALENDAR