BEGIN:VCALENDAR
VERSION:2.0
PRODID:https://www.kufer.de/kuferweb / DE
METHOD:PUBLISH
CALSCALE:GREGORIAN
X-WR-TIMEZONE:Europe/Berlin
BEGIN:VTIMEZONE
TZID:Europe/Berlin
X-LIC-LOCATION:Europe/Berlin
BEGIN:DAYLIGHT
TZOFFSETFROM:+0100
TZOFFSETTO:+0200
TZNAME:CEST
DTSTART:19700329T020000
RRULE:FREQ=YEARLY;INTERVAL=1;BYDAY=-1SU;BYMONTH=3
END:DAYLIGHT
BEGIN:STANDARD
TZOFFSETFROM:+0200
TZOFFSETTO:+0100
TZNAME:CET
DTSTART:19701025T030000
RRULE:FREQ=YEARLY;INTERVAL=1;BYDAY=-1SU;BYMONTH=10
END:STANDARD
END:VTIMEZONE
BEGIN:VEVENT
DTSTAMP:20260421T205323
DTSTART;TZID=Europe/Berlin:20260902T170000
DTEND;TZID=Europe/Berlin:20260902T200000
UID:262S135905-20260902T170000@BERGISCHE VHS
SUMMARY:Daf Mittelstufe B2 B2 allgemein – Konversation, Grammatik, Schreiben (262S135905) 
LOCATION:VHS Mummstraße 10; Raum 319; SG-Mitte, Mummstr. 10, 42651 Solingen
END:VEVENT
BEGIN:VEVENT
DTSTAMP:20260421T205323
DTSTART;TZID=Europe/Berlin:20260905T170000
DTEND;TZID=Europe/Berlin:20260905T200000
UID:262S135905-20260905T170000@BERGISCHE VHS
SUMMARY:Daf Mittelstufe B2 B2 allgemein – Konversation, Grammatik, Schreiben (262S135905) 
LOCATION:VHS Mummstraße 10; Raum 319; SG-Mitte, Mummstr. 10, 42651 Solingen
END:VEVENT
BEGIN:VEVENT
DTSTAMP:20260421T205323
DTSTART;TZID=Europe/Berlin:20260909T170000
DTEND;TZID=Europe/Berlin:20260909T200000
UID:262S135905-20260909T170000@BERGISCHE VHS
SUMMARY:Daf Mittelstufe B2 B2 allgemein – Konversation, Grammatik, Schreiben (262S135905) 
LOCATION:VHS Mummstraße 10; Raum 319; SG-Mitte, Mummstr. 10, 42651 Solingen
END:VEVENT
BEGIN:VEVENT
DTSTAMP:20260421T205323
DTSTART;TZID=Europe/Berlin:20260912T170000
DTEND;TZID=Europe/Berlin:20260912T200000
UID:262S135905-20260912T170000@BERGISCHE VHS
SUMMARY:Daf Mittelstufe B2 B2 allgemein – Konversation, Grammatik, Schreiben (262S135905) 
LOCATION:VHS Mummstraße 10; Raum 319; SG-Mitte, Mummstr. 10, 42651 Solingen
END:VEVENT
BEGIN:VEVENT
DTSTAMP:20260421T205323
DTSTART;TZID=Europe/Berlin:20260916T170000
DTEND;TZID=Europe/Berlin:20260916T200000
UID:262S135905-20260916T170000@BERGISCHE VHS
SUMMARY:Daf Mittelstufe B2 B2 allgemein – Konversation, Grammatik, Schreiben (262S135905) 
LOCATION:VHS Mummstraße 10; Raum 319; SG-Mitte, Mummstr. 10, 42651 Solingen
END:VEVENT
BEGIN:VEVENT
DTSTAMP:20260421T205323
DTSTART;TZID=Europe/Berlin:20260919T170000
DTEND;TZID=Europe/Berlin:20260919T200000
UID:262S135905-20260919T170000@BERGISCHE VHS
SUMMARY:Daf Mittelstufe B2 B2 allgemein – Konversation, Grammatik, Schreiben (262S135905) 
LOCATION:VHS Mummstraße 10; Raum 319; SG-Mitte, Mummstr. 10, 42651 Solingen
END:VEVENT
BEGIN:VEVENT
DTSTAMP:20260421T205323
DTSTART;TZID=Europe/Berlin:20260923T170000
DTEND;TZID=Europe/Berlin:20260923T200000
UID:262S135905-20260923T170000@BERGISCHE VHS
SUMMARY:Daf Mittelstufe B2 B2 allgemein – Konversation, Grammatik, Schreiben (262S135905) 
LOCATION:VHS Mummstraße 10; Raum 319; SG-Mitte, Mummstr. 10, 42651 Solingen
END:VEVENT
BEGIN:VEVENT
DTSTAMP:20260421T205323
DTSTART;TZID=Europe/Berlin:20260926T170000
DTEND;TZID=Europe/Berlin:20260926T200000
UID:262S135905-20260926T170000@BERGISCHE VHS
SUMMARY:Daf Mittelstufe B2 B2 allgemein – Konversation, Grammatik, Schreiben (262S135905) 
LOCATION:VHS Mummstraße 10; Raum 319; SG-Mitte, Mummstr. 10, 42651 Solingen
END:VEVENT
BEGIN:VEVENT
DTSTAMP:20260421T205323
DTSTART;TZID=Europe/Berlin:20260930T170000
DTEND;TZID=Europe/Berlin:20260930T200000
UID:262S135905-20260930T170000@BERGISCHE VHS
SUMMARY:Daf Mittelstufe B2 B2 allgemein – Konversation, Grammatik, Schreiben (262S135905) 
LOCATION:VHS Mummstraße 10; Raum 319; SG-Mitte, Mummstr. 10, 42651 Solingen
END:VEVENT
BEGIN:VEVENT
DTSTAMP:20260421T205323
DTSTART;TZID=Europe/Berlin:20261007T170000
DTEND;TZID=Europe/Berlin:20261007T200000
UID:262S135905-20261007T170000@BERGISCHE VHS
SUMMARY:Daf Mittelstufe B2 B2 allgemein – Konversation, Grammatik, Schreiben (262S135905) 
LOCATION:VHS Mummstraße 10; Raum 319; SG-Mitte, Mummstr. 10, 42651 Solingen
END:VEVENT
BEGIN:VEVENT
DTSTAMP:20260421T205323
DTSTART;TZID=Europe/Berlin:20261010T170000
DTEND;TZID=Europe/Berlin:20261010T200000
UID:262S135905-20261010T170000@BERGISCHE VHS
SUMMARY:Daf Mittelstufe B2 B2 allgemein – Konversation, Grammatik, Schreiben (262S135905) 
LOCATION:VHS Mummstraße 10; Raum 319; SG-Mitte, Mummstr. 10, 42651 Solingen
END:VEVENT
BEGIN:VEVENT
DTSTAMP:20260421T205323
DTSTART;TZID=Europe/Berlin:20261014T170000
DTEND;TZID=Europe/Berlin:20261014T200000
UID:262S135905-20261014T170000@BERGISCHE VHS
SUMMARY:Daf Mittelstufe B2 B2 allgemein – Konversation, Grammatik, Schreiben (262S135905) 
LOCATION:VHS Mummstraße 10; Raum 319; SG-Mitte, Mummstr. 10, 42651 Solingen
END:VEVENT
BEGIN:VEVENT
DTSTAMP:20260421T205323
DTSTART;TZID=Europe/Berlin:20261104T170000
DTEND;TZID=Europe/Berlin:20261104T200000
UID:262S135905-20261104T170000@BERGISCHE VHS
SUMMARY:Daf Mittelstufe B2 B2 allgemein – Konversation, Grammatik, Schreiben (262S135905) 
LOCATION:VHS Mummstraße 10; Raum 319; SG-Mitte, Mummstr. 10, 42651 Solingen
END:VEVENT
BEGIN:VEVENT
DTSTAMP:20260421T205323
DTSTART;TZID=Europe/Berlin:20261107T170000
DTEND;TZID=Europe/Berlin:20261107T200000
UID:262S135905-20261107T170000@BERGISCHE VHS
SUMMARY:Daf Mittelstufe B2 B2 allgemein – Konversation, Grammatik, Schreiben (262S135905) 
LOCATION:VHS Mummstraße 10; Raum 319; SG-Mitte, Mummstr. 10, 42651 Solingen
END:VEVENT
BEGIN:VEVENT
DTSTAMP:20260421T205323
DTSTART;TZID=Europe/Berlin:20261111T170000
DTEND;TZID=Europe/Berlin:20261111T200000
UID:262S135905-20261111T170000@BERGISCHE VHS
SUMMARY:Daf Mittelstufe B2 B2 allgemein – Konversation, Grammatik, Schreiben (262S135905) 
LOCATION:VHS Mummstraße 10; Raum 319; SG-Mitte, Mummstr. 10, 42651 Solingen
END:VEVENT
BEGIN:VEVENT
DTSTAMP:20260421T205323
DTSTART;TZID=Europe/Berlin:20261114T170000
DTEND;TZID=Europe/Berlin:20261114T200000
UID:262S135905-20261114T170000@BERGISCHE VHS
SUMMARY:Daf Mittelstufe B2 B2 allgemein – Konversation, Grammatik, Schreiben (262S135905) 
LOCATION:VHS Mummstraße 10; Raum 319; SG-Mitte, Mummstr. 10, 42651 Solingen
END:VEVENT
BEGIN:VEVENT
DTSTAMP:20260421T205323
DTSTART;TZID=Europe/Berlin:20261118T170000
DTEND;TZID=Europe/Berlin:20261118T200000
UID:262S135905-20261118T170000@BERGISCHE VHS
SUMMARY:Daf Mittelstufe B2 B2 allgemein – Konversation, Grammatik, Schreiben (262S135905) 
LOCATION:VHS Mummstraße 10; Raum 319; SG-Mitte, Mummstr. 10, 42651 Solingen
END:VEVENT
BEGIN:VEVENT
DTSTAMP:20260421T205323
DTSTART;TZID=Europe/Berlin:20261121T170000
DTEND;TZID=Europe/Berlin:20261121T200000
UID:262S135905-20261121T170000@BERGISCHE VHS
SUMMARY:Daf Mittelstufe B2 B2 allgemein – Konversation, Grammatik, Schreiben (262S135905) 
LOCATION:VHS Mummstraße 10; Raum 319; SG-Mitte, Mummstr. 10, 42651 Solingen
END:VEVENT
BEGIN:VEVENT
DTSTAMP:20260421T205323
DTSTART;TZID=Europe/Berlin:20261125T170000
DTEND;TZID=Europe/Berlin:20261125T200000
UID:262S135905-20261125T170000@BERGISCHE VHS
SUMMARY:Daf Mittelstufe B2 B2 allgemein – Konversation, Grammatik, Schreiben (262S135905) 
LOCATION:VHS Mummstraße 10; Raum 319; SG-Mitte, Mummstr. 10, 42651 Solingen
END:VEVENT
BEGIN:VEVENT
DTSTAMP:20260421T205323
DTSTART;TZID=Europe/Berlin:20261128T170000
DTEND;TZID=Europe/Berlin:20261128T200000
UID:262S135905-20261128T170000@BERGISCHE VHS
SUMMARY:Daf Mittelstufe B2 B2 allgemein – Konversation, Grammatik, Schreiben (262S135905) 
LOCATION:VHS Mummstraße 10; Raum 319; SG-Mitte, Mummstr. 10, 42651 Solingen
END:VEVENT
BEGIN:VEVENT
DTSTAMP:20260421T205323
DTSTART;TZID=Europe/Berlin:20261202T170000
DTEND;TZID=Europe/Berlin:20261202T200000
UID:262S135905-20261202T170000@BERGISCHE VHS
SUMMARY:Daf Mittelstufe B2 B2 allgemein – Konversation, Grammatik, Schreiben (262S135905) 
LOCATION:VHS Mummstraße 10; Raum 319; SG-Mitte, Mummstr. 10, 42651 Solingen
END:VEVENT
BEGIN:VEVENT
DTSTAMP:20260421T205323
DTSTART;TZID=Europe/Berlin:20261205T170000
DTEND;TZID=Europe/Berlin:20261205T200000
UID:262S135905-20261205T170000@BERGISCHE VHS
SUMMARY:Daf Mittelstufe B2 B2 allgemein – Konversation, Grammatik, Schreiben (262S135905) 
LOCATION:VHS Mummstraße 10; Raum 319; SG-Mitte, Mummstr. 10, 42651 Solingen
END:VEVENT
BEGIN:VEVENT
DTSTAMP:20260421T205323
DTSTART;TZID=Europe/Berlin:20261209T170000
DTEND;TZID=Europe/Berlin:20261209T200000
UID:262S135905-20261209T170000@BERGISCHE VHS
SUMMARY:Daf Mittelstufe B2 B2 allgemein – Konversation, Grammatik, Schreiben (262S135905) 
LOCATION:VHS Mummstraße 10; Raum 319; SG-Mitte, Mummstr. 10, 42651 Solingen
END:VEVENT
BEGIN:VEVENT
DTSTAMP:20260421T205323
DTSTART;TZID=Europe/Berlin:20261212T170000
DTEND;TZID=Europe/Berlin:20261212T200000
UID:262S135905-20261212T170000@BERGISCHE VHS
SUMMARY:Daf Mittelstufe B2 B2 allgemein – Konversation, Grammatik, Schreiben (262S135905) 
LOCATION:VHS Mummstraße 10; Raum 319; SG-Mitte, Mummstr. 10, 42651 Solingen
END:VEVENT
BEGIN:VEVENT
DTSTAMP:20260421T205323
DTSTART;TZID=Europe/Berlin:20261216T170000
DTEND;TZID=Europe/Berlin:20261216T200000
UID:262S135905-20261216T170000@BERGISCHE VHS
SUMMARY:Daf Mittelstufe B2 B2 allgemein – Konversation, Grammatik, Schreiben (262S135905) 
LOCATION:VHS Mummstraße 10; Raum 319; SG-Mitte, Mummstr. 10, 42651 Solingen
END:VEVENT
END:VCALENDAR