BEGIN:VCALENDAR
VERSION:2.0
PRODID:https://www.kufer.de/kuferweb / DE
METHOD:PUBLISH
CALSCALE:GREGORIAN
X-WR-TIMEZONE:Europe/Berlin
BEGIN:VTIMEZONE
TZID:Europe/Berlin
X-LIC-LOCATION:Europe/Berlin
BEGIN:DAYLIGHT
TZOFFSETFROM:+0100
TZOFFSETTO:+0200
TZNAME:CEST
DTSTART:19700329T020000
RRULE:FREQ=YEARLY;INTERVAL=1;BYDAY=-1SU;BYMONTH=3
END:DAYLIGHT
BEGIN:STANDARD
TZOFFSETFROM:+0200
TZOFFSETTO:+0100
TZNAME:CET
DTSTART:19701025T030000
RRULE:FREQ=YEARLY;INTERVAL=1;BYDAY=-1SU;BYMONTH=10
END:STANDARD
END:VTIMEZONE
BEGIN:VEVENT
DTSTAMP:20260422T143042
DTSTART;TZID=Europe/Berlin:20260113T090000
DTEND;TZID=Europe/Berlin:20260113T103000
UID:261W384126-20260113T090000@BERGISCHE VHS
SUMMARY:Eltern-Kind-Gruppe im Familienzentrum Wilhelm-Hedtmann-Str. (261W384126) 
LOCATION:KiTa Wilhelm-Hedtmann-Straße (FZ); Raum A; W-Langerfeld, Wilhelm-Hedtmann-Str. 15, 42389 Wuppertal
END:VEVENT
BEGIN:VEVENT
DTSTAMP:20260422T143042
DTSTART;TZID=Europe/Berlin:20260120T090000
DTEND;TZID=Europe/Berlin:20260120T103000
UID:261W384126-20260120T090000@BERGISCHE VHS
SUMMARY:Eltern-Kind-Gruppe im Familienzentrum Wilhelm-Hedtmann-Str. (261W384126) 
LOCATION:KiTa Wilhelm-Hedtmann-Straße (FZ); Raum A; W-Langerfeld, Wilhelm-Hedtmann-Str. 15, 42389 Wuppertal
END:VEVENT
BEGIN:VEVENT
DTSTAMP:20260422T143042
DTSTART;TZID=Europe/Berlin:20260127T090000
DTEND;TZID=Europe/Berlin:20260127T103000
UID:261W384126-20260127T090000@BERGISCHE VHS
SUMMARY:Eltern-Kind-Gruppe im Familienzentrum Wilhelm-Hedtmann-Str. (261W384126) 
LOCATION:KiTa Wilhelm-Hedtmann-Straße (FZ); Raum A; W-Langerfeld, Wilhelm-Hedtmann-Str. 15, 42389 Wuppertal
END:VEVENT
BEGIN:VEVENT
DTSTAMP:20260422T143042
DTSTART;TZID=Europe/Berlin:20260203T090000
DTEND;TZID=Europe/Berlin:20260203T103000
UID:261W384126-20260203T090000@BERGISCHE VHS
SUMMARY:Eltern-Kind-Gruppe im Familienzentrum Wilhelm-Hedtmann-Str. (261W384126) 
LOCATION:KiTa Wilhelm-Hedtmann-Straße (FZ); Raum A; W-Langerfeld, Wilhelm-Hedtmann-Str. 15, 42389 Wuppertal
END:VEVENT
BEGIN:VEVENT
DTSTAMP:20260422T143042
DTSTART;TZID=Europe/Berlin:20260210T090000
DTEND;TZID=Europe/Berlin:20260210T103000
UID:261W384126-20260210T090000@BERGISCHE VHS
SUMMARY:Eltern-Kind-Gruppe im Familienzentrum Wilhelm-Hedtmann-Str. (261W384126) 
LOCATION:KiTa Wilhelm-Hedtmann-Straße (FZ); Raum A; W-Langerfeld, Wilhelm-Hedtmann-Str. 15, 42389 Wuppertal
END:VEVENT
BEGIN:VEVENT
DTSTAMP:20260422T143042
DTSTART;TZID=Europe/Berlin:20260217T090000
DTEND;TZID=Europe/Berlin:20260217T103000
UID:261W384126-20260217T090000@BERGISCHE VHS
SUMMARY:Eltern-Kind-Gruppe im Familienzentrum Wilhelm-Hedtmann-Str. (261W384126) 
LOCATION:KiTa Wilhelm-Hedtmann-Straße (FZ); Raum A; W-Langerfeld, Wilhelm-Hedtmann-Str. 15, 42389 Wuppertal
END:VEVENT
BEGIN:VEVENT
DTSTAMP:20260422T143042
DTSTART;TZID=Europe/Berlin:20260224T090000
DTEND;TZID=Europe/Berlin:20260224T103000
UID:261W384126-20260224T090000@BERGISCHE VHS
SUMMARY:Eltern-Kind-Gruppe im Familienzentrum Wilhelm-Hedtmann-Str. (261W384126) 
LOCATION:KiTa Wilhelm-Hedtmann-Straße (FZ); Raum A; W-Langerfeld, Wilhelm-Hedtmann-Str. 15, 42389 Wuppertal
END:VEVENT
BEGIN:VEVENT
DTSTAMP:20260422T143042
DTSTART;TZID=Europe/Berlin:20260303T090000
DTEND;TZID=Europe/Berlin:20260303T103000
UID:261W384126-20260303T090000@BERGISCHE VHS
SUMMARY:Eltern-Kind-Gruppe im Familienzentrum Wilhelm-Hedtmann-Str. (261W384126) 
LOCATION:KiTa Wilhelm-Hedtmann-Straße (FZ); Raum A; W-Langerfeld, Wilhelm-Hedtmann-Str. 15, 42389 Wuppertal
END:VEVENT
BEGIN:VEVENT
DTSTAMP:20260422T143042
DTSTART;TZID=Europe/Berlin:20260310T090000
DTEND;TZID=Europe/Berlin:20260310T103000
UID:261W384126-20260310T090000@BERGISCHE VHS
SUMMARY:Eltern-Kind-Gruppe im Familienzentrum Wilhelm-Hedtmann-Str. (261W384126) 
LOCATION:KiTa Wilhelm-Hedtmann-Straße (FZ); Raum A; W-Langerfeld, Wilhelm-Hedtmann-Str. 15, 42389 Wuppertal
END:VEVENT
BEGIN:VEVENT
DTSTAMP:20260422T143042
DTSTART;TZID=Europe/Berlin:20260317T090000
DTEND;TZID=Europe/Berlin:20260317T103000
UID:261W384126-20260317T090000@BERGISCHE VHS
SUMMARY:Eltern-Kind-Gruppe im Familienzentrum Wilhelm-Hedtmann-Str. (261W384126) 
LOCATION:KiTa Wilhelm-Hedtmann-Straße (FZ); Raum A; W-Langerfeld, Wilhelm-Hedtmann-Str. 15, 42389 Wuppertal
END:VEVENT
BEGIN:VEVENT
DTSTAMP:20260422T143042
DTSTART;TZID=Europe/Berlin:20260324T090000
DTEND;TZID=Europe/Berlin:20260324T103000
UID:261W384126-20260324T090000@BERGISCHE VHS
SUMMARY:Eltern-Kind-Gruppe im Familienzentrum Wilhelm-Hedtmann-Str. (261W384126) 
LOCATION:KiTa Wilhelm-Hedtmann-Straße (FZ); Raum A; W-Langerfeld, Wilhelm-Hedtmann-Str. 15, 42389 Wuppertal
END:VEVENT
BEGIN:VEVENT
DTSTAMP:20260422T143042
DTSTART;TZID=Europe/Berlin:20260331T090000
DTEND;TZID=Europe/Berlin:20260331T103000
UID:261W384126-20260331T090000@BERGISCHE VHS
DESCRIPTION:Zusatztermin/Nachholtermin wegen der OP
SUMMARY:Eltern-Kind-Gruppe im Familienzentrum Wilhelm-Hedtmann-Str. (261W384126) 
LOCATION:KiTa Wilhelm-Hedtmann-Straße (FZ); Raum A; W-Langerfeld, Wilhelm-Hedtmann-Str. 15, 42389 Wuppertal
END:VEVENT
BEGIN:VEVENT
DTSTAMP:20260422T143042
DTSTART;TZID=Europe/Berlin:20260414T090000
DTEND;TZID=Europe/Berlin:20260414T103000
UID:261W384126-20260414T090000@BERGISCHE VHS
SUMMARY:Eltern-Kind-Gruppe im Familienzentrum Wilhelm-Hedtmann-Str. (261W384126) 
LOCATION:KiTa Wilhelm-Hedtmann-Straße (FZ); Raum A; W-Langerfeld, Wilhelm-Hedtmann-Str. 15, 42389 Wuppertal
END:VEVENT
BEGIN:VEVENT
DTSTAMP:20260422T143042
DTSTART;TZID=Europe/Berlin:20260505T090000
DTEND;TZID=Europe/Berlin:20260505T103000
UID:261W384126-20260505T090000@BERGISCHE VHS
SUMMARY:Eltern-Kind-Gruppe im Familienzentrum Wilhelm-Hedtmann-Str. (261W384126) 
LOCATION:KiTa Wilhelm-Hedtmann-Straße (FZ); Raum A; W-Langerfeld, Wilhelm-Hedtmann-Str. 15, 42389 Wuppertal
END:VEVENT
BEGIN:VEVENT
DTSTAMP:20260422T143042
DTSTART;TZID=Europe/Berlin:20260512T090000
DTEND;TZID=Europe/Berlin:20260512T103000
UID:261W384126-20260512T090000@BERGISCHE VHS
SUMMARY:Eltern-Kind-Gruppe im Familienzentrum Wilhelm-Hedtmann-Str. (261W384126) 
LOCATION:KiTa Wilhelm-Hedtmann-Straße (FZ); Raum A; W-Langerfeld, Wilhelm-Hedtmann-Str. 15, 42389 Wuppertal
END:VEVENT
BEGIN:VEVENT
DTSTAMP:20260422T143042
DTSTART;TZID=Europe/Berlin:20260519T090000
DTEND;TZID=Europe/Berlin:20260519T103000
UID:261W384126-20260519T090000@BERGISCHE VHS
SUMMARY:Eltern-Kind-Gruppe im Familienzentrum Wilhelm-Hedtmann-Str. (261W384126) 
LOCATION:KiTa Wilhelm-Hedtmann-Straße (FZ); Raum A; W-Langerfeld, Wilhelm-Hedtmann-Str. 15, 42389 Wuppertal
END:VEVENT
BEGIN:VEVENT
DTSTAMP:20260422T143042
DTSTART;TZID=Europe/Berlin:20260526T090000
DTEND;TZID=Europe/Berlin:20260526T103000
UID:261W384126-20260526T090000@BERGISCHE VHS
DESCRIPTION:Zusatztermin/Nachholtermin wegen der OP
SUMMARY:Eltern-Kind-Gruppe im Familienzentrum Wilhelm-Hedtmann-Str. (261W384126) 
LOCATION:KiTa Wilhelm-Hedtmann-Straße (FZ); Raum A; W-Langerfeld, Wilhelm-Hedtmann-Str. 15, 42389 Wuppertal
END:VEVENT
BEGIN:VEVENT
DTSTAMP:20260422T143042
DTSTART;TZID=Europe/Berlin:20260602T090000
DTEND;TZID=Europe/Berlin:20260602T103000
UID:261W384126-20260602T090000@BERGISCHE VHS
SUMMARY:Eltern-Kind-Gruppe im Familienzentrum Wilhelm-Hedtmann-Str. (261W384126) 
LOCATION:KiTa Wilhelm-Hedtmann-Straße (FZ); Raum A; W-Langerfeld, Wilhelm-Hedtmann-Str. 15, 42389 Wuppertal
END:VEVENT
BEGIN:VEVENT
DTSTAMP:20260422T143042
DTSTART;TZID=Europe/Berlin:20260609T090000
DTEND;TZID=Europe/Berlin:20260609T103000
UID:261W384126-20260609T090000@BERGISCHE VHS
SUMMARY:Eltern-Kind-Gruppe im Familienzentrum Wilhelm-Hedtmann-Str. (261W384126) 
LOCATION:KiTa Wilhelm-Hedtmann-Straße (FZ); Raum A; W-Langerfeld, Wilhelm-Hedtmann-Str. 15, 42389 Wuppertal
END:VEVENT
BEGIN:VEVENT
DTSTAMP:20260422T143042
DTSTART;TZID=Europe/Berlin:20260616T090000
DTEND;TZID=Europe/Berlin:20260616T103000
UID:261W384126-20260616T090000@BERGISCHE VHS
SUMMARY:Eltern-Kind-Gruppe im Familienzentrum Wilhelm-Hedtmann-Str. (261W384126) 
LOCATION:KiTa Wilhelm-Hedtmann-Straße (FZ); Raum A; W-Langerfeld, Wilhelm-Hedtmann-Str. 15, 42389 Wuppertal
END:VEVENT
BEGIN:VEVENT
DTSTAMP:20260422T143042
DTSTART;TZID=Europe/Berlin:20260623T090000
DTEND;TZID=Europe/Berlin:20260623T103000
UID:261W384126-20260623T090000@BERGISCHE VHS
SUMMARY:Eltern-Kind-Gruppe im Familienzentrum Wilhelm-Hedtmann-Str. (261W384126) 
LOCATION:KiTa Wilhelm-Hedtmann-Straße (FZ); Raum A; W-Langerfeld, Wilhelm-Hedtmann-Str. 15, 42389 Wuppertal
END:VEVENT
BEGIN:VEVENT
DTSTAMP:20260422T143042
DTSTART;TZID=Europe/Berlin:20260630T090000
DTEND;TZID=Europe/Berlin:20260630T103000
UID:261W384126-20260630T090000@BERGISCHE VHS
SUMMARY:Eltern-Kind-Gruppe im Familienzentrum Wilhelm-Hedtmann-Str. (261W384126) 
LOCATION:KiTa Wilhelm-Hedtmann-Straße (FZ); Raum A; W-Langerfeld, Wilhelm-Hedtmann-Str. 15, 42389 Wuppertal
END:VEVENT
BEGIN:VEVENT
DTSTAMP:20260422T143042
DTSTART;TZID=Europe/Berlin:20260707T090000
DTEND;TZID=Europe/Berlin:20260707T103000
UID:261W384126-20260707T090000@BERGISCHE VHS
SUMMARY:Eltern-Kind-Gruppe im Familienzentrum Wilhelm-Hedtmann-Str. (261W384126) 
LOCATION:KiTa Wilhelm-Hedtmann-Straße (FZ); Raum A; W-Langerfeld, Wilhelm-Hedtmann-Str. 15, 42389 Wuppertal
END:VEVENT
BEGIN:VEVENT
DTSTAMP:20260422T143042
DTSTART;TZID=Europe/Berlin:20260714T090000
DTEND;TZID=Europe/Berlin:20260714T103000
UID:261W384126-20260714T090000@BERGISCHE VHS
SUMMARY:Eltern-Kind-Gruppe im Familienzentrum Wilhelm-Hedtmann-Str. (261W384126) 
LOCATION:KiTa Wilhelm-Hedtmann-Straße (FZ); Raum A; W-Langerfeld, Wilhelm-Hedtmann-Str. 15, 42389 Wuppertal
END:VEVENT
END:VCALENDAR