BEGIN:VCALENDAR
VERSION:2.0
PRODID:https://www.kufer.de/kuferweb / DE
METHOD:PUBLISH
CALSCALE:GREGORIAN
X-WR-TIMEZONE:Europe/Berlin
BEGIN:VTIMEZONE
TZID:Europe/Berlin
X-LIC-LOCATION:Europe/Berlin
BEGIN:DAYLIGHT
TZOFFSETFROM:+0100
TZOFFSETTO:+0200
TZNAME:CEST
DTSTART:19700329T020000
RRULE:FREQ=YEARLY;INTERVAL=1;BYDAY=-1SU;BYMONTH=3
END:DAYLIGHT
BEGIN:STANDARD
TZOFFSETFROM:+0200
TZOFFSETTO:+0100
TZNAME:CET
DTSTART:19701025T030000
RRULE:FREQ=YEARLY;INTERVAL=1;BYDAY=-1SU;BYMONTH=10
END:STANDARD
END:VTIMEZONE
BEGIN:VEVENT
DTSTAMP:20260422T212054
DTSTART;TZID=Europe/Berlin:20260114T090000
DTEND;TZID=Europe/Berlin:20260114T103000
UID:261W384118-20260114T090000@BERGISCHE VHS
SUMMARY:Eltern-Kind-Gruppe im Familienzentrum Oberdörnen (261W384118) 
LOCATION:KiTa Oberdörnen; Raum A; W-Barmen, Oberdörnen 108, 42283 Wuppertal
END:VEVENT
BEGIN:VEVENT
DTSTAMP:20260422T212054
DTSTART;TZID=Europe/Berlin:20260128T090000
DTEND;TZID=Europe/Berlin:20260128T103000
UID:261W384118-20260128T090000@BERGISCHE VHS
SUMMARY:Eltern-Kind-Gruppe im Familienzentrum Oberdörnen (261W384118) 
LOCATION:KiTa Oberdörnen; Raum A; W-Barmen, Oberdörnen 108, 42283 Wuppertal
END:VEVENT
BEGIN:VEVENT
DTSTAMP:20260422T212054
DTSTART;TZID=Europe/Berlin:20260204T090000
DTEND;TZID=Europe/Berlin:20260204T103000
UID:261W384118-20260204T090000@BERGISCHE VHS
SUMMARY:Eltern-Kind-Gruppe im Familienzentrum Oberdörnen (261W384118) 
LOCATION:KiTa Oberdörnen; Raum A; W-Barmen, Oberdörnen 108, 42283 Wuppertal
END:VEVENT
BEGIN:VEVENT
DTSTAMP:20260422T212054
DTSTART;TZID=Europe/Berlin:20260211T090000
DTEND;TZID=Europe/Berlin:20260211T120000
UID:261W384118-20260211T090000@BERGISCHE VHS
DESCRIPTION:09.02.26 (*BB): Nachholtermin für 21.01.2026
SUMMARY:Eltern-Kind-Gruppe im Familienzentrum Oberdörnen (261W384118) 
LOCATION:KiTa Oberdörnen; Raum A; W-Barmen, Oberdörnen 108, 42283 Wuppertal
END:VEVENT
BEGIN:VEVENT
DTSTAMP:20260422T212054
DTSTART;TZID=Europe/Berlin:20260218T090000
DTEND;TZID=Europe/Berlin:20260218T103000
UID:261W384118-20260218T090000@BERGISCHE VHS
SUMMARY:Eltern-Kind-Gruppe im Familienzentrum Oberdörnen (261W384118) 
LOCATION:KiTa Oberdörnen; Raum A; W-Barmen, Oberdörnen 108, 42283 Wuppertal
END:VEVENT
BEGIN:VEVENT
DTSTAMP:20260422T212054
DTSTART;TZID=Europe/Berlin:20260225T090000
DTEND;TZID=Europe/Berlin:20260225T103000
UID:261W384118-20260225T090000@BERGISCHE VHS
SUMMARY:Eltern-Kind-Gruppe im Familienzentrum Oberdörnen (261W384118) 
LOCATION:KiTa Oberdörnen; Raum A; W-Barmen, Oberdörnen 108, 42283 Wuppertal
END:VEVENT
BEGIN:VEVENT
DTSTAMP:20260422T212054
DTSTART;TZID=Europe/Berlin:20260304T090000
DTEND;TZID=Europe/Berlin:20260304T103000
UID:261W384118-20260304T090000@BERGISCHE VHS
SUMMARY:Eltern-Kind-Gruppe im Familienzentrum Oberdörnen (261W384118) 
LOCATION:KiTa Oberdörnen; Raum A; W-Barmen, Oberdörnen 108, 42283 Wuppertal
END:VEVENT
BEGIN:VEVENT
DTSTAMP:20260422T212054
DTSTART;TZID=Europe/Berlin:20260311T090000
DTEND;TZID=Europe/Berlin:20260311T103000
UID:261W384118-20260311T090000@BERGISCHE VHS
SUMMARY:Eltern-Kind-Gruppe im Familienzentrum Oberdörnen (261W384118) 
LOCATION:KiTa Oberdörnen; Raum A; W-Barmen, Oberdörnen 108, 42283 Wuppertal
END:VEVENT
BEGIN:VEVENT
DTSTAMP:20260422T212054
DTSTART;TZID=Europe/Berlin:20260318T090000
DTEND;TZID=Europe/Berlin:20260318T103000
UID:261W384118-20260318T090000@BERGISCHE VHS
SUMMARY:Eltern-Kind-Gruppe im Familienzentrum Oberdörnen (261W384118) 
LOCATION:KiTa Oberdörnen; Raum A; W-Barmen, Oberdörnen 108, 42283 Wuppertal
END:VEVENT
BEGIN:VEVENT
DTSTAMP:20260422T212054
DTSTART;TZID=Europe/Berlin:20260325T090000
DTEND;TZID=Europe/Berlin:20260325T103000
UID:261W384118-20260325T090000@BERGISCHE VHS
SUMMARY:Eltern-Kind-Gruppe im Familienzentrum Oberdörnen (261W384118) 
LOCATION:KiTa Oberdörnen; Raum A; W-Barmen, Oberdörnen 108, 42283 Wuppertal
END:VEVENT
BEGIN:VEVENT
DTSTAMP:20260422T212054
DTSTART;TZID=Europe/Berlin:20260415T090000
DTEND;TZID=Europe/Berlin:20260415T103000
UID:261W384118-20260415T090000@BERGISCHE VHS
SUMMARY:Eltern-Kind-Gruppe im Familienzentrum Oberdörnen (261W384118) 
LOCATION:KiTa Oberdörnen; Raum A; W-Barmen, Oberdörnen 108, 42283 Wuppertal
END:VEVENT
BEGIN:VEVENT
DTSTAMP:20260422T212054
DTSTART;TZID=Europe/Berlin:20260422T090000
DTEND;TZID=Europe/Berlin:20260422T103000
UID:261W384118-20260422T090000@BERGISCHE VHS
SUMMARY:Eltern-Kind-Gruppe im Familienzentrum Oberdörnen (261W384118) 
LOCATION:KiTa Oberdörnen; Raum A; W-Barmen, Oberdörnen 108, 42283 Wuppertal
END:VEVENT
BEGIN:VEVENT
DTSTAMP:20260422T212054
DTSTART;TZID=Europe/Berlin:20260429T090000
DTEND;TZID=Europe/Berlin:20260429T103000
UID:261W384118-20260429T090000@BERGISCHE VHS
SUMMARY:Eltern-Kind-Gruppe im Familienzentrum Oberdörnen (261W384118) 
LOCATION:KiTa Oberdörnen; Raum A; W-Barmen, Oberdörnen 108, 42283 Wuppertal
END:VEVENT
BEGIN:VEVENT
DTSTAMP:20260422T212054
DTSTART;TZID=Europe/Berlin:20260506T090000
DTEND;TZID=Europe/Berlin:20260506T103000
UID:261W384118-20260506T090000@BERGISCHE VHS
SUMMARY:Eltern-Kind-Gruppe im Familienzentrum Oberdörnen (261W384118) 
LOCATION:KiTa Oberdörnen; Raum A; W-Barmen, Oberdörnen 108, 42283 Wuppertal
END:VEVENT
BEGIN:VEVENT
DTSTAMP:20260422T212054
DTSTART;TZID=Europe/Berlin:20260513T090000
DTEND;TZID=Europe/Berlin:20260513T103000
UID:261W384118-20260513T090000@BERGISCHE VHS
SUMMARY:Eltern-Kind-Gruppe im Familienzentrum Oberdörnen (261W384118) 
LOCATION:KiTa Oberdörnen; Raum A; W-Barmen, Oberdörnen 108, 42283 Wuppertal
END:VEVENT
BEGIN:VEVENT
DTSTAMP:20260422T212054
DTSTART;TZID=Europe/Berlin:20260520T090000
DTEND;TZID=Europe/Berlin:20260520T103000
UID:261W384118-20260520T090000@BERGISCHE VHS
SUMMARY:Eltern-Kind-Gruppe im Familienzentrum Oberdörnen (261W384118) 
LOCATION:KiTa Oberdörnen; Raum A; W-Barmen, Oberdörnen 108, 42283 Wuppertal
END:VEVENT
BEGIN:VEVENT
DTSTAMP:20260422T212054
DTSTART;TZID=Europe/Berlin:20260527T090000
DTEND;TZID=Europe/Berlin:20260527T103000
UID:261W384118-20260527T090000@BERGISCHE VHS
SUMMARY:Eltern-Kind-Gruppe im Familienzentrum Oberdörnen (261W384118) 
LOCATION:KiTa Oberdörnen; Raum A; W-Barmen, Oberdörnen 108, 42283 Wuppertal
END:VEVENT
BEGIN:VEVENT
DTSTAMP:20260422T212054
DTSTART;TZID=Europe/Berlin:20260603T090000
DTEND;TZID=Europe/Berlin:20260603T103000
UID:261W384118-20260603T090000@BERGISCHE VHS
SUMMARY:Eltern-Kind-Gruppe im Familienzentrum Oberdörnen (261W384118) 
LOCATION:KiTa Oberdörnen; Raum A; W-Barmen, Oberdörnen 108, 42283 Wuppertal
END:VEVENT
BEGIN:VEVENT
DTSTAMP:20260422T212054
DTSTART;TZID=Europe/Berlin:20260610T090000
DTEND;TZID=Europe/Berlin:20260610T103000
UID:261W384118-20260610T090000@BERGISCHE VHS
SUMMARY:Eltern-Kind-Gruppe im Familienzentrum Oberdörnen (261W384118) 
LOCATION:KiTa Oberdörnen; Raum A; W-Barmen, Oberdörnen 108, 42283 Wuppertal
END:VEVENT
BEGIN:VEVENT
DTSTAMP:20260422T212054
DTSTART;TZID=Europe/Berlin:20260617T090000
DTEND;TZID=Europe/Berlin:20260617T103000
UID:261W384118-20260617T090000@BERGISCHE VHS
SUMMARY:Eltern-Kind-Gruppe im Familienzentrum Oberdörnen (261W384118) 
LOCATION:KiTa Oberdörnen; Raum A; W-Barmen, Oberdörnen 108, 42283 Wuppertal
END:VEVENT
BEGIN:VEVENT
DTSTAMP:20260422T212054
DTSTART;TZID=Europe/Berlin:20260624T090000
DTEND;TZID=Europe/Berlin:20260624T103000
UID:261W384118-20260624T090000@BERGISCHE VHS
SUMMARY:Eltern-Kind-Gruppe im Familienzentrum Oberdörnen (261W384118) 
LOCATION:KiTa Oberdörnen; Raum A; W-Barmen, Oberdörnen 108, 42283 Wuppertal
END:VEVENT
BEGIN:VEVENT
DTSTAMP:20260422T212054
DTSTART;TZID=Europe/Berlin:20260701T090000
DTEND;TZID=Europe/Berlin:20260701T103000
UID:261W384118-20260701T090000@BERGISCHE VHS
SUMMARY:Eltern-Kind-Gruppe im Familienzentrum Oberdörnen (261W384118) 
LOCATION:KiTa Oberdörnen; Raum A; W-Barmen, Oberdörnen 108, 42283 Wuppertal
END:VEVENT
BEGIN:VEVENT
DTSTAMP:20260422T212054
DTSTART;TZID=Europe/Berlin:20260708T090000
DTEND;TZID=Europe/Berlin:20260708T103000
UID:261W384118-20260708T090000@BERGISCHE VHS
SUMMARY:Eltern-Kind-Gruppe im Familienzentrum Oberdörnen (261W384118) 
LOCATION:KiTa Oberdörnen; Raum A; W-Barmen, Oberdörnen 108, 42283 Wuppertal
END:VEVENT
BEGIN:VEVENT
DTSTAMP:20260422T212054
DTSTART;TZID=Europe/Berlin:20260715T090000
DTEND;TZID=Europe/Berlin:20260715T103000
UID:261W384118-20260715T090000@BERGISCHE VHS
SUMMARY:Eltern-Kind-Gruppe im Familienzentrum Oberdörnen (261W384118) 
LOCATION:KiTa Oberdörnen; Raum A; W-Barmen, Oberdörnen 108, 42283 Wuppertal
END:VEVENT
END:VCALENDAR