BEGIN:VCALENDAR
VERSION:2.0
PRODID:https://www.kufer.de/kuferweb / DE
METHOD:PUBLISH
CALSCALE:GREGORIAN
X-WR-TIMEZONE:Europe/Berlin
BEGIN:VTIMEZONE
TZID:Europe/Berlin
X-LIC-LOCATION:Europe/Berlin
BEGIN:DAYLIGHT
TZOFFSETFROM:+0100
TZOFFSETTO:+0200
TZNAME:CEST
DTSTART:19700329T020000
RRULE:FREQ=YEARLY;INTERVAL=1;BYDAY=-1SU;BYMONTH=3
END:DAYLIGHT
BEGIN:STANDARD
TZOFFSETFROM:+0200
TZOFFSETTO:+0100
TZNAME:CET
DTSTART:19701025T030000
RRULE:FREQ=YEARLY;INTERVAL=1;BYDAY=-1SU;BYMONTH=10
END:STANDARD
END:VTIMEZONE
BEGIN:VEVENT
DTSTAMP:20260422T183415
DTSTART;TZID=Europe/Berlin:20260107T083000
DTEND;TZID=Europe/Berlin:20260107T100000
UID:261W384111-20260107T083000@BERGISCHE VHS
SUMMARY:Eltern-Kind-Gruppe im Familienzentrum Höhe (261W384111) 
LOCATION:KiTa Höhe; Raum A; W-Vohwinkel, Höhe 61, 42329 Wuppertal
END:VEVENT
BEGIN:VEVENT
DTSTAMP:20260422T183415
DTSTART;TZID=Europe/Berlin:20260114T083000
DTEND;TZID=Europe/Berlin:20260114T100000
UID:261W384111-20260114T083000@BERGISCHE VHS
SUMMARY:Eltern-Kind-Gruppe im Familienzentrum Höhe (261W384111) 
LOCATION:KiTa Höhe; Raum A; W-Vohwinkel, Höhe 61, 42329 Wuppertal
END:VEVENT
BEGIN:VEVENT
DTSTAMP:20260422T183415
DTSTART;TZID=Europe/Berlin:20260121T083000
DTEND;TZID=Europe/Berlin:20260121T100000
UID:261W384111-20260121T083000@BERGISCHE VHS
SUMMARY:Eltern-Kind-Gruppe im Familienzentrum Höhe (261W384111) 
LOCATION:KiTa Höhe; Raum A; W-Vohwinkel, Höhe 61, 42329 Wuppertal
END:VEVENT
BEGIN:VEVENT
DTSTAMP:20260422T183415
DTSTART;TZID=Europe/Berlin:20260128T083000
DTEND;TZID=Europe/Berlin:20260128T100000
UID:261W384111-20260128T083000@BERGISCHE VHS
SUMMARY:Eltern-Kind-Gruppe im Familienzentrum Höhe (261W384111) 
LOCATION:KiTa Höhe; Raum A; W-Vohwinkel, Höhe 61, 42329 Wuppertal
END:VEVENT
BEGIN:VEVENT
DTSTAMP:20260422T183415
DTSTART;TZID=Europe/Berlin:20260204T083000
DTEND;TZID=Europe/Berlin:20260204T100000
UID:261W384111-20260204T083000@BERGISCHE VHS
SUMMARY:Eltern-Kind-Gruppe im Familienzentrum Höhe (261W384111) 
LOCATION:KiTa Höhe; Raum A; W-Vohwinkel, Höhe 61, 42329 Wuppertal
END:VEVENT
BEGIN:VEVENT
DTSTAMP:20260422T183415
DTSTART;TZID=Europe/Berlin:20260211T083000
DTEND;TZID=Europe/Berlin:20260211T100000
UID:261W384111-20260211T083000@BERGISCHE VHS
SUMMARY:Eltern-Kind-Gruppe im Familienzentrum Höhe (261W384111) 
LOCATION:KiTa Höhe; Raum A; W-Vohwinkel, Höhe 61, 42329 Wuppertal
END:VEVENT
BEGIN:VEVENT
DTSTAMP:20260422T183415
DTSTART;TZID=Europe/Berlin:20260218T083000
DTEND;TZID=Europe/Berlin:20260218T100000
UID:261W384111-20260218T083000@BERGISCHE VHS
SUMMARY:Eltern-Kind-Gruppe im Familienzentrum Höhe (261W384111) 
LOCATION:KiTa Höhe; Raum A; W-Vohwinkel, Höhe 61, 42329 Wuppertal
END:VEVENT
BEGIN:VEVENT
DTSTAMP:20260422T183415
DTSTART;TZID=Europe/Berlin:20260225T083000
DTEND;TZID=Europe/Berlin:20260225T100000
UID:261W384111-20260225T083000@BERGISCHE VHS
SUMMARY:Eltern-Kind-Gruppe im Familienzentrum Höhe (261W384111) 
LOCATION:KiTa Höhe; Raum A; W-Vohwinkel, Höhe 61, 42329 Wuppertal
END:VEVENT
BEGIN:VEVENT
DTSTAMP:20260422T183415
DTSTART;TZID=Europe/Berlin:20260304T083000
DTEND;TZID=Europe/Berlin:20260304T100000
UID:261W384111-20260304T083000@BERGISCHE VHS
SUMMARY:Eltern-Kind-Gruppe im Familienzentrum Höhe (261W384111) 
LOCATION:KiTa Höhe; Raum A; W-Vohwinkel, Höhe 61, 42329 Wuppertal
END:VEVENT
BEGIN:VEVENT
DTSTAMP:20260422T183415
DTSTART;TZID=Europe/Berlin:20260311T083000
DTEND;TZID=Europe/Berlin:20260311T100000
UID:261W384111-20260311T083000@BERGISCHE VHS
SUMMARY:Eltern-Kind-Gruppe im Familienzentrum Höhe (261W384111) 
LOCATION:KiTa Höhe; Raum A; W-Vohwinkel, Höhe 61, 42329 Wuppertal
END:VEVENT
BEGIN:VEVENT
DTSTAMP:20260422T183415
DTSTART;TZID=Europe/Berlin:20260318T083000
DTEND;TZID=Europe/Berlin:20260318T100000
UID:261W384111-20260318T083000@BERGISCHE VHS
SUMMARY:Eltern-Kind-Gruppe im Familienzentrum Höhe (261W384111) 
LOCATION:KiTa Höhe; Raum A; W-Vohwinkel, Höhe 61, 42329 Wuppertal
END:VEVENT
BEGIN:VEVENT
DTSTAMP:20260422T183415
DTSTART;TZID=Europe/Berlin:20260325T083000
DTEND;TZID=Europe/Berlin:20260325T100000
UID:261W384111-20260325T083000@BERGISCHE VHS
SUMMARY:Eltern-Kind-Gruppe im Familienzentrum Höhe (261W384111) 
LOCATION:KiTa Höhe; Raum A; W-Vohwinkel, Höhe 61, 42329 Wuppertal
END:VEVENT
BEGIN:VEVENT
DTSTAMP:20260422T183415
DTSTART;TZID=Europe/Berlin:20260415T083000
DTEND;TZID=Europe/Berlin:20260415T100000
UID:261W384111-20260415T083000@BERGISCHE VHS
SUMMARY:Eltern-Kind-Gruppe im Familienzentrum Höhe (261W384111) 
LOCATION:KiTa Höhe; Raum A; W-Vohwinkel, Höhe 61, 42329 Wuppertal
END:VEVENT
BEGIN:VEVENT
DTSTAMP:20260422T183415
DTSTART;TZID=Europe/Berlin:20260422T083000
DTEND;TZID=Europe/Berlin:20260422T100000
UID:261W384111-20260422T083000@BERGISCHE VHS
SUMMARY:Eltern-Kind-Gruppe im Familienzentrum Höhe (261W384111) 
LOCATION:KiTa Höhe; Raum A; W-Vohwinkel, Höhe 61, 42329 Wuppertal
END:VEVENT
BEGIN:VEVENT
DTSTAMP:20260422T183415
DTSTART;TZID=Europe/Berlin:20260429T083000
DTEND;TZID=Europe/Berlin:20260429T100000
UID:261W384111-20260429T083000@BERGISCHE VHS
SUMMARY:Eltern-Kind-Gruppe im Familienzentrum Höhe (261W384111) 
LOCATION:KiTa Höhe; Raum A; W-Vohwinkel, Höhe 61, 42329 Wuppertal
END:VEVENT
BEGIN:VEVENT
DTSTAMP:20260422T183415
DTSTART;TZID=Europe/Berlin:20260506T083000
DTEND;TZID=Europe/Berlin:20260506T100000
UID:261W384111-20260506T083000@BERGISCHE VHS
SUMMARY:Eltern-Kind-Gruppe im Familienzentrum Höhe (261W384111) 
LOCATION:KiTa Höhe; Raum A; W-Vohwinkel, Höhe 61, 42329 Wuppertal
END:VEVENT
BEGIN:VEVENT
DTSTAMP:20260422T183415
DTSTART;TZID=Europe/Berlin:20260513T083000
DTEND;TZID=Europe/Berlin:20260513T100000
UID:261W384111-20260513T083000@BERGISCHE VHS
SUMMARY:Eltern-Kind-Gruppe im Familienzentrum Höhe (261W384111) 
LOCATION:KiTa Höhe; Raum A; W-Vohwinkel, Höhe 61, 42329 Wuppertal
END:VEVENT
BEGIN:VEVENT
DTSTAMP:20260422T183415
DTSTART;TZID=Europe/Berlin:20260520T083000
DTEND;TZID=Europe/Berlin:20260520T100000
UID:261W384111-20260520T083000@BERGISCHE VHS
SUMMARY:Eltern-Kind-Gruppe im Familienzentrum Höhe (261W384111) 
LOCATION:KiTa Höhe; Raum A; W-Vohwinkel, Höhe 61, 42329 Wuppertal
END:VEVENT
BEGIN:VEVENT
DTSTAMP:20260422T183415
DTSTART;TZID=Europe/Berlin:20260527T083000
DTEND;TZID=Europe/Berlin:20260527T100000
UID:261W384111-20260527T083000@BERGISCHE VHS
SUMMARY:Eltern-Kind-Gruppe im Familienzentrum Höhe (261W384111) 
LOCATION:KiTa Höhe; Raum A; W-Vohwinkel, Höhe 61, 42329 Wuppertal
END:VEVENT
BEGIN:VEVENT
DTSTAMP:20260422T183415
DTSTART;TZID=Europe/Berlin:20260603T083000
DTEND;TZID=Europe/Berlin:20260603T100000
UID:261W384111-20260603T083000@BERGISCHE VHS
SUMMARY:Eltern-Kind-Gruppe im Familienzentrum Höhe (261W384111) 
LOCATION:KiTa Höhe; Raum A; W-Vohwinkel, Höhe 61, 42329 Wuppertal
END:VEVENT
BEGIN:VEVENT
DTSTAMP:20260422T183415
DTSTART;TZID=Europe/Berlin:20260610T083000
DTEND;TZID=Europe/Berlin:20260610T100000
UID:261W384111-20260610T083000@BERGISCHE VHS
SUMMARY:Eltern-Kind-Gruppe im Familienzentrum Höhe (261W384111) 
LOCATION:KiTa Höhe; Raum A; W-Vohwinkel, Höhe 61, 42329 Wuppertal
END:VEVENT
BEGIN:VEVENT
DTSTAMP:20260422T183415
DTSTART;TZID=Europe/Berlin:20260617T083000
DTEND;TZID=Europe/Berlin:20260617T100000
UID:261W384111-20260617T083000@BERGISCHE VHS
SUMMARY:Eltern-Kind-Gruppe im Familienzentrum Höhe (261W384111) 
LOCATION:KiTa Höhe; Raum A; W-Vohwinkel, Höhe 61, 42329 Wuppertal
END:VEVENT
BEGIN:VEVENT
DTSTAMP:20260422T183415
DTSTART;TZID=Europe/Berlin:20260624T083000
DTEND;TZID=Europe/Berlin:20260624T100000
UID:261W384111-20260624T083000@BERGISCHE VHS
SUMMARY:Eltern-Kind-Gruppe im Familienzentrum Höhe (261W384111) 
LOCATION:KiTa Höhe; Raum A; W-Vohwinkel, Höhe 61, 42329 Wuppertal
END:VEVENT
BEGIN:VEVENT
DTSTAMP:20260422T183415
DTSTART;TZID=Europe/Berlin:20260701T083000
DTEND;TZID=Europe/Berlin:20260701T100000
UID:261W384111-20260701T083000@BERGISCHE VHS
SUMMARY:Eltern-Kind-Gruppe im Familienzentrum Höhe (261W384111) 
LOCATION:KiTa Höhe; Raum A; W-Vohwinkel, Höhe 61, 42329 Wuppertal
END:VEVENT
BEGIN:VEVENT
DTSTAMP:20260422T183415
DTSTART;TZID=Europe/Berlin:20260708T083000
DTEND;TZID=Europe/Berlin:20260708T100000
UID:261W384111-20260708T083000@BERGISCHE VHS
SUMMARY:Eltern-Kind-Gruppe im Familienzentrum Höhe (261W384111) 
LOCATION:KiTa Höhe; Raum A; W-Vohwinkel, Höhe 61, 42329 Wuppertal
END:VEVENT
END:VCALENDAR