BEGIN:VCALENDAR
VERSION:2.0
PRODID:https://www.kufer.de/kuferweb / DE
METHOD:PUBLISH
CALSCALE:GREGORIAN
X-WR-TIMEZONE:Europe/Berlin
BEGIN:VTIMEZONE
TZID:Europe/Berlin
X-LIC-LOCATION:Europe/Berlin
BEGIN:DAYLIGHT
TZOFFSETFROM:+0100
TZOFFSETTO:+0200
TZNAME:CEST
DTSTART:19700329T020000
RRULE:FREQ=YEARLY;INTERVAL=1;BYDAY=-1SU;BYMONTH=3
END:DAYLIGHT
BEGIN:STANDARD
TZOFFSETFROM:+0200
TZOFFSETTO:+0100
TZNAME:CET
DTSTART:19701025T030000
RRULE:FREQ=YEARLY;INTERVAL=1;BYDAY=-1SU;BYMONTH=10
END:STANDARD
END:VTIMEZONE
BEGIN:VEVENT
DTSTAMP:20260422T055452
DTSTART;TZID=Europe/Berlin:20260112T090000
DTEND;TZID=Europe/Berlin:20260112T103000
UID:261W384108-20260112T090000@BERGISCHE VHS
SUMMARY:Eltern-Kind-Gruppe im Familienzentrum Flensburger Str. (261W384108) 
LOCATION:KiTa Flensburger Straße; Raum A; W-Elberfeld, Flensburger Str. 39, 42107 Wuppertal
END:VEVENT
BEGIN:VEVENT
DTSTAMP:20260422T055452
DTSTART;TZID=Europe/Berlin:20260126T090000
DTEND;TZID=Europe/Berlin:20260126T103000
UID:261W384108-20260126T090000@BERGISCHE VHS
SUMMARY:Eltern-Kind-Gruppe im Familienzentrum Flensburger Str. (261W384108) 
LOCATION:KiTa Flensburger Straße; Raum A; W-Elberfeld, Flensburger Str. 39, 42107 Wuppertal
END:VEVENT
BEGIN:VEVENT
DTSTAMP:20260422T055452
DTSTART;TZID=Europe/Berlin:20260202T090000
DTEND;TZID=Europe/Berlin:20260202T103000
UID:261W384108-20260202T090000@BERGISCHE VHS
SUMMARY:Eltern-Kind-Gruppe im Familienzentrum Flensburger Str. (261W384108) 
LOCATION:KiTa Flensburger Straße; Raum A; W-Elberfeld, Flensburger Str. 39, 42107 Wuppertal
END:VEVENT
BEGIN:VEVENT
DTSTAMP:20260422T055452
DTSTART;TZID=Europe/Berlin:20260209T090000
DTEND;TZID=Europe/Berlin:20260209T120000
UID:261W384108-20260209T090000@BERGISCHE VHS
DESCRIPTION:09.02.26 (*BB): Nachholtermin für 19.01.2026
SUMMARY:Eltern-Kind-Gruppe im Familienzentrum Flensburger Str. (261W384108) 
LOCATION:KiTa Flensburger Straße; Raum A; W-Elberfeld, Flensburger Str. 39, 42107 Wuppertal
END:VEVENT
BEGIN:VEVENT
DTSTAMP:20260422T055452
DTSTART;TZID=Europe/Berlin:20260223T090000
DTEND;TZID=Europe/Berlin:20260223T103000
UID:261W384108-20260223T090000@BERGISCHE VHS
SUMMARY:Eltern-Kind-Gruppe im Familienzentrum Flensburger Str. (261W384108) 
LOCATION:KiTa Flensburger Straße; Raum A; W-Elberfeld, Flensburger Str. 39, 42107 Wuppertal
END:VEVENT
BEGIN:VEVENT
DTSTAMP:20260422T055452
DTSTART;TZID=Europe/Berlin:20260302T090000
DTEND;TZID=Europe/Berlin:20260302T103000
UID:261W384108-20260302T090000@BERGISCHE VHS
SUMMARY:Eltern-Kind-Gruppe im Familienzentrum Flensburger Str. (261W384108) 
LOCATION:KiTa Flensburger Straße; Raum A; W-Elberfeld, Flensburger Str. 39, 42107 Wuppertal
END:VEVENT
BEGIN:VEVENT
DTSTAMP:20260422T055452
DTSTART;TZID=Europe/Berlin:20260309T090000
DTEND;TZID=Europe/Berlin:20260309T103000
UID:261W384108-20260309T090000@BERGISCHE VHS
SUMMARY:Eltern-Kind-Gruppe im Familienzentrum Flensburger Str. (261W384108) 
LOCATION:KiTa Flensburger Straße; Raum A; W-Elberfeld, Flensburger Str. 39, 42107 Wuppertal
END:VEVENT
BEGIN:VEVENT
DTSTAMP:20260422T055452
DTSTART;TZID=Europe/Berlin:20260323T090000
DTEND;TZID=Europe/Berlin:20260323T103000
UID:261W384108-20260323T090000@BERGISCHE VHS
SUMMARY:Eltern-Kind-Gruppe im Familienzentrum Flensburger Str. (261W384108) 
LOCATION:KiTa Flensburger Straße; Raum A; W-Elberfeld, Flensburger Str. 39, 42107 Wuppertal
END:VEVENT
BEGIN:VEVENT
DTSTAMP:20260422T055452
DTSTART;TZID=Europe/Berlin:20260330T090000
DTEND;TZID=Europe/Berlin:20260330T103000
UID:261W384108-20260330T090000@BERGISCHE VHS
DESCRIPTION:09.03.26 (*AD): verschoben vom 16.03.26
SUMMARY:Eltern-Kind-Gruppe im Familienzentrum Flensburger Str. (261W384108) 
LOCATION:KiTa Flensburger Straße; Raum A; W-Elberfeld, Flensburger Str. 39, 42107 Wuppertal
END:VEVENT
BEGIN:VEVENT
DTSTAMP:20260422T055452
DTSTART;TZID=Europe/Berlin:20260413T090000
DTEND;TZID=Europe/Berlin:20260413T103000
UID:261W384108-20260413T090000@BERGISCHE VHS
SUMMARY:Eltern-Kind-Gruppe im Familienzentrum Flensburger Str. (261W384108) 
LOCATION:KiTa Flensburger Straße; Raum A; W-Elberfeld, Flensburger Str. 39, 42107 Wuppertal
END:VEVENT
BEGIN:VEVENT
DTSTAMP:20260422T055452
DTSTART;TZID=Europe/Berlin:20260420T090000
DTEND;TZID=Europe/Berlin:20260420T103000
UID:261W384108-20260420T090000@BERGISCHE VHS
SUMMARY:Eltern-Kind-Gruppe im Familienzentrum Flensburger Str. (261W384108) 
LOCATION:KiTa Flensburger Straße; Raum A; W-Elberfeld, Flensburger Str. 39, 42107 Wuppertal
END:VEVENT
BEGIN:VEVENT
DTSTAMP:20260422T055452
DTSTART;TZID=Europe/Berlin:20260427T090000
DTEND;TZID=Europe/Berlin:20260427T103000
UID:261W384108-20260427T090000@BERGISCHE VHS
SUMMARY:Eltern-Kind-Gruppe im Familienzentrum Flensburger Str. (261W384108) 
LOCATION:KiTa Flensburger Straße; Raum A; W-Elberfeld, Flensburger Str. 39, 42107 Wuppertal
END:VEVENT
BEGIN:VEVENT
DTSTAMP:20260422T055452
DTSTART;TZID=Europe/Berlin:20260504T090000
DTEND;TZID=Europe/Berlin:20260504T103000
UID:261W384108-20260504T090000@BERGISCHE VHS
SUMMARY:Eltern-Kind-Gruppe im Familienzentrum Flensburger Str. (261W384108) 
LOCATION:KiTa Flensburger Straße; Raum A; W-Elberfeld, Flensburger Str. 39, 42107 Wuppertal
END:VEVENT
BEGIN:VEVENT
DTSTAMP:20260422T055452
DTSTART;TZID=Europe/Berlin:20260511T090000
DTEND;TZID=Europe/Berlin:20260511T103000
UID:261W384108-20260511T090000@BERGISCHE VHS
SUMMARY:Eltern-Kind-Gruppe im Familienzentrum Flensburger Str. (261W384108) 
LOCATION:KiTa Flensburger Straße; Raum A; W-Elberfeld, Flensburger Str. 39, 42107 Wuppertal
END:VEVENT
BEGIN:VEVENT
DTSTAMP:20260422T055452
DTSTART;TZID=Europe/Berlin:20260518T090000
DTEND;TZID=Europe/Berlin:20260518T103000
UID:261W384108-20260518T090000@BERGISCHE VHS
SUMMARY:Eltern-Kind-Gruppe im Familienzentrum Flensburger Str. (261W384108) 
LOCATION:KiTa Flensburger Straße; Raum A; W-Elberfeld, Flensburger Str. 39, 42107 Wuppertal
END:VEVENT
BEGIN:VEVENT
DTSTAMP:20260422T055452
DTSTART;TZID=Europe/Berlin:20260601T090000
DTEND;TZID=Europe/Berlin:20260601T103000
UID:261W384108-20260601T090000@BERGISCHE VHS
SUMMARY:Eltern-Kind-Gruppe im Familienzentrum Flensburger Str. (261W384108) 
LOCATION:KiTa Flensburger Straße; Raum A; W-Elberfeld, Flensburger Str. 39, 42107 Wuppertal
END:VEVENT
BEGIN:VEVENT
DTSTAMP:20260422T055452
DTSTART;TZID=Europe/Berlin:20260608T090000
DTEND;TZID=Europe/Berlin:20260608T103000
UID:261W384108-20260608T090000@BERGISCHE VHS
SUMMARY:Eltern-Kind-Gruppe im Familienzentrum Flensburger Str. (261W384108) 
LOCATION:KiTa Flensburger Straße; Raum A; W-Elberfeld, Flensburger Str. 39, 42107 Wuppertal
END:VEVENT
BEGIN:VEVENT
DTSTAMP:20260422T055452
DTSTART;TZID=Europe/Berlin:20260615T090000
DTEND;TZID=Europe/Berlin:20260615T103000
UID:261W384108-20260615T090000@BERGISCHE VHS
SUMMARY:Eltern-Kind-Gruppe im Familienzentrum Flensburger Str. (261W384108) 
LOCATION:KiTa Flensburger Straße; Raum A; W-Elberfeld, Flensburger Str. 39, 42107 Wuppertal
END:VEVENT
BEGIN:VEVENT
DTSTAMP:20260422T055452
DTSTART;TZID=Europe/Berlin:20260622T090000
DTEND;TZID=Europe/Berlin:20260622T103000
UID:261W384108-20260622T090000@BERGISCHE VHS
SUMMARY:Eltern-Kind-Gruppe im Familienzentrum Flensburger Str. (261W384108) 
LOCATION:KiTa Flensburger Straße; Raum A; W-Elberfeld, Flensburger Str. 39, 42107 Wuppertal
END:VEVENT
BEGIN:VEVENT
DTSTAMP:20260422T055452
DTSTART;TZID=Europe/Berlin:20260629T090000
DTEND;TZID=Europe/Berlin:20260629T103000
UID:261W384108-20260629T090000@BERGISCHE VHS
SUMMARY:Eltern-Kind-Gruppe im Familienzentrum Flensburger Str. (261W384108) 
LOCATION:KiTa Flensburger Straße; Raum A; W-Elberfeld, Flensburger Str. 39, 42107 Wuppertal
END:VEVENT
BEGIN:VEVENT
DTSTAMP:20260422T055452
DTSTART;TZID=Europe/Berlin:20260706T090000
DTEND;TZID=Europe/Berlin:20260706T103000
UID:261W384108-20260706T090000@BERGISCHE VHS
SUMMARY:Eltern-Kind-Gruppe im Familienzentrum Flensburger Str. (261W384108) 
LOCATION:KiTa Flensburger Straße; Raum A; W-Elberfeld, Flensburger Str. 39, 42107 Wuppertal
END:VEVENT
BEGIN:VEVENT
DTSTAMP:20260422T055452
DTSTART;TZID=Europe/Berlin:20260713T090000
DTEND;TZID=Europe/Berlin:20260713T103000
UID:261W384108-20260713T090000@BERGISCHE VHS
SUMMARY:Eltern-Kind-Gruppe im Familienzentrum Flensburger Str. (261W384108) 
LOCATION:KiTa Flensburger Straße; Raum A; W-Elberfeld, Flensburger Str. 39, 42107 Wuppertal
END:VEVENT
END:VCALENDAR