BEGIN:VCALENDAR
VERSION:2.0
PRODID:https://www.kufer.de/kuferweb / DE
METHOD:PUBLISH
CALSCALE:GREGORIAN
X-WR-TIMEZONE:Europe/Berlin
BEGIN:VTIMEZONE
TZID:Europe/Berlin
X-LIC-LOCATION:Europe/Berlin
BEGIN:DAYLIGHT
TZOFFSETFROM:+0100
TZOFFSETTO:+0200
TZNAME:CEST
DTSTART:19700329T020000
RRULE:FREQ=YEARLY;INTERVAL=1;BYDAY=-1SU;BYMONTH=3
END:DAYLIGHT
BEGIN:STANDARD
TZOFFSETFROM:+0200
TZOFFSETTO:+0100
TZNAME:CET
DTSTART:19701025T030000
RRULE:FREQ=YEARLY;INTERVAL=1;BYDAY=-1SU;BYMONTH=10
END:STANDARD
END:VTIMEZONE
BEGIN:VEVENT
DTSTAMP:20260422T180108
DTSTART;TZID=Europe/Berlin:20260116T083000
DTEND;TZID=Europe/Berlin:20260116T100000
UID:261W384107-20260116T083000@BERGISCHE VHS
SUMMARY:Eltern-Kind-Gruppe im Familienzentrum Distelbeck (261W384107) 
LOCATION:KiTa Distelbeck; Raum A; W-Elberfeld, Distelbeck 57, 42119 Wuppertal
END:VEVENT
BEGIN:VEVENT
DTSTAMP:20260422T180108
DTSTART;TZID=Europe/Berlin:20260130T083000
DTEND;TZID=Europe/Berlin:20260130T100000
UID:261W384107-20260130T083000@BERGISCHE VHS
SUMMARY:Eltern-Kind-Gruppe im Familienzentrum Distelbeck (261W384107) 
LOCATION:KiTa Distelbeck; Raum A; W-Elberfeld, Distelbeck 57, 42119 Wuppertal
END:VEVENT
BEGIN:VEVENT
DTSTAMP:20260422T180108
DTSTART;TZID=Europe/Berlin:20260206T083000
DTEND;TZID=Europe/Berlin:20260206T100000
UID:261W384107-20260206T083000@BERGISCHE VHS
SUMMARY:Eltern-Kind-Gruppe im Familienzentrum Distelbeck (261W384107) 
LOCATION:KiTa Distelbeck; Raum A; W-Elberfeld, Distelbeck 57, 42119 Wuppertal
END:VEVENT
BEGIN:VEVENT
DTSTAMP:20260422T180108
DTSTART;TZID=Europe/Berlin:20260213T083000
DTEND;TZID=Europe/Berlin:20260213T113000
UID:261W384107-20260213T083000@BERGISCHE VHS
DESCRIPTION:09.02.26 (*BB): Nachholtermin für 23.01.2026
SUMMARY:Eltern-Kind-Gruppe im Familienzentrum Distelbeck (261W384107) 
LOCATION:KiTa Distelbeck; Raum A; W-Elberfeld, Distelbeck 57, 42119 Wuppertal
END:VEVENT
BEGIN:VEVENT
DTSTAMP:20260422T180108
DTSTART;TZID=Europe/Berlin:20260220T083000
DTEND;TZID=Europe/Berlin:20260220T100000
UID:261W384107-20260220T083000@BERGISCHE VHS
SUMMARY:Eltern-Kind-Gruppe im Familienzentrum Distelbeck (261W384107) 
LOCATION:KiTa Distelbeck; Raum A; W-Elberfeld, Distelbeck 57, 42119 Wuppertal
END:VEVENT
BEGIN:VEVENT
DTSTAMP:20260422T180108
DTSTART;TZID=Europe/Berlin:20260227T083000
DTEND;TZID=Europe/Berlin:20260227T100000
UID:261W384107-20260227T083000@BERGISCHE VHS
SUMMARY:Eltern-Kind-Gruppe im Familienzentrum Distelbeck (261W384107) 
LOCATION:KiTa Distelbeck; Raum A; W-Elberfeld, Distelbeck 57, 42119 Wuppertal
END:VEVENT
BEGIN:VEVENT
DTSTAMP:20260422T180108
DTSTART;TZID=Europe/Berlin:20260306T083000
DTEND;TZID=Europe/Berlin:20260306T100000
UID:261W384107-20260306T083000@BERGISCHE VHS
SUMMARY:Eltern-Kind-Gruppe im Familienzentrum Distelbeck (261W384107) 
LOCATION:KiTa Distelbeck; Raum A; W-Elberfeld, Distelbeck 57, 42119 Wuppertal
END:VEVENT
BEGIN:VEVENT
DTSTAMP:20260422T180108
DTSTART;TZID=Europe/Berlin:20260313T083000
DTEND;TZID=Europe/Berlin:20260313T100000
UID:261W384107-20260313T083000@BERGISCHE VHS
SUMMARY:Eltern-Kind-Gruppe im Familienzentrum Distelbeck (261W384107) 
LOCATION:KiTa Distelbeck; Raum A; W-Elberfeld, Distelbeck 57, 42119 Wuppertal
END:VEVENT
BEGIN:VEVENT
DTSTAMP:20260422T180108
DTSTART;TZID=Europe/Berlin:20260320T083000
DTEND;TZID=Europe/Berlin:20260320T100000
UID:261W384107-20260320T083000@BERGISCHE VHS
SUMMARY:Eltern-Kind-Gruppe im Familienzentrum Distelbeck (261W384107) 
LOCATION:KiTa Distelbeck; Raum A; W-Elberfeld, Distelbeck 57, 42119 Wuppertal
END:VEVENT
BEGIN:VEVENT
DTSTAMP:20260422T180108
DTSTART;TZID=Europe/Berlin:20260327T083000
DTEND;TZID=Europe/Berlin:20260327T100000
UID:261W384107-20260327T083000@BERGISCHE VHS
SUMMARY:Eltern-Kind-Gruppe im Familienzentrum Distelbeck (261W384107) 
LOCATION:KiTa Distelbeck; Raum A; W-Elberfeld, Distelbeck 57, 42119 Wuppertal
END:VEVENT
BEGIN:VEVENT
DTSTAMP:20260422T180108
DTSTART;TZID=Europe/Berlin:20260417T083000
DTEND;TZID=Europe/Berlin:20260417T100000
UID:261W384107-20260417T083000@BERGISCHE VHS
SUMMARY:Eltern-Kind-Gruppe im Familienzentrum Distelbeck (261W384107) 
LOCATION:KiTa Distelbeck; Raum A; W-Elberfeld, Distelbeck 57, 42119 Wuppertal
END:VEVENT
BEGIN:VEVENT
DTSTAMP:20260422T180108
DTSTART;TZID=Europe/Berlin:20260424T083000
DTEND;TZID=Europe/Berlin:20260424T100000
UID:261W384107-20260424T083000@BERGISCHE VHS
SUMMARY:Eltern-Kind-Gruppe im Familienzentrum Distelbeck (261W384107) 
LOCATION:KiTa Distelbeck; Raum A; W-Elberfeld, Distelbeck 57, 42119 Wuppertal
END:VEVENT
BEGIN:VEVENT
DTSTAMP:20260422T180108
DTSTART;TZID=Europe/Berlin:20260508T083000
DTEND;TZID=Europe/Berlin:20260508T100000
UID:261W384107-20260508T083000@BERGISCHE VHS
SUMMARY:Eltern-Kind-Gruppe im Familienzentrum Distelbeck (261W384107) 
LOCATION:KiTa Distelbeck; Raum A; W-Elberfeld, Distelbeck 57, 42119 Wuppertal
END:VEVENT
BEGIN:VEVENT
DTSTAMP:20260422T180108
DTSTART;TZID=Europe/Berlin:20260515T083000
DTEND;TZID=Europe/Berlin:20260515T100000
UID:261W384107-20260515T083000@BERGISCHE VHS
SUMMARY:Eltern-Kind-Gruppe im Familienzentrum Distelbeck (261W384107) 
LOCATION:KiTa Distelbeck; Raum A; W-Elberfeld, Distelbeck 57, 42119 Wuppertal
END:VEVENT
BEGIN:VEVENT
DTSTAMP:20260422T180108
DTSTART;TZID=Europe/Berlin:20260522T083000
DTEND;TZID=Europe/Berlin:20260522T100000
UID:261W384107-20260522T083000@BERGISCHE VHS
SUMMARY:Eltern-Kind-Gruppe im Familienzentrum Distelbeck (261W384107) 
LOCATION:KiTa Distelbeck; Raum A; W-Elberfeld, Distelbeck 57, 42119 Wuppertal
END:VEVENT
BEGIN:VEVENT
DTSTAMP:20260422T180108
DTSTART;TZID=Europe/Berlin:20260529T083000
DTEND;TZID=Europe/Berlin:20260529T100000
UID:261W384107-20260529T083000@BERGISCHE VHS
SUMMARY:Eltern-Kind-Gruppe im Familienzentrum Distelbeck (261W384107) 
LOCATION:KiTa Distelbeck; Raum A; W-Elberfeld, Distelbeck 57, 42119 Wuppertal
END:VEVENT
BEGIN:VEVENT
DTSTAMP:20260422T180108
DTSTART;TZID=Europe/Berlin:20260605T083000
DTEND;TZID=Europe/Berlin:20260605T100000
UID:261W384107-20260605T083000@BERGISCHE VHS
SUMMARY:Eltern-Kind-Gruppe im Familienzentrum Distelbeck (261W384107) 
LOCATION:KiTa Distelbeck; Raum A; W-Elberfeld, Distelbeck 57, 42119 Wuppertal
END:VEVENT
BEGIN:VEVENT
DTSTAMP:20260422T180108
DTSTART;TZID=Europe/Berlin:20260612T083000
DTEND;TZID=Europe/Berlin:20260612T100000
UID:261W384107-20260612T083000@BERGISCHE VHS
SUMMARY:Eltern-Kind-Gruppe im Familienzentrum Distelbeck (261W384107) 
LOCATION:KiTa Distelbeck; Raum A; W-Elberfeld, Distelbeck 57, 42119 Wuppertal
END:VEVENT
BEGIN:VEVENT
DTSTAMP:20260422T180108
DTSTART;TZID=Europe/Berlin:20260619T083000
DTEND;TZID=Europe/Berlin:20260619T100000
UID:261W384107-20260619T083000@BERGISCHE VHS
SUMMARY:Eltern-Kind-Gruppe im Familienzentrum Distelbeck (261W384107) 
LOCATION:KiTa Distelbeck; Raum A; W-Elberfeld, Distelbeck 57, 42119 Wuppertal
END:VEVENT
BEGIN:VEVENT
DTSTAMP:20260422T180108
DTSTART;TZID=Europe/Berlin:20260626T083000
DTEND;TZID=Europe/Berlin:20260626T100000
UID:261W384107-20260626T083000@BERGISCHE VHS
SUMMARY:Eltern-Kind-Gruppe im Familienzentrum Distelbeck (261W384107) 
LOCATION:KiTa Distelbeck; Raum A; W-Elberfeld, Distelbeck 57, 42119 Wuppertal
END:VEVENT
BEGIN:VEVENT
DTSTAMP:20260422T180108
DTSTART;TZID=Europe/Berlin:20260703T083000
DTEND;TZID=Europe/Berlin:20260703T100000
UID:261W384107-20260703T083000@BERGISCHE VHS
SUMMARY:Eltern-Kind-Gruppe im Familienzentrum Distelbeck (261W384107) 
LOCATION:KiTa Distelbeck; Raum A; W-Elberfeld, Distelbeck 57, 42119 Wuppertal
END:VEVENT
BEGIN:VEVENT
DTSTAMP:20260422T180108
DTSTART;TZID=Europe/Berlin:20260710T083000
DTEND;TZID=Europe/Berlin:20260710T100000
UID:261W384107-20260710T083000@BERGISCHE VHS
SUMMARY:Eltern-Kind-Gruppe im Familienzentrum Distelbeck (261W384107) 
LOCATION:KiTa Distelbeck; Raum A; W-Elberfeld, Distelbeck 57, 42119 Wuppertal
END:VEVENT
BEGIN:VEVENT
DTSTAMP:20260422T180108
DTSTART;TZID=Europe/Berlin:20260717T083000
DTEND;TZID=Europe/Berlin:20260717T100000
UID:261W384107-20260717T083000@BERGISCHE VHS
SUMMARY:Eltern-Kind-Gruppe im Familienzentrum Distelbeck (261W384107) 
LOCATION:KiTa Distelbeck; Raum A; W-Elberfeld, Distelbeck 57, 42119 Wuppertal
END:VEVENT
END:VCALENDAR