BEGIN:VCALENDAR
VERSION:2.0
PRODID:https://www.kufer.de/kuferweb / DE
METHOD:PUBLISH
CALSCALE:GREGORIAN
X-WR-TIMEZONE:Europe/Berlin
BEGIN:VTIMEZONE
TZID:Europe/Berlin
X-LIC-LOCATION:Europe/Berlin
BEGIN:DAYLIGHT
TZOFFSETFROM:+0100
TZOFFSETTO:+0200
TZNAME:CEST
DTSTART:19700329T020000
RRULE:FREQ=YEARLY;INTERVAL=1;BYDAY=-1SU;BYMONTH=3
END:DAYLIGHT
BEGIN:STANDARD
TZOFFSETFROM:+0200
TZOFFSETTO:+0100
TZNAME:CET
DTSTART:19701025T030000
RRULE:FREQ=YEARLY;INTERVAL=1;BYDAY=-1SU;BYMONTH=10
END:STANDARD
END:VTIMEZONE
BEGIN:VEVENT
DTSTAMP:20260423T144022
DTSTART;TZID=Europe/Berlin:20260319T090000
DTEND;TZID=Europe/Berlin:20260319T111500
UID:261W327105-20260319T090000@BERGISCHE VHS
SUMMARY:Keramik (261W327105) 
LOCATION:Familienbildung in Vohwinkel; Werkraum; W-Vohwinkel, Gräfrather Str. 9 B, 42329 Wuppertal
END:VEVENT
BEGIN:VEVENT
DTSTAMP:20260423T144022
DTSTART;TZID=Europe/Berlin:20260326T090000
DTEND;TZID=Europe/Berlin:20260326T111500
UID:261W327105-20260326T090000@BERGISCHE VHS
SUMMARY:Keramik (261W327105) 
LOCATION:Familienbildung in Vohwinkel; Werkraum; W-Vohwinkel, Gräfrather Str. 9 B, 42329 Wuppertal
END:VEVENT
BEGIN:VEVENT
DTSTAMP:20260423T144022
DTSTART;TZID=Europe/Berlin:20260402T090000
DTEND;TZID=Europe/Berlin:20260402T111500
UID:261W327105-20260402T090000@BERGISCHE VHS
SUMMARY:Keramik (261W327105) 
LOCATION:Familienbildung in Vohwinkel; Werkraum; W-Vohwinkel, Gräfrather Str. 9 B, 42329 Wuppertal
END:VEVENT
BEGIN:VEVENT
DTSTAMP:20260423T144022
DTSTART;TZID=Europe/Berlin:20260409T090000
DTEND;TZID=Europe/Berlin:20260409T111500
UID:261W327105-20260409T090000@BERGISCHE VHS
SUMMARY:Keramik (261W327105) 
LOCATION:Familienbildung in Vohwinkel; Werkraum; W-Vohwinkel, Gräfrather Str. 9 B, 42329 Wuppertal
END:VEVENT
BEGIN:VEVENT
DTSTAMP:20260423T144022
DTSTART;TZID=Europe/Berlin:20260416T090000
DTEND;TZID=Europe/Berlin:20260416T111500
UID:261W327105-20260416T090000@BERGISCHE VHS
SUMMARY:Keramik (261W327105) 
LOCATION:Familienbildung in Vohwinkel; Werkraum; W-Vohwinkel, Gräfrather Str. 9 B, 42329 Wuppertal
END:VEVENT
BEGIN:VEVENT
DTSTAMP:20260423T144022
DTSTART;TZID=Europe/Berlin:20260423T090000
DTEND;TZID=Europe/Berlin:20260423T111500
UID:261W327105-20260423T090000@BERGISCHE VHS
SUMMARY:Keramik (261W327105) 
LOCATION:Familienbildung in Vohwinkel; Werkraum; W-Vohwinkel, Gräfrather Str. 9 B, 42329 Wuppertal
END:VEVENT
BEGIN:VEVENT
DTSTAMP:20260423T144022
DTSTART;TZID=Europe/Berlin:20260430T090000
DTEND;TZID=Europe/Berlin:20260430T111500
UID:261W327105-20260430T090000@BERGISCHE VHS
SUMMARY:Keramik (261W327105) 
LOCATION:Familienbildung in Vohwinkel; Werkraum; W-Vohwinkel, Gräfrather Str. 9 B, 42329 Wuppertal
END:VEVENT
BEGIN:VEVENT
DTSTAMP:20260423T144022
DTSTART;TZID=Europe/Berlin:20260507T090000
DTEND;TZID=Europe/Berlin:20260507T111500
UID:261W327105-20260507T090000@BERGISCHE VHS
SUMMARY:Keramik (261W327105) 
LOCATION:Familienbildung in Vohwinkel; Werkraum; W-Vohwinkel, Gräfrather Str. 9 B, 42329 Wuppertal
END:VEVENT
END:VCALENDAR