BEGIN:VCALENDAR
VERSION:2.0
PRODID:https://www.kufer.de/kuferweb / DE
METHOD:PUBLISH
CALSCALE:GREGORIAN
X-WR-TIMEZONE:Europe/Berlin
BEGIN:VTIMEZONE
TZID:Europe/Berlin
X-LIC-LOCATION:Europe/Berlin
BEGIN:DAYLIGHT
TZOFFSETFROM:+0100
TZOFFSETTO:+0200
TZNAME:CEST
DTSTART:19700329T020000
RRULE:FREQ=YEARLY;INTERVAL=1;BYDAY=-1SU;BYMONTH=3
END:DAYLIGHT
BEGIN:STANDARD
TZOFFSETFROM:+0200
TZOFFSETTO:+0100
TZNAME:CET
DTSTART:19701025T030000
RRULE:FREQ=YEARLY;INTERVAL=1;BYDAY=-1SU;BYMONTH=10
END:STANDARD
END:VTIMEZONE
BEGIN:VEVENT
DTSTAMP:20260422T180034
DTSTART;TZID=Europe/Berlin:20260318T140000
DTEND;TZID=Europe/Berlin:20260318T161500
UID:261W327104-20260318T140000@BERGISCHE VHS
SUMMARY:Keramik (261W327104) 
LOCATION:Familienbildung in Vohwinkel; Werkraum; W-Vohwinkel, Gräfrather Str. 9 B, 42329 Wuppertal
END:VEVENT
BEGIN:VEVENT
DTSTAMP:20260422T180034
DTSTART;TZID=Europe/Berlin:20260325T140000
DTEND;TZID=Europe/Berlin:20260325T161500
UID:261W327104-20260325T140000@BERGISCHE VHS
SUMMARY:Keramik (261W327104) 
LOCATION:Familienbildung in Vohwinkel; Werkraum; W-Vohwinkel, Gräfrather Str. 9 B, 42329 Wuppertal
END:VEVENT
BEGIN:VEVENT
DTSTAMP:20260422T180034
DTSTART;TZID=Europe/Berlin:20260401T140000
DTEND;TZID=Europe/Berlin:20260401T161500
UID:261W327104-20260401T140000@BERGISCHE VHS
SUMMARY:Keramik (261W327104) 
LOCATION:Familienbildung in Vohwinkel; Werkraum; W-Vohwinkel, Gräfrather Str. 9 B, 42329 Wuppertal
END:VEVENT
BEGIN:VEVENT
DTSTAMP:20260422T180034
DTSTART;TZID=Europe/Berlin:20260408T140000
DTEND;TZID=Europe/Berlin:20260408T161500
UID:261W327104-20260408T140000@BERGISCHE VHS
SUMMARY:Keramik (261W327104) 
LOCATION:Familienbildung in Vohwinkel; Werkraum; W-Vohwinkel, Gräfrather Str. 9 B, 42329 Wuppertal
END:VEVENT
BEGIN:VEVENT
DTSTAMP:20260422T180034
DTSTART;TZID=Europe/Berlin:20260415T140000
DTEND;TZID=Europe/Berlin:20260415T161500
UID:261W327104-20260415T140000@BERGISCHE VHS
SUMMARY:Keramik (261W327104) 
LOCATION:Familienbildung in Vohwinkel; Werkraum; W-Vohwinkel, Gräfrather Str. 9 B, 42329 Wuppertal
END:VEVENT
BEGIN:VEVENT
DTSTAMP:20260422T180034
DTSTART;TZID=Europe/Berlin:20260422T140000
DTEND;TZID=Europe/Berlin:20260422T161500
UID:261W327104-20260422T140000@BERGISCHE VHS
SUMMARY:Keramik (261W327104) 
LOCATION:Familienbildung in Vohwinkel; Werkraum; W-Vohwinkel, Gräfrather Str. 9 B, 42329 Wuppertal
END:VEVENT
BEGIN:VEVENT
DTSTAMP:20260422T180034
DTSTART;TZID=Europe/Berlin:20260429T140000
DTEND;TZID=Europe/Berlin:20260429T161500
UID:261W327104-20260429T140000@BERGISCHE VHS
SUMMARY:Keramik (261W327104) 
LOCATION:Familienbildung in Vohwinkel; Werkraum; W-Vohwinkel, Gräfrather Str. 9 B, 42329 Wuppertal
END:VEVENT
BEGIN:VEVENT
DTSTAMP:20260422T180034
DTSTART;TZID=Europe/Berlin:20260506T140000
DTEND;TZID=Europe/Berlin:20260506T161500
UID:261W327104-20260506T140000@BERGISCHE VHS
SUMMARY:Keramik (261W327104) 
LOCATION:Familienbildung in Vohwinkel; Werkraum; W-Vohwinkel, Gräfrather Str. 9 B, 42329 Wuppertal
END:VEVENT
BEGIN:VEVENT
DTSTAMP:20260422T180034
DTSTART;TZID=Europe/Berlin:20260513T140000
DTEND;TZID=Europe/Berlin:20260513T161500
UID:261W327104-20260513T140000@BERGISCHE VHS
SUMMARY:Keramik (261W327104) 
LOCATION:Familienbildung in Vohwinkel; Werkraum; W-Vohwinkel, Gräfrather Str. 9 B, 42329 Wuppertal
END:VEVENT
END:VCALENDAR