BEGIN:VCALENDAR
VERSION:2.0
PRODID:https://www.kufer.de/kuferweb / DE
METHOD:PUBLISH
CALSCALE:GREGORIAN
X-WR-TIMEZONE:Europe/Berlin
BEGIN:VTIMEZONE
TZID:Europe/Berlin
X-LIC-LOCATION:Europe/Berlin
BEGIN:DAYLIGHT
TZOFFSETFROM:+0100
TZOFFSETTO:+0200
TZNAME:CEST
DTSTART:19700329T020000
RRULE:FREQ=YEARLY;INTERVAL=1;BYDAY=-1SU;BYMONTH=3
END:DAYLIGHT
BEGIN:STANDARD
TZOFFSETFROM:+0200
TZOFFSETTO:+0100
TZNAME:CET
DTSTART:19701025T030000
RRULE:FREQ=YEARLY;INTERVAL=1;BYDAY=-1SU;BYMONTH=10
END:STANDARD
END:VTIMEZONE
BEGIN:VEVENT
DTSTAMP:20260421T135726
DTSTART;TZID=Europe/Berlin:20260317T140000
DTEND;TZID=Europe/Berlin:20260317T161500
UID:261W327103-20260317T140000@BERGISCHE VHS
SUMMARY:Keramik (261W327103) 
LOCATION:Familienbildung in Vohwinkel; Werkraum; W-Vohwinkel, Gräfrather Str. 9 B, 42329 Wuppertal
END:VEVENT
BEGIN:VEVENT
DTSTAMP:20260421T135726
DTSTART;TZID=Europe/Berlin:20260324T140000
DTEND;TZID=Europe/Berlin:20260324T161500
UID:261W327103-20260324T140000@BERGISCHE VHS
SUMMARY:Keramik (261W327103) 
LOCATION:Familienbildung in Vohwinkel; Werkraum; W-Vohwinkel, Gräfrather Str. 9 B, 42329 Wuppertal
END:VEVENT
BEGIN:VEVENT
DTSTAMP:20260421T135726
DTSTART;TZID=Europe/Berlin:20260331T140000
DTEND;TZID=Europe/Berlin:20260331T161500
UID:261W327103-20260331T140000@BERGISCHE VHS
SUMMARY:Keramik (261W327103) 
LOCATION:Familienbildung in Vohwinkel; Werkraum; W-Vohwinkel, Gräfrather Str. 9 B, 42329 Wuppertal
END:VEVENT
BEGIN:VEVENT
DTSTAMP:20260421T135726
DTSTART;TZID=Europe/Berlin:20260407T140000
DTEND;TZID=Europe/Berlin:20260407T161500
UID:261W327103-20260407T140000@BERGISCHE VHS
SUMMARY:Keramik (261W327103) 
LOCATION:Familienbildung in Vohwinkel; Werkraum; W-Vohwinkel, Gräfrather Str. 9 B, 42329 Wuppertal
END:VEVENT
BEGIN:VEVENT
DTSTAMP:20260421T135726
DTSTART;TZID=Europe/Berlin:20260414T140000
DTEND;TZID=Europe/Berlin:20260414T161500
UID:261W327103-20260414T140000@BERGISCHE VHS
SUMMARY:Keramik (261W327103) 
LOCATION:Familienbildung in Vohwinkel; Werkraum; W-Vohwinkel, Gräfrather Str. 9 B, 42329 Wuppertal
END:VEVENT
BEGIN:VEVENT
DTSTAMP:20260421T135726
DTSTART;TZID=Europe/Berlin:20260421T140000
DTEND;TZID=Europe/Berlin:20260421T161500
UID:261W327103-20260421T140000@BERGISCHE VHS
SUMMARY:Keramik (261W327103) 
LOCATION:Familienbildung in Vohwinkel; Werkraum; W-Vohwinkel, Gräfrather Str. 9 B, 42329 Wuppertal
END:VEVENT
BEGIN:VEVENT
DTSTAMP:20260421T135726
DTSTART;TZID=Europe/Berlin:20260428T140000
DTEND;TZID=Europe/Berlin:20260428T161500
UID:261W327103-20260428T140000@BERGISCHE VHS
SUMMARY:Keramik (261W327103) 
LOCATION:Familienbildung in Vohwinkel; Werkraum; W-Vohwinkel, Gräfrather Str. 9 B, 42329 Wuppertal
END:VEVENT
BEGIN:VEVENT
DTSTAMP:20260421T135726
DTSTART;TZID=Europe/Berlin:20260505T140000
DTEND;TZID=Europe/Berlin:20260505T161500
UID:261W327103-20260505T140000@BERGISCHE VHS
SUMMARY:Keramik (261W327103) 
LOCATION:Familienbildung in Vohwinkel; Werkraum; W-Vohwinkel, Gräfrather Str. 9 B, 42329 Wuppertal
END:VEVENT
BEGIN:VEVENT
DTSTAMP:20260421T135726
DTSTART;TZID=Europe/Berlin:20260512T140000
DTEND;TZID=Europe/Berlin:20260512T161500
UID:261W327103-20260512T140000@BERGISCHE VHS
SUMMARY:Keramik (261W327103) 
LOCATION:Familienbildung in Vohwinkel; Werkraum; W-Vohwinkel, Gräfrather Str. 9 B, 42329 Wuppertal
END:VEVENT
END:VCALENDAR