BEGIN:VCALENDAR
VERSION:2.0
PRODID:https://www.kufer.de/kuferweb / DE
METHOD:PUBLISH
CALSCALE:GREGORIAN
X-WR-TIMEZONE:Europe/Berlin
BEGIN:VTIMEZONE
TZID:Europe/Berlin
X-LIC-LOCATION:Europe/Berlin
BEGIN:DAYLIGHT
TZOFFSETFROM:+0100
TZOFFSETTO:+0200
TZNAME:CEST
DTSTART:19700329T020000
RRULE:FREQ=YEARLY;INTERVAL=1;BYDAY=-1SU;BYMONTH=3
END:DAYLIGHT
BEGIN:STANDARD
TZOFFSETFROM:+0200
TZOFFSETTO:+0100
TZNAME:CET
DTSTART:19701025T030000
RRULE:FREQ=YEARLY;INTERVAL=1;BYDAY=-1SU;BYMONTH=10
END:STANDARD
END:VTIMEZONE
BEGIN:VEVENT
DTSTAMP:20260422T200922
DTSTART;TZID=Europe/Berlin:20260116T174500
DTEND;TZID=Europe/Berlin:20260116T191500
UID:261W121320-20260116T174500@BERGISCHE VHS
DESCRIPTION:Addition, Partnerzahlen, Knobelaufgaben, Schriftliche Addition.
SUMMARY:Rechnen von Anfang an (261W121320) 
LOCATION:VHS Auer Schulstraße; Raum A310; W-Elberfeld, Auer Schulstr. 20, 42103 Wuppertal
END:VEVENT
BEGIN:VEVENT
DTSTAMP:20260422T200922
DTSTART;TZID=Europe/Berlin:20260123T174500
DTEND;TZID=Europe/Berlin:20260123T191500
UID:261W121320-20260123T174500@BERGISCHE VHS
DESCRIPTION:Addition, Rechentricks
SUMMARY:Rechnen von Anfang an (261W121320) 
LOCATION:VHS Auer Schulstraße; Raum A310; W-Elberfeld, Auer Schulstr. 20, 42103 Wuppertal
END:VEVENT
BEGIN:VEVENT
DTSTAMP:20260422T200922
DTSTART;TZID=Europe/Berlin:20260130T174500
DTEND;TZID=Europe/Berlin:20260130T191500
UID:261W121320-20260130T174500@BERGISCHE VHS
DESCRIPTION:Knobelaufgaben, Grundrechenarten und Rechentricks.
SUMMARY:Rechnen von Anfang an (261W121320) 
LOCATION:VHS Auer Schulstraße; Raum A310; W-Elberfeld, Auer Schulstr. 20, 42103 Wuppertal
END:VEVENT
BEGIN:VEVENT
DTSTAMP:20260422T200922
DTSTART;TZID=Europe/Berlin:20260206T174500
DTEND;TZID=Europe/Berlin:20260206T191500
UID:261W121320-20260206T174500@BERGISCHE VHS
DESCRIPTION:Knobelaufgaben, Grundrechenarten und Rechentricks.
SUMMARY:Rechnen von Anfang an (261W121320) 
LOCATION:VHS Auer Schulstraße; Raum A310; W-Elberfeld, Auer Schulstr. 20, 42103 Wuppertal
END:VEVENT
BEGIN:VEVENT
DTSTAMP:20260422T200922
DTSTART;TZID=Europe/Berlin:20260213T174500
DTEND;TZID=Europe/Berlin:20260213T191500
UID:261W121320-20260213T174500@BERGISCHE VHS
DESCRIPTION:Rechenmauer, das kleine Einmaleins
SUMMARY:Rechnen von Anfang an (261W121320) 
LOCATION:VHS Auer Schulstraße; Raum A310; W-Elberfeld, Auer Schulstr. 20, 42103 Wuppertal
END:VEVENT
BEGIN:VEVENT
DTSTAMP:20260422T200922
DTSTART;TZID=Europe/Berlin:20260220T174500
DTEND;TZID=Europe/Berlin:20260220T191500
UID:261W121320-20260220T174500@BERGISCHE VHS
DESCRIPTION:Grundrechenarten
SUMMARY:Rechnen von Anfang an (261W121320) 
LOCATION:VHS Auer Schulstraße; Raum A310; W-Elberfeld, Auer Schulstr. 20, 42103 Wuppertal
END:VEVENT
BEGIN:VEVENT
DTSTAMP:20260422T200922
DTSTART;TZID=Europe/Berlin:20260227T174500
DTEND;TZID=Europe/Berlin:20260227T191500
UID:261W121320-20260227T174500@BERGISCHE VHS
DESCRIPTION:Grundrechenarten
SUMMARY:Rechnen von Anfang an (261W121320) 
LOCATION:VHS Auer Schulstraße; Raum A310; W-Elberfeld, Auer Schulstr. 20, 42103 Wuppertal
END:VEVENT
BEGIN:VEVENT
DTSTAMP:20260422T200922
DTSTART;TZID=Europe/Berlin:20260306T174500
DTEND;TZID=Europe/Berlin:20260306T191500
UID:261W121320-20260306T174500@BERGISCHE VHS
DESCRIPTION:Grundrechenarten; magische Quadrate
SUMMARY:Rechnen von Anfang an (261W121320) 
LOCATION:VHS Auer Schulstraße; Raum A310; W-Elberfeld, Auer Schulstr. 20, 42103 Wuppertal
END:VEVENT
BEGIN:VEVENT
DTSTAMP:20260422T200922
DTSTART;TZID=Europe/Berlin:20260320T174500
DTEND;TZID=Europe/Berlin:20260320T191500
UID:261W121320-20260320T174500@BERGISCHE VHS
SUMMARY:Rechnen von Anfang an (261W121320) 
LOCATION:VHS Auer Schulstraße; Raum A310; W-Elberfeld, Auer Schulstr. 20, 42103 Wuppertal
END:VEVENT
BEGIN:VEVENT
DTSTAMP:20260422T200922
DTSTART;TZID=Europe/Berlin:20260327T174500
DTEND;TZID=Europe/Berlin:20260327T191500
UID:261W121320-20260327T174500@BERGISCHE VHS
SUMMARY:Rechnen von Anfang an (261W121320) 
LOCATION:VHS Auer Schulstraße; Raum A310; W-Elberfeld, Auer Schulstr. 20, 42103 Wuppertal
END:VEVENT
END:VCALENDAR