BEGIN:VCALENDAR
VERSION:2.0
PRODID:https://www.kufer.de/kuferweb / DE
METHOD:PUBLISH
CALSCALE:GREGORIAN
X-WR-TIMEZONE:Europe/Berlin
BEGIN:VTIMEZONE
TZID:Europe/Berlin
X-LIC-LOCATION:Europe/Berlin
BEGIN:DAYLIGHT
TZOFFSETFROM:+0100
TZOFFSETTO:+0200
TZNAME:CEST
DTSTART:19700329T020000
RRULE:FREQ=YEARLY;INTERVAL=1;BYDAY=-1SU;BYMONTH=3
END:DAYLIGHT
BEGIN:STANDARD
TZOFFSETFROM:+0200
TZOFFSETTO:+0100
TZNAME:CET
DTSTART:19701025T030000
RRULE:FREQ=YEARLY;INTERVAL=1;BYDAY=-1SU;BYMONTH=10
END:STANDARD
END:VTIMEZONE
BEGIN:VEVENT
DTSTAMP:20260423T155652
DTSTART;TZID=Europe/Berlin:20260112T163000
DTEND;TZID=Europe/Berlin:20260112T180000
UID:261W121140-20260112T163000@BERGISCHE VHS
SUMMARY:Lesen und Schreiben lernen Stufe 2 (261W121140) 
LOCATION:VHS Auer Schulstraße; Raum B222; W-Elberfeld, Auer Schulstr. 20, 42103 Wuppertal
END:VEVENT
BEGIN:VEVENT
DTSTAMP:20260423T155652
DTSTART;TZID=Europe/Berlin:20260114T163000
DTEND;TZID=Europe/Berlin:20260114T180000
UID:261W121140-20260114T163000@BERGISCHE VHS
SUMMARY:Lesen und Schreiben lernen Stufe 2 (261W121140) 
LOCATION:VHS Auer Schulstraße; Raum B222; W-Elberfeld, Auer Schulstr. 20, 42103 Wuppertal
END:VEVENT
BEGIN:VEVENT
DTSTAMP:20260423T155652
DTSTART;TZID=Europe/Berlin:20260119T163000
DTEND;TZID=Europe/Berlin:20260119T180000
UID:261W121140-20260119T163000@BERGISCHE VHS
SUMMARY:Lesen und Schreiben lernen Stufe 2 (261W121140) 
LOCATION:VHS Auer Schulstraße; Raum B222; W-Elberfeld, Auer Schulstr. 20, 42103 Wuppertal
END:VEVENT
BEGIN:VEVENT
DTSTAMP:20260423T155652
DTSTART;TZID=Europe/Berlin:20260121T163000
DTEND;TZID=Europe/Berlin:20260121T180000
UID:261W121140-20260121T163000@BERGISCHE VHS
SUMMARY:Lesen und Schreiben lernen Stufe 2 (261W121140) 
LOCATION:VHS Auer Schulstraße; Raum B222; W-Elberfeld, Auer Schulstr. 20, 42103 Wuppertal
END:VEVENT
BEGIN:VEVENT
DTSTAMP:20260423T155652
DTSTART;TZID=Europe/Berlin:20260126T163000
DTEND;TZID=Europe/Berlin:20260126T180000
UID:261W121140-20260126T163000@BERGISCHE VHS
SUMMARY:Lesen und Schreiben lernen Stufe 2 (261W121140) 
LOCATION:VHS Auer Schulstraße; Raum B222; W-Elberfeld, Auer Schulstr. 20, 42103 Wuppertal
END:VEVENT
BEGIN:VEVENT
DTSTAMP:20260423T155652
DTSTART;TZID=Europe/Berlin:20260128T163000
DTEND;TZID=Europe/Berlin:20260128T180000
UID:261W121140-20260128T163000@BERGISCHE VHS
SUMMARY:Lesen und Schreiben lernen Stufe 2 (261W121140) 
LOCATION:VHS Auer Schulstraße; Raum B222; W-Elberfeld, Auer Schulstr. 20, 42103 Wuppertal
END:VEVENT
BEGIN:VEVENT
DTSTAMP:20260423T155652
DTSTART;TZID=Europe/Berlin:20260202T163000
DTEND;TZID=Europe/Berlin:20260202T180000
UID:261W121140-20260202T163000@BERGISCHE VHS
SUMMARY:Lesen und Schreiben lernen Stufe 2 (261W121140) 
LOCATION:VHS Auer Schulstraße; Raum B222; W-Elberfeld, Auer Schulstr. 20, 42103 Wuppertal
END:VEVENT
BEGIN:VEVENT
DTSTAMP:20260423T155652
DTSTART;TZID=Europe/Berlin:20260204T163000
DTEND;TZID=Europe/Berlin:20260204T180000
UID:261W121140-20260204T163000@BERGISCHE VHS
SUMMARY:Lesen und Schreiben lernen Stufe 2 (261W121140) 
LOCATION:VHS Auer Schulstraße; Raum B222; W-Elberfeld, Auer Schulstr. 20, 42103 Wuppertal
END:VEVENT
BEGIN:VEVENT
DTSTAMP:20260423T155652
DTSTART;TZID=Europe/Berlin:20260209T163000
DTEND;TZID=Europe/Berlin:20260209T180000
UID:261W121140-20260209T163000@BERGISCHE VHS
SUMMARY:Lesen und Schreiben lernen Stufe 2 (261W121140) 
LOCATION:VHS Auer Schulstraße; Raum B222; W-Elberfeld, Auer Schulstr. 20, 42103 Wuppertal
END:VEVENT
BEGIN:VEVENT
DTSTAMP:20260423T155652
DTSTART;TZID=Europe/Berlin:20260211T163000
DTEND;TZID=Europe/Berlin:20260211T180000
UID:261W121140-20260211T163000@BERGISCHE VHS
SUMMARY:Lesen und Schreiben lernen Stufe 2 (261W121140) 
LOCATION:VHS Auer Schulstraße; Raum B222; W-Elberfeld, Auer Schulstr. 20, 42103 Wuppertal
END:VEVENT
BEGIN:VEVENT
DTSTAMP:20260423T155652
DTSTART;TZID=Europe/Berlin:20260218T163000
DTEND;TZID=Europe/Berlin:20260218T180000
UID:261W121140-20260218T163000@BERGISCHE VHS
SUMMARY:Lesen und Schreiben lernen Stufe 2 (261W121140) 
LOCATION:VHS Auer Schulstraße; Raum B222; W-Elberfeld, Auer Schulstr. 20, 42103 Wuppertal
END:VEVENT
BEGIN:VEVENT
DTSTAMP:20260423T155652
DTSTART;TZID=Europe/Berlin:20260223T163000
DTEND;TZID=Europe/Berlin:20260223T180000
UID:261W121140-20260223T163000@BERGISCHE VHS
SUMMARY:Lesen und Schreiben lernen Stufe 2 (261W121140) 
LOCATION:VHS Auer Schulstraße; Raum B222; W-Elberfeld, Auer Schulstr. 20, 42103 Wuppertal
END:VEVENT
BEGIN:VEVENT
DTSTAMP:20260423T155652
DTSTART;TZID=Europe/Berlin:20260225T163000
DTEND;TZID=Europe/Berlin:20260225T180000
UID:261W121140-20260225T163000@BERGISCHE VHS
SUMMARY:Lesen und Schreiben lernen Stufe 2 (261W121140) 
LOCATION:VHS Auer Schulstraße; Raum B222; W-Elberfeld, Auer Schulstr. 20, 42103 Wuppertal
END:VEVENT
BEGIN:VEVENT
DTSTAMP:20260423T155652
DTSTART;TZID=Europe/Berlin:20260302T163000
DTEND;TZID=Europe/Berlin:20260302T180000
UID:261W121140-20260302T163000@BERGISCHE VHS
SUMMARY:Lesen und Schreiben lernen Stufe 2 (261W121140) 
LOCATION:VHS Auer Schulstraße; Raum B222; W-Elberfeld, Auer Schulstr. 20, 42103 Wuppertal
END:VEVENT
BEGIN:VEVENT
DTSTAMP:20260423T155652
DTSTART;TZID=Europe/Berlin:20260304T163000
DTEND;TZID=Europe/Berlin:20260304T180000
UID:261W121140-20260304T163000@BERGISCHE VHS
SUMMARY:Lesen und Schreiben lernen Stufe 2 (261W121140) 
LOCATION:VHS Auer Schulstraße; Raum B222; W-Elberfeld, Auer Schulstr. 20, 42103 Wuppertal
END:VEVENT
BEGIN:VEVENT
DTSTAMP:20260423T155652
DTSTART;TZID=Europe/Berlin:20260309T163000
DTEND;TZID=Europe/Berlin:20260309T180000
UID:261W121140-20260309T163000@BERGISCHE VHS
SUMMARY:Lesen und Schreiben lernen Stufe 2 (261W121140) 
LOCATION:VHS Auer Schulstraße; Raum B222; W-Elberfeld, Auer Schulstr. 20, 42103 Wuppertal
END:VEVENT
BEGIN:VEVENT
DTSTAMP:20260423T155652
DTSTART;TZID=Europe/Berlin:20260311T163000
DTEND;TZID=Europe/Berlin:20260311T180000
UID:261W121140-20260311T163000@BERGISCHE VHS
SUMMARY:Lesen und Schreiben lernen Stufe 2 (261W121140) 
LOCATION:VHS Auer Schulstraße; Raum B222; W-Elberfeld, Auer Schulstr. 20, 42103 Wuppertal
END:VEVENT
BEGIN:VEVENT
DTSTAMP:20260423T155652
DTSTART;TZID=Europe/Berlin:20260316T163000
DTEND;TZID=Europe/Berlin:20260316T180000
UID:261W121140-20260316T163000@BERGISCHE VHS
SUMMARY:Lesen und Schreiben lernen Stufe 2 (261W121140) 
LOCATION:VHS Auer Schulstraße; Raum B222; W-Elberfeld, Auer Schulstr. 20, 42103 Wuppertal
END:VEVENT
BEGIN:VEVENT
DTSTAMP:20260423T155652
DTSTART;TZID=Europe/Berlin:20260318T163000
DTEND;TZID=Europe/Berlin:20260318T180000
UID:261W121140-20260318T163000@BERGISCHE VHS
SUMMARY:Lesen und Schreiben lernen Stufe 2 (261W121140) 
LOCATION:VHS Auer Schulstraße; Raum B222; W-Elberfeld, Auer Schulstr. 20, 42103 Wuppertal
END:VEVENT
BEGIN:VEVENT
DTSTAMP:20260423T155652
DTSTART;TZID=Europe/Berlin:20260323T163000
DTEND;TZID=Europe/Berlin:20260323T180000
UID:261W121140-20260323T163000@BERGISCHE VHS
SUMMARY:Lesen und Schreiben lernen Stufe 2 (261W121140) 
LOCATION:VHS Auer Schulstraße; Raum B222; W-Elberfeld, Auer Schulstr. 20, 42103 Wuppertal
END:VEVENT
BEGIN:VEVENT
DTSTAMP:20260423T155652
DTSTART;TZID=Europe/Berlin:20260325T163000
DTEND;TZID=Europe/Berlin:20260325T180000
UID:261W121140-20260325T163000@BERGISCHE VHS
SUMMARY:Lesen und Schreiben lernen Stufe 2 (261W121140) 
LOCATION:VHS Auer Schulstraße; Raum B222; W-Elberfeld, Auer Schulstr. 20, 42103 Wuppertal
END:VEVENT
END:VCALENDAR