BEGIN:VCALENDAR
VERSION:2.0
PRODID:https://www.kufer.de/kuferweb / DE
METHOD:PUBLISH
CALSCALE:GREGORIAN
X-WR-TIMEZONE:Europe/Berlin
BEGIN:VTIMEZONE
TZID:Europe/Berlin
X-LIC-LOCATION:Europe/Berlin
BEGIN:DAYLIGHT
TZOFFSETFROM:+0100
TZOFFSETTO:+0200
TZNAME:CEST
DTSTART:19700329T020000
RRULE:FREQ=YEARLY;INTERVAL=1;BYDAY=-1SU;BYMONTH=3
END:DAYLIGHT
BEGIN:STANDARD
TZOFFSETFROM:+0200
TZOFFSETTO:+0100
TZNAME:CET
DTSTART:19701025T030000
RRULE:FREQ=YEARLY;INTERVAL=1;BYDAY=-1SU;BYMONTH=10
END:STANDARD
END:VTIMEZONE
BEGIN:VEVENT
DTSTAMP:20260421T221232
DTSTART;TZID=Europe/Berlin:20260415T170000
DTEND;TZID=Europe/Berlin:20260415T180000
UID:261S148186-20260415T170000@BERGISCHE VHS
SUMMARY:Stabile Mitte, innere Aufrichtung – Gymnastik und Entspannung (261S148186) 
LOCATION:August-Dicke-Schule; Gymnastikhalle; SG-Mitte, Schützenstr. 44, 42659 Solingen
END:VEVENT
BEGIN:VEVENT
DTSTAMP:20260421T221232
DTSTART;TZID=Europe/Berlin:20260422T170000
DTEND;TZID=Europe/Berlin:20260422T180000
UID:261S148186-20260422T170000@BERGISCHE VHS
SUMMARY:Stabile Mitte, innere Aufrichtung – Gymnastik und Entspannung (261S148186) 
LOCATION:August-Dicke-Schule; Gymnastikhalle; SG-Mitte, Schützenstr. 44, 42659 Solingen
END:VEVENT
BEGIN:VEVENT
DTSTAMP:20260421T221232
DTSTART;TZID=Europe/Berlin:20260429T170000
DTEND;TZID=Europe/Berlin:20260429T180000
UID:261S148186-20260429T170000@BERGISCHE VHS
SUMMARY:Stabile Mitte, innere Aufrichtung – Gymnastik und Entspannung (261S148186) 
LOCATION:August-Dicke-Schule; Gymnastikhalle; SG-Mitte, Schützenstr. 44, 42659 Solingen
END:VEVENT
BEGIN:VEVENT
DTSTAMP:20260421T221232
DTSTART;TZID=Europe/Berlin:20260506T170000
DTEND;TZID=Europe/Berlin:20260506T180000
UID:261S148186-20260506T170000@BERGISCHE VHS
SUMMARY:Stabile Mitte, innere Aufrichtung – Gymnastik und Entspannung (261S148186) 
LOCATION:August-Dicke-Schule; Gymnastikhalle; SG-Mitte, Schützenstr. 44, 42659 Solingen
END:VEVENT
BEGIN:VEVENT
DTSTAMP:20260421T221232
DTSTART;TZID=Europe/Berlin:20260513T170000
DTEND;TZID=Europe/Berlin:20260513T180000
UID:261S148186-20260513T170000@BERGISCHE VHS
SUMMARY:Stabile Mitte, innere Aufrichtung – Gymnastik und Entspannung (261S148186) 
LOCATION:August-Dicke-Schule; Gymnastikhalle; SG-Mitte, Schützenstr. 44, 42659 Solingen
END:VEVENT
BEGIN:VEVENT
DTSTAMP:20260421T221232
DTSTART;TZID=Europe/Berlin:20260520T170000
DTEND;TZID=Europe/Berlin:20260520T180000
UID:261S148186-20260520T170000@BERGISCHE VHS
SUMMARY:Stabile Mitte, innere Aufrichtung – Gymnastik und Entspannung (261S148186) 
LOCATION:August-Dicke-Schule; Gymnastikhalle; SG-Mitte, Schützenstr. 44, 42659 Solingen
END:VEVENT
BEGIN:VEVENT
DTSTAMP:20260421T221232
DTSTART;TZID=Europe/Berlin:20260527T170000
DTEND;TZID=Europe/Berlin:20260527T180000
UID:261S148186-20260527T170000@BERGISCHE VHS
SUMMARY:Stabile Mitte, innere Aufrichtung – Gymnastik und Entspannung (261S148186) 
LOCATION:August-Dicke-Schule; Gymnastikhalle; SG-Mitte, Schützenstr. 44, 42659 Solingen
END:VEVENT
BEGIN:VEVENT
DTSTAMP:20260421T221232
DTSTART;TZID=Europe/Berlin:20260701T170000
DTEND;TZID=Europe/Berlin:20260701T180000
UID:261S148186-20260701T170000@BERGISCHE VHS
SUMMARY:Stabile Mitte, innere Aufrichtung – Gymnastik und Entspannung (261S148186) 
LOCATION:August-Dicke-Schule; Gymnastikhalle; SG-Mitte, Schützenstr. 44, 42659 Solingen
END:VEVENT
BEGIN:VEVENT
DTSTAMP:20260421T221232
DTSTART;TZID=Europe/Berlin:20260708T170000
DTEND;TZID=Europe/Berlin:20260708T180000
UID:261S148186-20260708T170000@BERGISCHE VHS
SUMMARY:Stabile Mitte, innere Aufrichtung – Gymnastik und Entspannung (261S148186) 
LOCATION:August-Dicke-Schule; Gymnastikhalle; SG-Mitte, Schützenstr. 44, 42659 Solingen
END:VEVENT
BEGIN:VEVENT
DTSTAMP:20260421T221232
DTSTART;TZID=Europe/Berlin:20260715T170000
DTEND;TZID=Europe/Berlin:20260715T180000
UID:261S148186-20260715T170000@BERGISCHE VHS
SUMMARY:Stabile Mitte, innere Aufrichtung – Gymnastik und Entspannung (261S148186) 
LOCATION:August-Dicke-Schule; Gymnastikhalle; SG-Mitte, Schützenstr. 44, 42659 Solingen
END:VEVENT
END:VCALENDAR