BEGIN:VCALENDAR
VERSION:2.0
PRODID:https://www.kufer.de/kuferweb / DE
METHOD:PUBLISH
CALSCALE:GREGORIAN
X-WR-TIMEZONE:Europe/Berlin
BEGIN:VTIMEZONE
TZID:Europe/Berlin
X-LIC-LOCATION:Europe/Berlin
BEGIN:DAYLIGHT
TZOFFSETFROM:+0100
TZOFFSETTO:+0200
TZNAME:CEST
DTSTART:19700329T020000
RRULE:FREQ=YEARLY;INTERVAL=1;BYDAY=-1SU;BYMONTH=3
END:DAYLIGHT
BEGIN:STANDARD
TZOFFSETFROM:+0200
TZOFFSETTO:+0100
TZNAME:CET
DTSTART:19701025T030000
RRULE:FREQ=YEARLY;INTERVAL=1;BYDAY=-1SU;BYMONTH=10
END:STANDARD
END:VTIMEZONE
BEGIN:VEVENT
DTSTAMP:20260422T055527
DTSTART;TZID=Europe/Berlin:20260413T173000
DTEND;TZID=Europe/Berlin:20260413T190000
UID:261S146100-20260413T173000@BERGISCHE VHS
SUMMARY:Hatha-Yoga (261S146100) 
LOCATION:KiTa Scharrenberger Straße; Bewegungsraum; SG-Ohligs, Scharrenberger Str. 2, 42699 Solingen
END:VEVENT
BEGIN:VEVENT
DTSTAMP:20260422T055527
DTSTART;TZID=Europe/Berlin:20260420T173000
DTEND;TZID=Europe/Berlin:20260420T190000
UID:261S146100-20260420T173000@BERGISCHE VHS
SUMMARY:Hatha-Yoga (261S146100) 
LOCATION:KiTa Scharrenberger Straße; Bewegungsraum; SG-Ohligs, Scharrenberger Str. 2, 42699 Solingen
END:VEVENT
BEGIN:VEVENT
DTSTAMP:20260422T055527
DTSTART;TZID=Europe/Berlin:20260427T173000
DTEND;TZID=Europe/Berlin:20260427T190000
UID:261S146100-20260427T173000@BERGISCHE VHS
SUMMARY:Hatha-Yoga (261S146100) 
LOCATION:KiTa Scharrenberger Straße; Bewegungsraum; SG-Ohligs, Scharrenberger Str. 2, 42699 Solingen
END:VEVENT
BEGIN:VEVENT
DTSTAMP:20260422T055527
DTSTART;TZID=Europe/Berlin:20260504T173000
DTEND;TZID=Europe/Berlin:20260504T190000
UID:261S146100-20260504T173000@BERGISCHE VHS
SUMMARY:Hatha-Yoga (261S146100) 
LOCATION:KiTa Scharrenberger Straße; Bewegungsraum; SG-Ohligs, Scharrenberger Str. 2, 42699 Solingen
END:VEVENT
BEGIN:VEVENT
DTSTAMP:20260422T055527
DTSTART;TZID=Europe/Berlin:20260511T173000
DTEND;TZID=Europe/Berlin:20260511T190000
UID:261S146100-20260511T173000@BERGISCHE VHS
SUMMARY:Hatha-Yoga (261S146100) 
LOCATION:KiTa Scharrenberger Straße; Bewegungsraum; SG-Ohligs, Scharrenberger Str. 2, 42699 Solingen
END:VEVENT
BEGIN:VEVENT
DTSTAMP:20260422T055527
DTSTART;TZID=Europe/Berlin:20260518T173000
DTEND;TZID=Europe/Berlin:20260518T190000
UID:261S146100-20260518T173000@BERGISCHE VHS
SUMMARY:Hatha-Yoga (261S146100) 
LOCATION:KiTa Scharrenberger Straße; Bewegungsraum; SG-Ohligs, Scharrenberger Str. 2, 42699 Solingen
END:VEVENT
BEGIN:VEVENT
DTSTAMP:20260422T055527
DTSTART;TZID=Europe/Berlin:20260601T173000
DTEND;TZID=Europe/Berlin:20260601T190000
UID:261S146100-20260601T173000@BERGISCHE VHS
SUMMARY:Hatha-Yoga (261S146100) 
LOCATION:KiTa Scharrenberger Straße; Bewegungsraum; SG-Ohligs, Scharrenberger Str. 2, 42699 Solingen
END:VEVENT
BEGIN:VEVENT
DTSTAMP:20260422T055527
DTSTART;TZID=Europe/Berlin:20260608T173000
DTEND;TZID=Europe/Berlin:20260608T190000
UID:261S146100-20260608T173000@BERGISCHE VHS
SUMMARY:Hatha-Yoga (261S146100) 
LOCATION:KiTa Scharrenberger Straße; Bewegungsraum; SG-Ohligs, Scharrenberger Str. 2, 42699 Solingen
END:VEVENT
BEGIN:VEVENT
DTSTAMP:20260422T055527
DTSTART;TZID=Europe/Berlin:20260615T173000
DTEND;TZID=Europe/Berlin:20260615T190000
UID:261S146100-20260615T173000@BERGISCHE VHS
SUMMARY:Hatha-Yoga (261S146100) 
LOCATION:KiTa Scharrenberger Straße; Bewegungsraum; SG-Ohligs, Scharrenberger Str. 2, 42699 Solingen
END:VEVENT
BEGIN:VEVENT
DTSTAMP:20260422T055527
DTSTART;TZID=Europe/Berlin:20260622T173000
DTEND;TZID=Europe/Berlin:20260622T190000
UID:261S146100-20260622T173000@BERGISCHE VHS
SUMMARY:Hatha-Yoga (261S146100) 
LOCATION:KiTa Scharrenberger Straße; Bewegungsraum; SG-Ohligs, Scharrenberger Str. 2, 42699 Solingen
END:VEVENT
BEGIN:VEVENT
DTSTAMP:20260422T055527
DTSTART;TZID=Europe/Berlin:20260629T173000
DTEND;TZID=Europe/Berlin:20260629T190000
UID:261S146100-20260629T173000@BERGISCHE VHS
SUMMARY:Hatha-Yoga (261S146100) 
LOCATION:KiTa Scharrenberger Straße; Bewegungsraum; SG-Ohligs, Scharrenberger Str. 2, 42699 Solingen
END:VEVENT
BEGIN:VEVENT
DTSTAMP:20260422T055527
DTSTART;TZID=Europe/Berlin:20260706T173000
DTEND;TZID=Europe/Berlin:20260706T190000
UID:261S146100-20260706T173000@BERGISCHE VHS
SUMMARY:Hatha-Yoga (261S146100) 
LOCATION:KiTa Scharrenberger Straße; Bewegungsraum; SG-Ohligs, Scharrenberger Str. 2, 42699 Solingen
END:VEVENT
END:VCALENDAR