BEGIN:VCALENDAR
VERSION:2.0
PRODID:https://www.kufer.de/kuferweb / DE
METHOD:PUBLISH
CALSCALE:GREGORIAN
X-WR-TIMEZONE:Europe/Berlin
BEGIN:VTIMEZONE
TZID:Europe/Berlin
X-LIC-LOCATION:Europe/Berlin
BEGIN:DAYLIGHT
TZOFFSETFROM:+0100
TZOFFSETTO:+0200
TZNAME:CEST
DTSTART:19700329T020000
RRULE:FREQ=YEARLY;INTERVAL=1;BYDAY=-1SU;BYMONTH=3
END:DAYLIGHT
BEGIN:STANDARD
TZOFFSETFROM:+0200
TZOFFSETTO:+0100
TZNAME:CET
DTSTART:19701025T030000
RRULE:FREQ=YEARLY;INTERVAL=1;BYDAY=-1SU;BYMONTH=10
END:STANDARD
END:VTIMEZONE
BEGIN:VEVENT
DTSTAMP:20260422T120614
DTSTART;TZID=Europe/Berlin:20260427T070000
DTEND;TZID=Europe/Berlin:20260427T074500
UID:261S145025-20260427T070000@BERGISCHE VHS
SUMMARY:ONLINE: Mindful Morning – Mit Klarheit in den Tag (261S145025) 
LOCATION:VHS Online; Gesundheit, , 
END:VEVENT
BEGIN:VEVENT
DTSTAMP:20260422T120614
DTSTART;TZID=Europe/Berlin:20260428T070000
DTEND;TZID=Europe/Berlin:20260428T074500
UID:261S145025-20260428T070000@BERGISCHE VHS
SUMMARY:ONLINE: Mindful Morning – Mit Klarheit in den Tag (261S145025) 
LOCATION:VHS Online; Gesundheit, , 
END:VEVENT
BEGIN:VEVENT
DTSTAMP:20260422T120614
DTSTART;TZID=Europe/Berlin:20260429T070000
DTEND;TZID=Europe/Berlin:20260429T074500
UID:261S145025-20260429T070000@BERGISCHE VHS
SUMMARY:ONLINE: Mindful Morning – Mit Klarheit in den Tag (261S145025) 
LOCATION:VHS Online; Gesundheit, , 
END:VEVENT
BEGIN:VEVENT
DTSTAMP:20260422T120614
DTSTART;TZID=Europe/Berlin:20260430T070000
DTEND;TZID=Europe/Berlin:20260430T074500
UID:261S145025-20260430T070000@BERGISCHE VHS
SUMMARY:ONLINE: Mindful Morning – Mit Klarheit in den Tag (261S145025) 
LOCATION:VHS Online; Gesundheit, , 
END:VEVENT
BEGIN:VEVENT
DTSTAMP:20260422T120614
DTSTART;TZID=Europe/Berlin:20260504T070000
DTEND;TZID=Europe/Berlin:20260504T074500
UID:261S145025-20260504T070000@BERGISCHE VHS
SUMMARY:ONLINE: Mindful Morning – Mit Klarheit in den Tag (261S145025) 
LOCATION:VHS Online; Gesundheit, , 
END:VEVENT
BEGIN:VEVENT
DTSTAMP:20260422T120614
DTSTART;TZID=Europe/Berlin:20260505T070000
DTEND;TZID=Europe/Berlin:20260505T074500
UID:261S145025-20260505T070000@BERGISCHE VHS
SUMMARY:ONLINE: Mindful Morning – Mit Klarheit in den Tag (261S145025) 
LOCATION:VHS Online; Gesundheit, , 
END:VEVENT
BEGIN:VEVENT
DTSTAMP:20260422T120614
DTSTART;TZID=Europe/Berlin:20260506T070000
DTEND;TZID=Europe/Berlin:20260506T074500
UID:261S145025-20260506T070000@BERGISCHE VHS
SUMMARY:ONLINE: Mindful Morning – Mit Klarheit in den Tag (261S145025) 
LOCATION:VHS Online; Gesundheit, , 
END:VEVENT
BEGIN:VEVENT
DTSTAMP:20260422T120614
DTSTART;TZID=Europe/Berlin:20260507T070000
DTEND;TZID=Europe/Berlin:20260507T074500
UID:261S145025-20260507T070000@BERGISCHE VHS
SUMMARY:ONLINE: Mindful Morning – Mit Klarheit in den Tag (261S145025) 
LOCATION:VHS Online; Gesundheit, , 
END:VEVENT
BEGIN:VEVENT
DTSTAMP:20260422T120614
DTSTART;TZID=Europe/Berlin:20260508T070000
DTEND;TZID=Europe/Berlin:20260508T074500
UID:261S145025-20260508T070000@BERGISCHE VHS
SUMMARY:ONLINE: Mindful Morning – Mit Klarheit in den Tag (261S145025) 
LOCATION:VHS Online; Gesundheit, , 
END:VEVENT
END:VCALENDAR