BEGIN:VCALENDAR
VERSION:2.0
PRODID:https://www.kufer.de/kuferweb / DE
METHOD:PUBLISH
CALSCALE:GREGORIAN
X-WR-TIMEZONE:Europe/Berlin
BEGIN:VTIMEZONE
TZID:Europe/Berlin
X-LIC-LOCATION:Europe/Berlin
BEGIN:DAYLIGHT
TZOFFSETFROM:+0100
TZOFFSETTO:+0200
TZNAME:CEST
DTSTART:19700329T020000
RRULE:FREQ=YEARLY;INTERVAL=1;BYDAY=-1SU;BYMONTH=3
END:DAYLIGHT
BEGIN:STANDARD
TZOFFSETFROM:+0200
TZOFFSETTO:+0100
TZNAME:CET
DTSTART:19701025T030000
RRULE:FREQ=YEARLY;INTERVAL=1;BYDAY=-1SU;BYMONTH=10
END:STANDARD
END:VTIMEZONE
BEGIN:VEVENT
DTSTAMP:20260423T173707
DTSTART;TZID=Europe/Berlin:20260316T193000
DTEND;TZID=Europe/Berlin:20260316T210000
UID:261S105010-20260316T193000@BERGISCHE VHS
SUMMARY:vhs.wissen live: Jenseits der Banken und fern vom Staat. Über Geld und Freiheit im Zeitalter der Kryptowährungen (261S105010) 
LOCATION:VHS Online; Politik, , 
END:VEVENT
END:VCALENDAR