BEGIN:VCALENDAR
VERSION:2.0
PRODID:https://www.kufer.de/kuferweb / DE
METHOD:PUBLISH
CALSCALE:GREGORIAN
X-WR-TIMEZONE:Europe/Berlin
BEGIN:VTIMEZONE
TZID:Europe/Berlin
X-LIC-LOCATION:Europe/Berlin
BEGIN:DAYLIGHT
TZOFFSETFROM:+0100
TZOFFSETTO:+0200
TZNAME:CEST
DTSTART:19700329T020000
RRULE:FREQ=YEARLY;INTERVAL=1;BYDAY=-1SU;BYMONTH=3
END:DAYLIGHT
BEGIN:STANDARD
TZOFFSETFROM:+0200
TZOFFSETTO:+0100
TZNAME:CET
DTSTART:19701025T030000
RRULE:FREQ=YEARLY;INTERVAL=1;BYDAY=-1SU;BYMONTH=10
END:STANDARD
END:VTIMEZONE
BEGIN:VEVENT
DTSTAMP:20260421T221114
DTSTART;TZID=Europe/Berlin:20250908T180000
DTEND;TZID=Europe/Berlin:20250908T210000
UID:252W328202-20250908T180000@BERGISCHE VHS
SUMMARY:Nähen für Anfänger*innen mit und ohne Grundkenntnisse (252W328202) 
LOCATION:VHS Auer Schulstraße; Raum B124 Nähraum; W-Elberfeld, Auer Schulstr. 20, 42103 Wuppertal
END:VEVENT
BEGIN:VEVENT
DTSTAMP:20260421T221114
DTSTART;TZID=Europe/Berlin:20250915T180000
DTEND;TZID=Europe/Berlin:20250915T210000
UID:252W328202-20250915T180000@BERGISCHE VHS
SUMMARY:Nähen für Anfänger*innen mit und ohne Grundkenntnisse (252W328202) 
LOCATION:VHS Auer Schulstraße; Raum B124 Nähraum; W-Elberfeld, Auer Schulstr. 20, 42103 Wuppertal
END:VEVENT
BEGIN:VEVENT
DTSTAMP:20260421T221114
DTSTART;TZID=Europe/Berlin:20250922T180000
DTEND;TZID=Europe/Berlin:20250922T210000
UID:252W328202-20250922T180000@BERGISCHE VHS
SUMMARY:Nähen für Anfänger*innen mit und ohne Grundkenntnisse (252W328202) 
LOCATION:VHS Auer Schulstraße; Raum B124 Nähraum; W-Elberfeld, Auer Schulstr. 20, 42103 Wuppertal
END:VEVENT
BEGIN:VEVENT
DTSTAMP:20260421T221114
DTSTART;TZID=Europe/Berlin:20250929T180000
DTEND;TZID=Europe/Berlin:20250929T210000
UID:252W328202-20250929T180000@BERGISCHE VHS
SUMMARY:Nähen für Anfänger*innen mit und ohne Grundkenntnisse (252W328202) 
LOCATION:VHS Auer Schulstraße; Raum B124 Nähraum; W-Elberfeld, Auer Schulstr. 20, 42103 Wuppertal
END:VEVENT
BEGIN:VEVENT
DTSTAMP:20260421T221114
DTSTART;TZID=Europe/Berlin:20251006T180000
DTEND;TZID=Europe/Berlin:20251006T210000
UID:252W328202-20251006T180000@BERGISCHE VHS
SUMMARY:Nähen für Anfänger*innen mit und ohne Grundkenntnisse (252W328202) 
LOCATION:VHS Auer Schulstraße; Raum B124 Nähraum; W-Elberfeld, Auer Schulstr. 20, 42103 Wuppertal
END:VEVENT
END:VCALENDAR