BEGIN:VCALENDAR
VERSION:2.0
PRODID:https://www.kufer.de/kuferweb / DE
METHOD:PUBLISH
CALSCALE:GREGORIAN
X-WR-TIMEZONE:Europe/Berlin
BEGIN:VTIMEZONE
TZID:Europe/Berlin
X-LIC-LOCATION:Europe/Berlin
BEGIN:DAYLIGHT
TZOFFSETFROM:+0100
TZOFFSETTO:+0200
TZNAME:CEST
DTSTART:19700329T020000
RRULE:FREQ=YEARLY;INTERVAL=1;BYDAY=-1SU;BYMONTH=3
END:DAYLIGHT
BEGIN:STANDARD
TZOFFSETFROM:+0200
TZOFFSETTO:+0100
TZNAME:CET
DTSTART:19701025T030000
RRULE:FREQ=YEARLY;INTERVAL=1;BYDAY=-1SU;BYMONTH=10
END:STANDARD
END:VTIMEZONE
BEGIN:VEVENT
DTSTAMP:20260423T155631
DTSTART;TZID=Europe/Berlin:20250930T173000
DTEND;TZID=Europe/Berlin:20250930T194500
UID:252W152642-20250930T173000@BERGISCHE VHS
SUMMARY:Hybrid: Cambridge English: B2 First (NEU!) Vorbereitung auf die Prüfung im Juni 2026 (252W152642) 
LOCATION:VHS Auer Schulstraße; Raum A203; W-Elberfeld, Auer Schulstr. 20, 42103 Wuppertal
END:VEVENT
BEGIN:VEVENT
DTSTAMP:20260423T155631
DTSTART;TZID=Europe/Berlin:20251007T173000
DTEND;TZID=Europe/Berlin:20251007T194500
UID:252W152642-20251007T173000@BERGISCHE VHS
SUMMARY:Hybrid: Cambridge English: B2 First (NEU!) Vorbereitung auf die Prüfung im Juni 2026 (252W152642) 
LOCATION:VHS Auer Schulstraße; Raum A203; W-Elberfeld, Auer Schulstr. 20, 42103 Wuppertal
END:VEVENT
BEGIN:VEVENT
DTSTAMP:20260423T155631
DTSTART;TZID=Europe/Berlin:20251028T173000
DTEND;TZID=Europe/Berlin:20251028T194500
UID:252W152642-20251028T173000@BERGISCHE VHS
SUMMARY:Hybrid: Cambridge English: B2 First (NEU!) Vorbereitung auf die Prüfung im Juni 2026 (252W152642) 
LOCATION:VHS Auer Schulstraße; Raum A203; W-Elberfeld, Auer Schulstr. 20, 42103 Wuppertal
END:VEVENT
BEGIN:VEVENT
DTSTAMP:20260423T155631
DTSTART;TZID=Europe/Berlin:20251104T173000
DTEND;TZID=Europe/Berlin:20251104T194500
UID:252W152642-20251104T173000@BERGISCHE VHS
SUMMARY:Hybrid: Cambridge English: B2 First (NEU!) Vorbereitung auf die Prüfung im Juni 2026 (252W152642) 
LOCATION:VHS Auer Schulstraße; Raum A203; W-Elberfeld, Auer Schulstr. 20, 42103 Wuppertal
END:VEVENT
BEGIN:VEVENT
DTSTAMP:20260423T155631
DTSTART;TZID=Europe/Berlin:20251111T173000
DTEND;TZID=Europe/Berlin:20251111T194500
UID:252W152642-20251111T173000@BERGISCHE VHS
SUMMARY:Hybrid: Cambridge English: B2 First (NEU!) Vorbereitung auf die Prüfung im Juni 2026 (252W152642) 
LOCATION:VHS Auer Schulstraße; Raum A203; W-Elberfeld, Auer Schulstr. 20, 42103 Wuppertal
END:VEVENT
BEGIN:VEVENT
DTSTAMP:20260423T155631
DTSTART;TZID=Europe/Berlin:20251125T173000
DTEND;TZID=Europe/Berlin:20251125T194500
UID:252W152642-20251125T173000@BERGISCHE VHS
SUMMARY:Hybrid: Cambridge English: B2 First (NEU!) Vorbereitung auf die Prüfung im Juni 2026 (252W152642) 
LOCATION:VHS Auer Schulstraße; Raum A203; W-Elberfeld, Auer Schulstr. 20, 42103 Wuppertal
END:VEVENT
BEGIN:VEVENT
DTSTAMP:20260423T155631
DTSTART;TZID=Europe/Berlin:20251202T173000
DTEND;TZID=Europe/Berlin:20251202T194500
UID:252W152642-20251202T173000@BERGISCHE VHS
SUMMARY:Hybrid: Cambridge English: B2 First (NEU!) Vorbereitung auf die Prüfung im Juni 2026 (252W152642) 
LOCATION:VHS Auer Schulstraße; Raum A203; W-Elberfeld, Auer Schulstr. 20, 42103 Wuppertal
END:VEVENT
BEGIN:VEVENT
DTSTAMP:20260423T155631
DTSTART;TZID=Europe/Berlin:20251209T173000
DTEND;TZID=Europe/Berlin:20251209T194500
UID:252W152642-20251209T173000@BERGISCHE VHS
SUMMARY:Hybrid: Cambridge English: B2 First (NEU!) Vorbereitung auf die Prüfung im Juni 2026 (252W152642) 
LOCATION:VHS Auer Schulstraße; Raum A203; W-Elberfeld, Auer Schulstr. 20, 42103 Wuppertal
END:VEVENT
BEGIN:VEVENT
DTSTAMP:20260423T155631
DTSTART;TZID=Europe/Berlin:20251216T173000
DTEND;TZID=Europe/Berlin:20251216T194500
UID:252W152642-20251216T173000@BERGISCHE VHS
SUMMARY:Hybrid: Cambridge English: B2 First (NEU!) Vorbereitung auf die Prüfung im Juni 2026 (252W152642) 
LOCATION:VHS Auer Schulstraße; Raum A203; W-Elberfeld, Auer Schulstr. 20, 42103 Wuppertal
END:VEVENT
BEGIN:VEVENT
DTSTAMP:20260423T155631
DTSTART;TZID=Europe/Berlin:20260113T173000
DTEND;TZID=Europe/Berlin:20260113T194500
UID:252W152642-20260113T173000@BERGISCHE VHS
SUMMARY:Hybrid: Cambridge English: B2 First (NEU!) Vorbereitung auf die Prüfung im Juni 2026 (252W152642) 
LOCATION:VHS Auer Schulstraße; Raum A203; W-Elberfeld, Auer Schulstr. 20, 42103 Wuppertal
END:VEVENT
BEGIN:VEVENT
DTSTAMP:20260423T155631
DTSTART;TZID=Europe/Berlin:20260120T173000
DTEND;TZID=Europe/Berlin:20260120T194500
UID:252W152642-20260120T173000@BERGISCHE VHS
SUMMARY:Hybrid: Cambridge English: B2 First (NEU!) Vorbereitung auf die Prüfung im Juni 2026 (252W152642) 
LOCATION:VHS Auer Schulstraße; Raum A203; W-Elberfeld, Auer Schulstr. 20, 42103 Wuppertal
END:VEVENT
BEGIN:VEVENT
DTSTAMP:20260423T155631
DTSTART;TZID=Europe/Berlin:20260127T173000
DTEND;TZID=Europe/Berlin:20260127T194500
UID:252W152642-20260127T173000@BERGISCHE VHS
SUMMARY:Hybrid: Cambridge English: B2 First (NEU!) Vorbereitung auf die Prüfung im Juni 2026 (252W152642) 
LOCATION:VHS Auer Schulstraße; Raum A203; W-Elberfeld, Auer Schulstr. 20, 42103 Wuppertal
END:VEVENT
BEGIN:VEVENT
DTSTAMP:20260423T155631
DTSTART;TZID=Europe/Berlin:20260203T173000
DTEND;TZID=Europe/Berlin:20260203T194500
UID:252W152642-20260203T173000@BERGISCHE VHS
SUMMARY:Hybrid: Cambridge English: B2 First (NEU!) Vorbereitung auf die Prüfung im Juni 2026 (252W152642) 
LOCATION:VHS Auer Schulstraße; Raum A203; W-Elberfeld, Auer Schulstr. 20, 42103 Wuppertal
END:VEVENT
BEGIN:VEVENT
DTSTAMP:20260423T155631
DTSTART;TZID=Europe/Berlin:20260210T173000
DTEND;TZID=Europe/Berlin:20260210T194500
UID:252W152642-20260210T173000@BERGISCHE VHS
SUMMARY:Hybrid: Cambridge English: B2 First (NEU!) Vorbereitung auf die Prüfung im Juni 2026 (252W152642) 
LOCATION:VHS Auer Schulstraße; Raum A203; W-Elberfeld, Auer Schulstr. 20, 42103 Wuppertal
END:VEVENT
BEGIN:VEVENT
DTSTAMP:20260423T155631
DTSTART;TZID=Europe/Berlin:20260217T173000
DTEND;TZID=Europe/Berlin:20260217T194500
UID:252W152642-20260217T173000@BERGISCHE VHS
SUMMARY:Hybrid: Cambridge English: B2 First (NEU!) Vorbereitung auf die Prüfung im Juni 2026 (252W152642) 
LOCATION:VHS Auer Schulstraße; Raum A203; W-Elberfeld, Auer Schulstr. 20, 42103 Wuppertal
END:VEVENT
BEGIN:VEVENT
DTSTAMP:20260423T155631
DTSTART;TZID=Europe/Berlin:20260303T173000
DTEND;TZID=Europe/Berlin:20260303T194500
UID:252W152642-20260303T173000@BERGISCHE VHS
SUMMARY:Hybrid: Cambridge English: B2 First (NEU!) Vorbereitung auf die Prüfung im Juni 2026 (252W152642) 
LOCATION:VHS Auer Schulstraße; Raum A203; W-Elberfeld, Auer Schulstr. 20, 42103 Wuppertal
END:VEVENT
BEGIN:VEVENT
DTSTAMP:20260423T155631
DTSTART;TZID=Europe/Berlin:20260310T173000
DTEND;TZID=Europe/Berlin:20260310T194500
UID:252W152642-20260310T173000@BERGISCHE VHS
SUMMARY:Hybrid: Cambridge English: B2 First (NEU!) Vorbereitung auf die Prüfung im Juni 2026 (252W152642) 
LOCATION:VHS Auer Schulstraße; Raum A203; W-Elberfeld, Auer Schulstr. 20, 42103 Wuppertal
END:VEVENT
BEGIN:VEVENT
DTSTAMP:20260423T155631
DTSTART;TZID=Europe/Berlin:20260317T173000
DTEND;TZID=Europe/Berlin:20260317T194500
UID:252W152642-20260317T173000@BERGISCHE VHS
SUMMARY:Hybrid: Cambridge English: B2 First (NEU!) Vorbereitung auf die Prüfung im Juni 2026 (252W152642) 
LOCATION:VHS Auer Schulstraße; Raum A203; W-Elberfeld, Auer Schulstr. 20, 42103 Wuppertal
END:VEVENT
BEGIN:VEVENT
DTSTAMP:20260423T155631
DTSTART;TZID=Europe/Berlin:20260324T173000
DTEND;TZID=Europe/Berlin:20260324T194500
UID:252W152642-20260324T173000@BERGISCHE VHS
SUMMARY:Hybrid: Cambridge English: B2 First (NEU!) Vorbereitung auf die Prüfung im Juni 2026 (252W152642) 
LOCATION:VHS Auer Schulstraße; Raum A203; W-Elberfeld, Auer Schulstr. 20, 42103 Wuppertal
END:VEVENT
BEGIN:VEVENT
DTSTAMP:20260423T155631
DTSTART;TZID=Europe/Berlin:20260414T173000
DTEND;TZID=Europe/Berlin:20260414T194500
UID:252W152642-20260414T173000@BERGISCHE VHS
SUMMARY:Hybrid: Cambridge English: B2 First (NEU!) Vorbereitung auf die Prüfung im Juni 2026 (252W152642) 
LOCATION:VHS Auer Schulstraße; Raum A203; W-Elberfeld, Auer Schulstr. 20, 42103 Wuppertal
END:VEVENT
BEGIN:VEVENT
DTSTAMP:20260423T155631
DTSTART;TZID=Europe/Berlin:20260421T173000
DTEND;TZID=Europe/Berlin:20260421T194500
UID:252W152642-20260421T173000@BERGISCHE VHS
SUMMARY:Hybrid: Cambridge English: B2 First (NEU!) Vorbereitung auf die Prüfung im Juni 2026 (252W152642) 
LOCATION:VHS Auer Schulstraße; Raum A203; W-Elberfeld, Auer Schulstr. 20, 42103 Wuppertal
END:VEVENT
BEGIN:VEVENT
DTSTAMP:20260423T155631
DTSTART;TZID=Europe/Berlin:20260428T173000
DTEND;TZID=Europe/Berlin:20260428T194500
UID:252W152642-20260428T173000@BERGISCHE VHS
SUMMARY:Hybrid: Cambridge English: B2 First (NEU!) Vorbereitung auf die Prüfung im Juni 2026 (252W152642) 
LOCATION:VHS Auer Schulstraße; Raum A203; W-Elberfeld, Auer Schulstr. 20, 42103 Wuppertal
END:VEVENT
BEGIN:VEVENT
DTSTAMP:20260423T155631
DTSTART;TZID=Europe/Berlin:20260505T173000
DTEND;TZID=Europe/Berlin:20260505T194500
UID:252W152642-20260505T173000@BERGISCHE VHS
SUMMARY:Hybrid: Cambridge English: B2 First (NEU!) Vorbereitung auf die Prüfung im Juni 2026 (252W152642) 
LOCATION:VHS Auer Schulstraße; Raum A203; W-Elberfeld, Auer Schulstr. 20, 42103 Wuppertal
END:VEVENT
BEGIN:VEVENT
DTSTAMP:20260423T155631
DTSTART;TZID=Europe/Berlin:20260512T173000
DTEND;TZID=Europe/Berlin:20260512T194500
UID:252W152642-20260512T173000@BERGISCHE VHS
SUMMARY:Hybrid: Cambridge English: B2 First (NEU!) Vorbereitung auf die Prüfung im Juni 2026 (252W152642) 
LOCATION:VHS Auer Schulstraße; Raum A203; W-Elberfeld, Auer Schulstr. 20, 42103 Wuppertal
END:VEVENT
BEGIN:VEVENT
DTSTAMP:20260423T155631
DTSTART;TZID=Europe/Berlin:20260519T173000
DTEND;TZID=Europe/Berlin:20260519T194500
UID:252W152642-20260519T173000@BERGISCHE VHS
SUMMARY:Hybrid: Cambridge English: B2 First (NEU!) Vorbereitung auf die Prüfung im Juni 2026 (252W152642) 
LOCATION:VHS Auer Schulstraße; Raum A203; W-Elberfeld, Auer Schulstr. 20, 42103 Wuppertal
END:VEVENT
BEGIN:VEVENT
DTSTAMP:20260423T155631
DTSTART;TZID=Europe/Berlin:20260602T173000
DTEND;TZID=Europe/Berlin:20260602T194500
UID:252W152642-20260602T173000@BERGISCHE VHS
SUMMARY:Hybrid: Cambridge English: B2 First (NEU!) Vorbereitung auf die Prüfung im Juni 2026 (252W152642) 
LOCATION:VHS Auer Schulstraße; Raum A203; W-Elberfeld, Auer Schulstr. 20, 42103 Wuppertal
END:VEVENT
BEGIN:VEVENT
DTSTAMP:20260423T155631
DTSTART;TZID=Europe/Berlin:20260609T173000
DTEND;TZID=Europe/Berlin:20260609T194500
UID:252W152642-20260609T173000@BERGISCHE VHS
SUMMARY:Hybrid: Cambridge English: B2 First (NEU!) Vorbereitung auf die Prüfung im Juni 2026 (252W152642) 
LOCATION:VHS Auer Schulstraße; Raum A203; W-Elberfeld, Auer Schulstr. 20, 42103 Wuppertal
END:VEVENT
BEGIN:VEVENT
DTSTAMP:20260423T155631
DTSTART;TZID=Europe/Berlin:20260616T173000
DTEND;TZID=Europe/Berlin:20260616T194500
UID:252W152642-20260616T173000@BERGISCHE VHS
SUMMARY:Hybrid: Cambridge English: B2 First (NEU!) Vorbereitung auf die Prüfung im Juni 2026 (252W152642) 
LOCATION:VHS Auer Schulstraße; Raum A203; W-Elberfeld, Auer Schulstr. 20, 42103 Wuppertal
END:VEVENT
END:VCALENDAR