BEGIN:VCALENDAR
VERSION:2.0
PRODID:https://www.kufer.de/kuferweb / DE
METHOD:PUBLISH
CALSCALE:GREGORIAN
X-WR-TIMEZONE:Europe/Berlin
BEGIN:VTIMEZONE
TZID:Europe/Berlin
X-LIC-LOCATION:Europe/Berlin
BEGIN:DAYLIGHT
TZOFFSETFROM:+0100
TZOFFSETTO:+0200
TZNAME:CEST
DTSTART:19700329T020000
RRULE:FREQ=YEARLY;INTERVAL=1;BYDAY=-1SU;BYMONTH=3
END:DAYLIGHT
BEGIN:STANDARD
TZOFFSETFROM:+0200
TZOFFSETTO:+0100
TZNAME:CET
DTSTART:19701025T030000
RRULE:FREQ=YEARLY;INTERVAL=1;BYDAY=-1SU;BYMONTH=10
END:STANDARD
END:VTIMEZONE
BEGIN:VEVENT
DTSTAMP:20260423T174247
DTSTART;TZID=Europe/Berlin:20250115T091500
DTEND;TZID=Europe/Berlin:20250115T121500
UID:251W328303-20250115T091500@BERGISCHE VHS
SUMMARY:Selbst geschneidert - modisch gekleidet Nähen für Anfänger*innen mit Grundkenntnissen und Fortgeschrittene (251W328303) 
LOCATION:Familienbildung in Vohwinkel; Nähraum; W-Vohwinkel, Gräfrather Str. 9 B, 42329 Wuppertal
END:VEVENT
BEGIN:VEVENT
DTSTAMP:20260423T174247
DTSTART;TZID=Europe/Berlin:20250122T091500
DTEND;TZID=Europe/Berlin:20250122T121500
UID:251W328303-20250122T091500@BERGISCHE VHS
SUMMARY:Selbst geschneidert - modisch gekleidet Nähen für Anfänger*innen mit Grundkenntnissen und Fortgeschrittene (251W328303) 
LOCATION:Familienbildung in Vohwinkel; Nähraum; W-Vohwinkel, Gräfrather Str. 9 B, 42329 Wuppertal
END:VEVENT
BEGIN:VEVENT
DTSTAMP:20260423T174247
DTSTART;TZID=Europe/Berlin:20250205T091500
DTEND;TZID=Europe/Berlin:20250205T121500
UID:251W328303-20250205T091500@BERGISCHE VHS
SUMMARY:Selbst geschneidert - modisch gekleidet Nähen für Anfänger*innen mit Grundkenntnissen und Fortgeschrittene (251W328303) 
LOCATION:Familienbildung in Vohwinkel; Nähraum; W-Vohwinkel, Gräfrather Str. 9 B, 42329 Wuppertal
END:VEVENT
BEGIN:VEVENT
DTSTAMP:20260423T174247
DTSTART;TZID=Europe/Berlin:20250212T091500
DTEND;TZID=Europe/Berlin:20250212T121500
UID:251W328303-20250212T091500@BERGISCHE VHS
SUMMARY:Selbst geschneidert - modisch gekleidet Nähen für Anfänger*innen mit Grundkenntnissen und Fortgeschrittene (251W328303) 
LOCATION:Familienbildung in Vohwinkel; Nähraum; W-Vohwinkel, Gräfrather Str. 9 B, 42329 Wuppertal
END:VEVENT
BEGIN:VEVENT
DTSTAMP:20260423T174247
DTSTART;TZID=Europe/Berlin:20250219T091500
DTEND;TZID=Europe/Berlin:20250219T121500
UID:251W328303-20250219T091500@BERGISCHE VHS
SUMMARY:Selbst geschneidert - modisch gekleidet Nähen für Anfänger*innen mit Grundkenntnissen und Fortgeschrittene (251W328303) 
LOCATION:Familienbildung in Vohwinkel; Nähraum; W-Vohwinkel, Gräfrather Str. 9 B, 42329 Wuppertal
END:VEVENT
BEGIN:VEVENT
DTSTAMP:20260423T174247
DTSTART;TZID=Europe/Berlin:20250226T091500
DTEND;TZID=Europe/Berlin:20250226T121500
UID:251W328303-20250226T091500@BERGISCHE VHS
SUMMARY:Selbst geschneidert - modisch gekleidet Nähen für Anfänger*innen mit Grundkenntnissen und Fortgeschrittene (251W328303) 
LOCATION:Familienbildung in Vohwinkel; Nähraum; W-Vohwinkel, Gräfrather Str. 9 B, 42329 Wuppertal
END:VEVENT
BEGIN:VEVENT
DTSTAMP:20260423T174247
DTSTART;TZID=Europe/Berlin:20250305T091500
DTEND;TZID=Europe/Berlin:20250305T121500
UID:251W328303-20250305T091500@BERGISCHE VHS
SUMMARY:Selbst geschneidert - modisch gekleidet Nähen für Anfänger*innen mit Grundkenntnissen und Fortgeschrittene (251W328303) 
LOCATION:Familienbildung in Vohwinkel; Nähraum; W-Vohwinkel, Gräfrather Str. 9 B, 42329 Wuppertal
END:VEVENT
BEGIN:VEVENT
DTSTAMP:20260423T174247
DTSTART;TZID=Europe/Berlin:20250312T091500
DTEND;TZID=Europe/Berlin:20250312T121500
UID:251W328303-20250312T091500@BERGISCHE VHS
SUMMARY:Selbst geschneidert - modisch gekleidet Nähen für Anfänger*innen mit Grundkenntnissen und Fortgeschrittene (251W328303) 
LOCATION:Familienbildung in Vohwinkel; Nähraum; W-Vohwinkel, Gräfrather Str. 9 B, 42329 Wuppertal
END:VEVENT
BEGIN:VEVENT
DTSTAMP:20260423T174247
DTSTART;TZID=Europe/Berlin:20250319T091500
DTEND;TZID=Europe/Berlin:20250319T121500
UID:251W328303-20250319T091500@BERGISCHE VHS
SUMMARY:Selbst geschneidert - modisch gekleidet Nähen für Anfänger*innen mit Grundkenntnissen und Fortgeschrittene (251W328303) 
LOCATION:Familienbildung in Vohwinkel; Nähraum; W-Vohwinkel, Gräfrather Str. 9 B, 42329 Wuppertal
END:VEVENT
BEGIN:VEVENT
DTSTAMP:20260423T174247
DTSTART;TZID=Europe/Berlin:20250326T091500
DTEND;TZID=Europe/Berlin:20250326T121500
UID:251W328303-20250326T091500@BERGISCHE VHS
SUMMARY:Selbst geschneidert - modisch gekleidet Nähen für Anfänger*innen mit Grundkenntnissen und Fortgeschrittene (251W328303) 
LOCATION:Familienbildung in Vohwinkel; Nähraum; W-Vohwinkel, Gräfrather Str. 9 B, 42329 Wuppertal
END:VEVENT
BEGIN:VEVENT
DTSTAMP:20260423T174247
DTSTART;TZID=Europe/Berlin:20250402T091500
DTEND;TZID=Europe/Berlin:20250402T121500
UID:251W328303-20250402T091500@BERGISCHE VHS
SUMMARY:Selbst geschneidert - modisch gekleidet Nähen für Anfänger*innen mit Grundkenntnissen und Fortgeschrittene (251W328303) 
LOCATION:Familienbildung in Vohwinkel; Nähraum; W-Vohwinkel, Gräfrather Str. 9 B, 42329 Wuppertal
END:VEVENT
BEGIN:VEVENT
DTSTAMP:20260423T174247
DTSTART;TZID=Europe/Berlin:20250409T091500
DTEND;TZID=Europe/Berlin:20250409T121500
UID:251W328303-20250409T091500@BERGISCHE VHS
SUMMARY:Selbst geschneidert - modisch gekleidet Nähen für Anfänger*innen mit Grundkenntnissen und Fortgeschrittene (251W328303) 
LOCATION:Familienbildung in Vohwinkel; Nähraum; W-Vohwinkel, Gräfrather Str. 9 B, 42329 Wuppertal
END:VEVENT
END:VCALENDAR