BEGIN:VCALENDAR
VERSION:2.0
PRODID:https://www.kufer.de/kuferweb / DE
METHOD:PUBLISH
CALSCALE:GREGORIAN
X-WR-TIMEZONE:Europe/Berlin
BEGIN:VTIMEZONE
TZID:Europe/Berlin
X-LIC-LOCATION:Europe/Berlin
BEGIN:DAYLIGHT
TZOFFSETFROM:+0100
TZOFFSETTO:+0200
TZNAME:CEST
DTSTART:19700329T020000
RRULE:FREQ=YEARLY;INTERVAL=1;BYDAY=-1SU;BYMONTH=3
END:DAYLIGHT
BEGIN:STANDARD
TZOFFSETFROM:+0200
TZOFFSETTO:+0100
TZNAME:CET
DTSTART:19701025T030000
RRULE:FREQ=YEARLY;INTERVAL=1;BYDAY=-1SU;BYMONTH=10
END:STANDARD
END:VTIMEZONE
BEGIN:VEVENT
DTSTAMP:20260423T204313
DTSTART;TZID=Europe/Berlin:20250327T194500
DTEND;TZID=Europe/Berlin:20250327T211500
UID:251W150409-20250327T194500@BERGISCHE VHS
DESCRIPTION:Yemek kültürü konusu ile ilgili okunan metin üzerinden Alman ve Türk yemek kültürünün karşılaştırılması yapıldı, Katılımcılar konuyla ilgili düşünce ve tecrübelerini paylaştılar.
SUMMARY:ONLINE: Türkisch Grundstufe - A2/B1 Minigruppe mit Kolay gelsin! Neu B1 (Klett) (251W150409) 
LOCATION:VHS Online; Zoom, , 
END:VEVENT
BEGIN:VEVENT
DTSTAMP:20260423T204313
DTSTART;TZID=Europe/Berlin:20250403T194500
DTEND;TZID=Europe/Berlin:20250403T211500
UID:251W150409-20250403T194500@BERGISCHE VHS
DESCRIPTION:Dilbilgisi konularından -dik ve -ecek eklerinin görev ve kullanımları tekrar edildi.Yemek konusunda Türkiyede kullanılan deyimler, ev sahibi ve konukların ifade edebilecekleri cümleler aktarıldı ve Almancadaki benzerleri ile karşılaştırıldı.
SUMMARY:ONLINE: Türkisch Grundstufe - A2/B1 Minigruppe mit Kolay gelsin! Neu B1 (Klett) (251W150409) 
LOCATION:VHS Online; Zoom, , 
END:VEVENT
BEGIN:VEVENT
DTSTAMP:20260423T204313
DTSTART;TZID=Europe/Berlin:20250508T194500
DTEND;TZID=Europe/Berlin:20250508T211500
UID:251W150409-20250508T194500@BERGISCHE VHS
DESCRIPTION:Kitabın 8. ünitesinden sonra genel tekrar mahiyetindeki alıştırmalar yapıldı ve cevaplar kontrol edildi.
SUMMARY:ONLINE: Türkisch Grundstufe - A2/B1 Minigruppe mit Kolay gelsin! Neu B1 (Klett) (251W150409) 
LOCATION:VHS Online; Zoom, , 
END:VEVENT
BEGIN:VEVENT
DTSTAMP:20260423T204313
DTSTART;TZID=Europe/Berlin:20250515T194500
DTEND;TZID=Europe/Berlin:20250515T211500
UID:251W150409-20250515T194500@BERGISCHE VHS
DESCRIPTION:Fiiller konulu cümle kurma çalışması yapıldı. Hazırladığım B1 seviyesindeki kelime listesindeki sözcüklerle katılımcılar olumlu- olumsuz cümleler ve soru cümleleri kurdular. Sonra bu soruları cevaplandırdılar. Böylelikle kelimelerin akılda daha uzun süre kalabilmesi mümkün olacaktır.
SUMMARY:ONLINE: Türkisch Grundstufe - A2/B1 Minigruppe mit Kolay gelsin! Neu B1 (Klett) (251W150409) 
LOCATION:VHS Online; Zoom, , 
END:VEVENT
BEGIN:VEVENT
DTSTAMP:20260423T204313
DTSTART;TZID=Europe/Berlin:20250522T194500
DTEND;TZID=Europe/Berlin:20250522T211500
UID:251W150409-20250522T194500@BERGISCHE VHS
DESCRIPTION:Fiiller -2 dosyası ile cümle kurma ve sorulara cevap verme çalışmalarına devam edildi. B1 düzeyi kelimeler ve bunların cümlelerde-deyimlerde nasıl kullanıldığı çok sayıda örnek ile gösterilmiş oldu.
SUMMARY:ONLINE: Türkisch Grundstufe - A2/B1 Minigruppe mit Kolay gelsin! Neu B1 (Klett) (251W150409) 
LOCATION:VHS Online; Zoom, , 
END:VEVENT
BEGIN:VEVENT
DTSTAMP:20260423T204313
DTSTART;TZID=Europe/Berlin:20250605T194500
DTEND;TZID=Europe/Berlin:20250605T211500
UID:251W150409-20250605T194500@BERGISCHE VHS
DESCRIPTION:Fiiller konulu kelime hazinesi çalışmasına son bölümü ile devam edildi. Öğrenilen fiiller ve cümlede kullanım şekilleri kısaca tekrar edildi.
SUMMARY:ONLINE: Türkisch Grundstufe - A2/B1 Minigruppe mit Kolay gelsin! Neu B1 (Klett) (251W150409) 
LOCATION:VHS Online; Zoom, , 
END:VEVENT
BEGIN:VEVENT
DTSTAMP:20260423T204313
DTSTART;TZID=Europe/Berlin:20250626T194500
DTEND;TZID=Europe/Berlin:20250626T211500
UID:251W150409-20250626T194500@BERGISCHE VHS
DESCRIPTION:Kitaptaki metinler üzerinde verilen alternatif fiillerden hangisinin cümleye uygun olduğunu bulmaya yönelik dilbilgisi çalışması yapıldı. Aynı zamanda sesli okuma etkinliği ile telaffuz hataları düzeltilmiş oldu.
SUMMARY:ONLINE: Türkisch Grundstufe - A2/B1 Minigruppe mit Kolay gelsin! Neu B1 (Klett) (251W150409) 
LOCATION:VHS Online; Zoom, , 
END:VEVENT
BEGIN:VEVENT
DTSTAMP:20260423T204313
DTSTART;TZID=Europe/Berlin:20250703T194500
DTEND;TZID=Europe/Berlin:20250703T211500
UID:251W150409-20250703T194500@BERGISCHE VHS
DESCRIPTION:Başlıklar ile verilen metinlerin eşleştirilmesi çalışması yapıldı. Sesli olarak katılımcılar tarafından metinler okundu ve başlıklar ile eşleme yapıldı. Özet çıkarma konusunda gerekli bilgiler paylaşıldı ve verilen metinlerin özetleri çıkarıldı.
SUMMARY:ONLINE: Türkisch Grundstufe - A2/B1 Minigruppe mit Kolay gelsin! Neu B1 (Klett) (251W150409) 
LOCATION:VHS Online; Zoom, , 
END:VEVENT
BEGIN:VEVENT
DTSTAMP:20260423T204313
DTSTART;TZID=Europe/Berlin:20250710T194500
DTEND;TZID=Europe/Berlin:20250710T211500
UID:251W150409-20250710T194500@BERGISCHE VHS
DESCRIPTION:Email yazma çalışması yapıldı. Türkiyeden gelen bir arkadaşımıza ailemizi detaylı bir şekilde tanıtacağımız bir Email yazma konusunda gerekli bilgiler paylaşıldı ve yazılan örnekler üzerinde gerekli düzeltmeler yapıldı.
SUMMARY:ONLINE: Türkisch Grundstufe - A2/B1 Minigruppe mit Kolay gelsin! Neu B1 (Klett) (251W150409) 
LOCATION:VHS Online; Zoom, , 
END:VEVENT
BEGIN:VEVENT
DTSTAMP:20260423T204313
DTSTART;TZID=Europe/Berlin:20250717T194500
DTEND;TZID=Europe/Berlin:20250717T211500
UID:251W150409-20250717T194500@BERGISCHE VHS
DESCRIPTION:Akıllı telefonlarla neler yapabileceğimiz ve televizyonda ne tür programlar izleyebileceğimiz konusunda hazırlıksız konuşma çalışası yapıldı.Katılımcılara ihtiyaç duydukları durumlarda destek olundu.Somut örnekler üzerinden Türkiyedeki televizyon programları ve diziler konusunda bilgiler karşılıklı olarak paylaşıldı.
SUMMARY:ONLINE: Türkisch Grundstufe - A2/B1 Minigruppe mit Kolay gelsin! Neu B1 (Klett) (251W150409) 
LOCATION:VHS Online; Zoom, , 
END:VEVENT
BEGIN:VEVENT
DTSTAMP:20260423T204313
DTSTART;TZID=Europe/Berlin:20250724T194500
DTEND;TZID=Europe/Berlin:20250724T211500
UID:251W150409-20250724T194500@BERGISCHE VHS
DESCRIPTION:Yapılan bir araştırmanın sonuçları yüzdelik dilimler halinde paylaşıldı ve katılımcıların belli bazı fiillerle bu istatistiklerin sonuçlarını ifade edecek doğru cümleler kurmaları istendi. Hatalar düzeltildi. Başka hangi kelimelerle bu sonuçların ifade edilebileceğine dair örnekler paylaşıldı.
SUMMARY:ONLINE: Türkisch Grundstufe - A2/B1 Minigruppe mit Kolay gelsin! Neu B1 (Klett) (251W150409) 
LOCATION:VHS Online; Zoom, , 
END:VEVENT
BEGIN:VEVENT
DTSTAMP:20260423T204313
DTSTART;TZID=Europe/Berlin:20250731T194500
DTEND;TZID=Europe/Berlin:20250731T211500
UID:251W150409-20250731T194500@BERGISCHE VHS
DESCRIPTION:Dönemin son dersi olması nedeniyle beklentiler, ulaşılan hedefler ve yeni döneme ilişkin planlar ile ilgili katılımcılarla konuşuldu.Geçen dönemin genel bir değerlendirilmesi yapıldı. Ayrıca katılımcılar ders gününde sabah uyandıktan ders saatine kadar neler yaptıklarını anlattılar ve tatil yaşantılarını anlattılar. Yeni dönemde tekrar görüşmek üzere vedalaşıldı.
SUMMARY:ONLINE: Türkisch Grundstufe - A2/B1 Minigruppe mit Kolay gelsin! Neu B1 (Klett) (251W150409) 
LOCATION:VHS Online; Zoom, , 
END:VEVENT
END:VCALENDAR