BEGIN:VCALENDAR
VERSION:2.0
PRODID:https://www.kufer.de/kuferweb / DE
METHOD:PUBLISH
CALSCALE:GREGORIAN
X-WR-TIMEZONE:Europe/Berlin
BEGIN:VTIMEZONE
TZID:Europe/Berlin
X-LIC-LOCATION:Europe/Berlin
BEGIN:DAYLIGHT
TZOFFSETFROM:+0100
TZOFFSETTO:+0200
TZNAME:CEST
DTSTART:19700329T020000
RRULE:FREQ=YEARLY;INTERVAL=1;BYDAY=-1SU;BYMONTH=3
END:DAYLIGHT
BEGIN:STANDARD
TZOFFSETFROM:+0200
TZOFFSETTO:+0100
TZNAME:CET
DTSTART:19701025T030000
RRULE:FREQ=YEARLY;INTERVAL=1;BYDAY=-1SU;BYMONTH=10
END:STANDARD
END:VTIMEZONE
BEGIN:VEVENT
DTSTAMP:20260422T125516
DTSTART;TZID=Europe/Berlin:20250613T153000
DTEND;TZID=Europe/Berlin:20250613T183000
UID:251S344907-20250613T153000@BERGISCHE VHS
SUMMARY:Comics und Mangas für Kinder und Jugendliche zwischen 8 und 14 Jahren (251S344907) 
LOCATION:VHS Birkenweiher; Raum 108; SG-Mitte, Birkenweiher 66, 42651 Solingen
END:VEVENT
BEGIN:VEVENT
DTSTAMP:20260422T125516
DTSTART;TZID=Europe/Berlin:20250614T110000
DTEND;TZID=Europe/Berlin:20250614T140000
UID:251S344907-20250614T110000@BERGISCHE VHS
SUMMARY:Comics und Mangas für Kinder und Jugendliche zwischen 8 und 14 Jahren (251S344907) 
LOCATION:VHS Birkenweiher; Raum 108; SG-Mitte, Birkenweiher 66, 42651 Solingen
END:VEVENT
END:VCALENDAR